BEGIN:VCALENDAR
VERSION:2.0
PRODID:-//Common Street Spiritual Center - ECPv6.15.20//NONSGML v1.0//EN
CALSCALE:GREGORIAN
METHOD:PUBLISH
X-ORIGINAL-URL:https://commonstreet.org
X-WR-CALDESC:Events for Common Street Spiritual Center
REFRESH-INTERVAL;VALUE=DURATION:PT1H
X-Robots-Tag:noindex
X-PUBLISHED-TTL:PT1H
BEGIN:VTIMEZONE
TZID:America/New_York
BEGIN:DAYLIGHT
TZOFFSETFROM:-0500
TZOFFSETTO:-0400
TZNAME:EDT
DTSTART:20240310T070000
END:DAYLIGHT
BEGIN:STANDARD
TZOFFSETFROM:-0400
TZOFFSETTO:-0500
TZNAME:EST
DTSTART:20241103T060000
END:STANDARD
BEGIN:DAYLIGHT
TZOFFSETFROM:-0500
TZOFFSETTO:-0400
TZNAME:EDT
DTSTART:20250309T070000
END:DAYLIGHT
BEGIN:STANDARD
TZOFFSETFROM:-0400
TZOFFSETTO:-0500
TZNAME:EST
DTSTART:20251102T060000
END:STANDARD
BEGIN:DAYLIGHT
TZOFFSETFROM:-0500
TZOFFSETTO:-0400
TZNAME:EDT
DTSTART:20260308T070000
END:DAYLIGHT
BEGIN:STANDARD
TZOFFSETFROM:-0400
TZOFFSETTO:-0500
TZNAME:EST
DTSTART:20261101T060000
END:STANDARD
END:VTIMEZONE
BEGIN:VEVENT
DTSTART;TZID=America/New_York:20250224T190000
DTEND;TZID=America/New_York:20250224T200000
DTSTAMP:20260422T042803
CREATED:20241211T184426Z
LAST-MODIFIED:20241211T184505Z
UID:10017675-1740423600-1740427200@commonstreet.org
SUMMARY:Yoga in the Sanctuary
DESCRIPTION:Yoga is a practice that brings together the mind and body.  In fact\, yoga means “to yoke” or unite.   It is an ancient healing practice that is both physical and spiritual\, incorporating postures\, breath\, and meditation.  Yoga heals!   Yoga provides relief from numerous forms of trauma\, anxiety\, and physical stiffness.  It also builds a strong physical and spiritual core.\n\n\nJoin us every Monday from 7-8 pm for a vinyasa flow that will strengthen and energize as well as promote flexibility and balance.  We will also experience inner peace by the closing meditation called Shivasana.  Please bring a mat and water bottle\, and the class meets in the beautiful sanctuary.  There is no registration required\, and the cost per class is $10 or a food pantry donation (the pantry is located outside the center).  Class will not meet on federal holidays.  Venmo: Jennifer-Kurz-2. Please follow us on instagram: @yogadoc_
URL:https://commonstreet.org/event/yoga-in-the-sanctuary-4-2-2/2025-02-24/
LOCATION:Sanctuary at Common Street Spiritual Center\, 13 Common Street\, Natick\, MA\, 01760\, United States
CATEGORIES:Children and Family,Community,Healing,Yoga
ATTACH;FMTTYPE=image/png:https://commonstreet.org/wp-content/uploads/2024/09/Dr.-Kurz-CSSC-Winter-Flyer-I.png
END:VEVENT
BEGIN:VEVENT
DTSTART;TZID=America/New_York:20250226T090000
DTEND;TZID=America/New_York:20250226T100000
DTSTAMP:20260422T042803
CREATED:20250207T155424Z
LAST-MODIFIED:20250604T151237Z
UID:10019938-1740560400-1740564000@commonstreet.org
SUMMARY:Sacred Stillness - A Midweek Mindfulness Meditation
DESCRIPTION:Join Pooja for a 60-minute guided meditation. In this sacred space\, you’ll be guided to pause\, reconnect\, and center yourself amidst the busy rhythms of life. \nWhether you’re feeling the weight of a hectic schedule\, seeking a moment of grounding\, or simply in need of a peaceful reset\, this session will help you realign and nourish your soul. With gentle guidance\, you’ll release stress\, calm racing thoughts\, and anchor yourself in the present moment—creating a foundation of peace that supports you throughout the week. \nThis offering is by donation\, allowing you to contribute what feels most aligned for you. Your donation helps maintain the accessibility of this space\, but please know that it is not required. We warmly invite everyone to join us—this sacred space is for everyone. \nDonations can be made via Venmo (@Pmahtani) or PayPal (https://tinyurl.com/donate-Pooja). Thank you for your support! \nhttps://calendly.com/akashacodes/sacred-stillness\nOnce registered\, you’ll receive a confirmation email with Zoom details for each session. ?\nWe look forward to sharing this sacred time with you! ✨ \nWe look forward to sharing this sacred pause with you! ✨
URL:https://commonstreet.org/event/sacred-stillness-a-midweek-mindfulness-meditation/2025-02-26/
LOCATION:Online
CATEGORIES:Community,Healing,Meditation,Spiritual
ATTACH;FMTTYPE=image/jpeg:https://commonstreet.org/wp-content/uploads/2025/02/Sacred-Stillness.jpg
ORGANIZER;CN="Pooja Mahtani":MAILTO:info@akashacodes.com
END:VEVENT
BEGIN:VEVENT
DTSTART;TZID=America/New_York:20250227T190000
DTEND;TZID=America/New_York:20250227T201500
DTSTAMP:20260422T042803
CREATED:20230803T162536Z
LAST-MODIFIED:20230804T160005Z
UID:10008330-1740682800-1740687300@commonstreet.org
SUMMARY:Mohanji Meditations
DESCRIPTION:The Mohanji Meditation is a powerful heart-opening guided meditation that offers release from binding patterns through love and gratitude. \nAll are welcome. No prior experience necessary.
URL:https://commonstreet.org/event/mohanji-meditations/2025-02-27/
LOCATION:Choir Room @ Common Street Spiritual Center\, 13 Common Street\, Natick\, 01760\, United States
CATEGORIES:Class,Healing,Meditation,Spiritual
ORGANIZER;CN="Soumya Thelakkad":MAILTO:mohanjifamilyma@gmail.com
END:VEVENT
BEGIN:VEVENT
DTSTART;TZID=America/New_York:20250302T083000
DTEND;TZID=America/New_York:20250302T094500
DTSTAMP:20260422T042803
CREATED:20250225T211509Z
LAST-MODIFIED:20250702T003139Z
UID:10019171-1740904200-1740908700@commonstreet.org
SUMMARY:Call of Love Yoga
DESCRIPTION:Experience a gentle\, mindful yoga where divine sources of love are channeled into messages that are often in the form of songs\, poems\, and mudras: hand gestures to help guide the flow of energy in the body and focus the mind \nDonations welcome: Cash or Venmo @Judith-Thapa \nVarunayoga.com / 617.417.4386 / Judy.thapa@ gmail \nCommon Street Spiritual Center Sanctuary\nSundays 8:30-9:30 a.m. (except last Sunday) \nJudy is a teacher of yoga since 1998. She is a certified yoga therapist\, energy healer and channel.
URL:https://commonstreet.org/event/call-of-love-yoga-2-2-4/2025-03-02/
LOCATION:Sanctuary at Common Street Spiritual Center\, 13 Common Street\, Natick\, MA\, 01760\, United States
CATEGORIES:Children and Family,Class,Community,Healing,Meditation,Music and Arts,Spiritual,Yoga,Youth
ATTACH;FMTTYPE=image/png:https://commonstreet.org/wp-content/uploads/2025/02/Call-of-Love-Real-Estate-Flyer-1.png
ORGANIZER;CN="Judy Thapa":MAILTO:judy.thapa@gmail.com
END:VEVENT
BEGIN:VEVENT
DTSTART;TZID=America/New_York:20250302T170000
DTEND;TZID=America/New_York:20250302T180000
DTSTAMP:20260422T042803
CREATED:20250102T010721Z
LAST-MODIFIED:20250102T010721Z
UID:10019193-1740934800-1740938400@commonstreet.org
SUMMARY:Healing Yoga for Everyone - Winter Series
DESCRIPTION:We heal one breath at a time. A safe and nurturing practice guides us gently into our inner experience\, where we can explore the layers of our experience. The winter series honors the quiet and stillness of the season\, bringing in breath work and movement that can build heat\, welcome in rest\, and brings in light. Each class will open with Pranayama (guided breath work)\, evolve into a gentle yoga flow\, and will wrap with a guided meditation.\nAll are welcome\, and modifications will be offered. Please bring a mat. \nJanuary 5th\, 5 PM\nJanuary 12 (no class)\nJanuary 19\, 5 PM\nJanuary 26\, 5 PM\nFebruary 2\, 5 PM\nFebruary 9\, 5 PM\nFebruary 16 (no class)\nFebruary 23\, 5 PM \nDrop-in: $20 non-members / $15 members (join here: https://commonstreet.org/how-to-join/)\, cash at the door\, or venmo @Maria-Vasilevsky
URL:https://commonstreet.org/event/healing-yoga-for-everyone-winter-series/2025-03-02/
LOCATION:Common Street Spiritual Center\, 13 Common Street\, Natick\, 01760\, United States
CATEGORIES:Community,Healing,Meditation,Peace and Justice,Small Group,Spiritual,Yoga
ATTACH;FMTTYPE=image/png:https://commonstreet.org/wp-content/uploads/2025/01/IMG_3304.png
ORGANIZER;CN="Maria Vasilevsky":MAILTO:she.who.oms@gmail.com
END:VEVENT
END:VCALENDAR