BEGIN:VCALENDAR
VERSION:2.0
PRODID:-//Common Street Spiritual Center - ECPv6.15.20//NONSGML v1.0//EN
CALSCALE:GREGORIAN
METHOD:PUBLISH
X-WR-CALNAME:Common Street Spiritual Center
X-ORIGINAL-URL:https://commonstreet.org
X-WR-CALDESC:Events for Common Street Spiritual Center
REFRESH-INTERVAL;VALUE=DURATION:PT1H
X-Robots-Tag:noindex
X-PUBLISHED-TTL:PT1H
BEGIN:VTIMEZONE
TZID:America/New_York
BEGIN:DAYLIGHT
TZOFFSETFROM:-0500
TZOFFSETTO:-0400
TZNAME:EDT
DTSTART:20240310T070000
END:DAYLIGHT
BEGIN:STANDARD
TZOFFSETFROM:-0400
TZOFFSETTO:-0500
TZNAME:EST
DTSTART:20241103T060000
END:STANDARD
BEGIN:DAYLIGHT
TZOFFSETFROM:-0500
TZOFFSETTO:-0400
TZNAME:EDT
DTSTART:20250309T070000
END:DAYLIGHT
BEGIN:STANDARD
TZOFFSETFROM:-0400
TZOFFSETTO:-0500
TZNAME:EST
DTSTART:20251102T060000
END:STANDARD
BEGIN:DAYLIGHT
TZOFFSETFROM:-0500
TZOFFSETTO:-0400
TZNAME:EDT
DTSTART:20260308T070000
END:DAYLIGHT
BEGIN:STANDARD
TZOFFSETFROM:-0400
TZOFFSETTO:-0500
TZNAME:EST
DTSTART:20261101T060000
END:STANDARD
END:VTIMEZONE
BEGIN:VEVENT
DTSTART;TZID=America/New_York:20250127T190000
DTEND;TZID=America/New_York:20250127T200000
DTSTAMP:20260422T042434
CREATED:20241211T184426Z
LAST-MODIFIED:20241211T184505Z
UID:10017671-1738004400-1738008000@commonstreet.org
SUMMARY:Yoga in the Sanctuary
DESCRIPTION:Yoga is a practice that brings together the mind and body.  In fact\, yoga means “to yoke” or unite.   It is an ancient healing practice that is both physical and spiritual\, incorporating postures\, breath\, and meditation.  Yoga heals!   Yoga provides relief from numerous forms of trauma\, anxiety\, and physical stiffness.  It also builds a strong physical and spiritual core.\n\n\nJoin us every Monday from 7-8 pm for a vinyasa flow that will strengthen and energize as well as promote flexibility and balance.  We will also experience inner peace by the closing meditation called Shivasana.  Please bring a mat and water bottle\, and the class meets in the beautiful sanctuary.  There is no registration required\, and the cost per class is $10 or a food pantry donation (the pantry is located outside the center).  Class will not meet on federal holidays.  Venmo: Jennifer-Kurz-2. Please follow us on instagram: @yogadoc_
URL:https://commonstreet.org/event/yoga-in-the-sanctuary-4-2-2/2025-01-27/
LOCATION:Sanctuary at Common Street Spiritual Center\, 13 Common Street\, Natick\, MA\, 01760\, United States
CATEGORIES:Children and Family,Community,Healing,Yoga
ATTACH;FMTTYPE=image/png:https://commonstreet.org/wp-content/uploads/2024/09/Dr.-Kurz-CSSC-Winter-Flyer-I.png
END:VEVENT
BEGIN:VEVENT
DTSTART;TZID=America/New_York:20250130T190000
DTEND;TZID=America/New_York:20250130T201500
DTSTAMP:20260422T042434
CREATED:20230803T162536Z
LAST-MODIFIED:20230804T160005Z
UID:10020780-1738263600-1738268100@commonstreet.org
SUMMARY:Mohanji Meditations
DESCRIPTION:The Mohanji Meditation is a powerful heart-opening guided meditation that offers release from binding patterns through love and gratitude. \nAll are welcome. No prior experience necessary.
URL:https://commonstreet.org/event/mohanji-meditations/2025-01-30/
LOCATION:Choir Room @ Common Street Spiritual Center\, 13 Common Street\, Natick\, 01760\, United States
CATEGORIES:Class,Healing,Meditation,Spiritual
ORGANIZER;CN="Soumya Thelakkad":MAILTO:mohanjifamilyma@gmail.com
END:VEVENT
BEGIN:VEVENT
DTSTART;TZID=America/New_York:20250130T190000
DTEND;TZID=America/New_York:20250130T201500
DTSTAMP:20260422T042434
CREATED:20250130T112327Z
LAST-MODIFIED:20250130T112328Z
UID:10008326-1738263600-1738268100@commonstreet.org
SUMMARY:Mohanji Meditations
DESCRIPTION:The Mohanji Meditation is a powerful heart-opening guided meditation that offers release from binding patterns through love and gratitude. \nAll are welcome. No prior experience necessary.
URL:https://commonstreet.org/event/mohanji-meditations-10/
LOCATION:Choir Room @ Common Street Spiritual Center\, 13 Common Street\, Natick\, 01760\, United States
CATEGORIES:Class,Healing,Meditation,Spiritual
ORGANIZER;CN="Soumya Thelakkad":MAILTO:mohanjifamilyma@gmail.com
END:VEVENT
BEGIN:VEVENT
DTSTART;TZID=America/New_York:20250131T190000
DTEND;TZID=America/New_York:20250131T201500
DTSTAMP:20260422T042434
CREATED:20250108T222520Z
LAST-MODIFIED:20250108T222520Z
UID:10019632-1738350000-1738354500@commonstreet.org
SUMMARY:Divine Innocence: A Sound Healing Experience
DESCRIPTION:This sound healing experience with Lara & Nicole will take you on a powerful journey to the temple of divine innocence within. \nIn community\, we will connect to the frequency where inner child and higher self are one and the same vibration of sacred simplicity and open awareness. In our own way\, we will give permission to grace to reveal our wholeness. \nThe guiding sounds of Himalayan and crystal bowls\, gongs\, Burmese bells\, tuning forks\, drums\, and more will support us to tune our instrument to this sacred vibration. \n$22-44 Sliding scale\nVenmo\, Paypal @prismlighthealing\nOR Cash at the door \nPlease bring mats\, pillows\, perhaps an eye mask\, a water bottle\, and anything else you may need for your comfort to sit or lay down for this journey.
URL:https://commonstreet.org/event/divine-innocence-a-sound-healing-experience/
LOCATION:Common Street Spiritual Center\, 13 Common Street\, Natick\, 01760\, United States
CATEGORIES:Community,Healing,Meditation,Music and Arts,Peace and Justice,Spiritual
ATTACH;FMTTYPE=image/jpeg:https://commonstreet.org/wp-content/uploads/2025/01/SH_1.31_DivineInnocence2.jpg
END:VEVENT
BEGIN:VEVENT
DTSTART;TZID=America/New_York:20250201T090000
DTEND;TZID=America/New_York:20250201T120000
DTSTAMP:20260422T042434
CREATED:20241206T154953Z
LAST-MODIFIED:20241206T154953Z
UID:10018610-1738400400-1738411200@commonstreet.org
SUMMARY:The Uncommon Cafe at the Farmer's Market
DESCRIPTION:Every Saturday 9am-12pm \nStart your weekend with us at the Farmer’s Market and enjoy the unique offerings of The Uncommon Cafe! \nMenu Highlights: \nCoconut Maple Coffee: A harmonious blend of coconut oil\, Vermont maple syrup\, cinnamon\, ginger\, and vanilla for a warm and inviting flavor. \nCeremonial Cacao: A rich\, heart-opening drink infused with cinnamon\, ginger\, and vanilla—perfect for a mindful and nourishing start to your day.\nWhat Else to Expect: \nSpecialty Goods: Browse our collection of Palo Santo\, Sage\, and freshly restocked 1lb ceremonial cacao. \nLocal Treats: Discover new chocolate creations from Prophecy Chocolate\, including Classic Maple and Wild New England bars\, crafted in Hardwick\, VT. \nCoffee Made with Love & Intention: Every cup we brew is a personal experience. We ask what intention you’d like to set for your day and infuse it into your drink as we pour it—making every sip as meaningful as it is delicious. \nNot Sure About Our Unique Coffee? We get it! If you’re on the fence\, we’re happy to offer samples of our Coconut Maple Coffee so you can experience the flavor before committing. \nLet’s make Saturdays uncommon together!
URL:https://commonstreet.org/event/the-uncommon-cafe-at-the-farmers-market/2025-02-01/
LOCATION:Sanctuary Lobby @ Common Street Spiritual Center
CATEGORIES:Community,Cultural,Food,Healing,Spiritual
ATTACH;FMTTYPE=image/jpeg:https://commonstreet.org/wp-content/uploads/2024/12/Uncommon-.jpeg
ORGANIZER;CN="Evan Schlosser":MAILTO:evanschlossercontact@gmail.com
END:VEVENT
BEGIN:VEVENT
DTSTART;TZID=America/New_York:20250202T083000
DTEND;TZID=America/New_York:20250202T213000
DTSTAMP:20260422T042434
CREATED:20250116T210045Z
LAST-MODIFIED:20250116T210051Z
UID:10019168-1738485000-1738531800@commonstreet.org
SUMMARY:Call of Love Yoga
DESCRIPTION:Experience a gentle\, mindful yoga where divine sources of love are channeled into messages that are often in the form of songs\, poems\, and mudras: hand gestures to help guide the flow of energy in the body and focus the mind \nDonations welcome: Cash or Venmo @Judith-Thapa \nVarunayoga.com / 617.417.4386 / Judy.thapa@ gmail \nCommon Street Spiritual Center Sanctuary\nSundays 8:30-9:30 a.m. (except last Sunday) \nJudy is a teacher of yoga since 1998. She is a certified yoga therapist\, energy healer and channel.
URL:https://commonstreet.org/event/call-of-love-yoga-2-2/2025-02-02/
LOCATION:Sanctuary at Common Street Spiritual Center\, 13 Common Street\, Natick\, MA\, 01760\, United States
CATEGORIES:Children and Family,Class,Community,Healing,Meditation,Music and Arts,Spiritual,Yoga,Youth
ATTACH;FMTTYPE=image/png:https://commonstreet.org/wp-content/uploads/2024/10/Copy-of-Call-of-Loveno-description-Document.png
ORGANIZER;CN="Judy Thapa":MAILTO:judy.thapa@gmail.com
END:VEVENT
BEGIN:VEVENT
DTSTART;TZID=America/New_York:20250202T170000
DTEND;TZID=America/New_York:20250202T180000
DTSTAMP:20260422T042434
CREATED:20250102T010721Z
LAST-MODIFIED:20250102T010721Z
UID:10019190-1738515600-1738519200@commonstreet.org
SUMMARY:Healing Yoga for Everyone - Winter Series
DESCRIPTION:We heal one breath at a time. A safe and nurturing practice guides us gently into our inner experience\, where we can explore the layers of our experience. The winter series honors the quiet and stillness of the season\, bringing in breath work and movement that can build heat\, welcome in rest\, and brings in light. Each class will open with Pranayama (guided breath work)\, evolve into a gentle yoga flow\, and will wrap with a guided meditation.\nAll are welcome\, and modifications will be offered. Please bring a mat. \nJanuary 5th\, 5 PM\nJanuary 12 (no class)\nJanuary 19\, 5 PM\nJanuary 26\, 5 PM\nFebruary 2\, 5 PM\nFebruary 9\, 5 PM\nFebruary 16 (no class)\nFebruary 23\, 5 PM \nDrop-in: $20 non-members / $15 members (join here: https://commonstreet.org/how-to-join/)\, cash at the door\, or venmo @Maria-Vasilevsky
URL:https://commonstreet.org/event/healing-yoga-for-everyone-winter-series/2025-02-02/
LOCATION:Common Street Spiritual Center\, 13 Common Street\, Natick\, 01760\, United States
CATEGORIES:Community,Healing,Meditation,Peace and Justice,Small Group,Spiritual,Yoga
ATTACH;FMTTYPE=image/png:https://commonstreet.org/wp-content/uploads/2025/01/IMG_3304.png
ORGANIZER;CN="Maria Vasilevsky":MAILTO:she.who.oms@gmail.com
END:VEVENT
END:VCALENDAR