BEGIN:VCALENDAR
VERSION:2.0
PRODID:-//Common Street Spiritual Center - ECPv6.15.20//NONSGML v1.0//EN
CALSCALE:GREGORIAN
METHOD:PUBLISH
X-ORIGINAL-URL:https://commonstreet.org
X-WR-CALDESC:Events for Common Street Spiritual Center
REFRESH-INTERVAL;VALUE=DURATION:PT1H
X-Robots-Tag:noindex
X-PUBLISHED-TTL:PT1H
BEGIN:VTIMEZONE
TZID:America/New_York
BEGIN:DAYLIGHT
TZOFFSETFROM:-0500
TZOFFSETTO:-0400
TZNAME:EDT
DTSTART:20230312T070000
END:DAYLIGHT
BEGIN:STANDARD
TZOFFSETFROM:-0400
TZOFFSETTO:-0500
TZNAME:EST
DTSTART:20231105T060000
END:STANDARD
BEGIN:DAYLIGHT
TZOFFSETFROM:-0500
TZOFFSETTO:-0400
TZNAME:EDT
DTSTART:20240310T070000
END:DAYLIGHT
BEGIN:STANDARD
TZOFFSETFROM:-0400
TZOFFSETTO:-0500
TZNAME:EST
DTSTART:20241103T060000
END:STANDARD
BEGIN:DAYLIGHT
TZOFFSETFROM:-0500
TZOFFSETTO:-0400
TZNAME:EDT
DTSTART:20250309T070000
END:DAYLIGHT
BEGIN:STANDARD
TZOFFSETFROM:-0400
TZOFFSETTO:-0500
TZNAME:EST
DTSTART:20251102T060000
END:STANDARD
BEGIN:DAYLIGHT
TZOFFSETFROM:-0500
TZOFFSETTO:-0400
TZNAME:EDT
DTSTART:20260308T070000
END:DAYLIGHT
BEGIN:STANDARD
TZOFFSETFROM:-0400
TZOFFSETTO:-0500
TZNAME:EST
DTSTART:20261101T060000
END:STANDARD
END:VTIMEZONE
BEGIN:VEVENT
DTSTART;TZID=America/New_York:20241230T190000
DTEND;TZID=America/New_York:20241230T200000
DTSTAMP:20260422T043932
CREATED:20241223T214206Z
LAST-MODIFIED:20241223T214207Z
UID:10017667-1735585200-1735588800@commonstreet.org
SUMMARY:Yoga in the Sanctuary
DESCRIPTION:Yoga is a practice that brings together the mind and body.  In fact\, yoga means “to yoke” or unite.   It is an ancient healing practice that is both physical and spiritual\, incorporating postures\, breath\, and meditation.  Yoga heals!   Yoga provides relief from numerous forms of trauma\, anxiety\, and physical stiffness.  It also builds a strong physical and spiritual core.\n\n\nJoin us every Monday from 7-8 pm for a vinyasa flow that will strengthen and energize as well as promote flexibility and balance.  We will also experience inner peace by the closing meditation called Shivasana.  Please bring a mat and water bottle\, and the class meets in the beautiful sanctuary.  There is no registration required\, and the cost per class is $10 or a food pantry donation (the pantry is located outside the center).  Class will not meet on federal holidays.  Venmo: Jennifer-Kurz-2. Please follow us on instagram: @yogadoc_
URL:https://commonstreet.org/event/yoga-in-the-sanctuary-4-2-2-5/
LOCATION:Sanctuary at Common Street Spiritual Center\, 13 Common Street\, Natick\, MA\, 01760\, United States
CATEGORIES:Children and Family,Community,Healing,Yoga
ATTACH;FMTTYPE=image/png:https://commonstreet.org/wp-content/uploads/2024/09/Dr.-Kurz-CSSC-Winter-Flyer-I.png
END:VEVENT
BEGIN:VEVENT
DTSTART;TZID=America/New_York:20250102T180000
DTEND;TZID=America/New_York:20250102T210000
DTSTAMP:20260422T043932
CREATED:20241219T190007Z
LAST-MODIFIED:20241219T195302Z
UID:10018890-1735840800-1735851600@commonstreet.org
SUMMARY:Massage Party
DESCRIPTION:As a licensed massage therapist with over 10 years of experience\, Kathryn Kevorkian has developed a deep and unique relationship with touch. She invites you to come together with a diverse group of people to explore and learn about the profound connection we share through touch. \nThis event is designed to be a safe and welcoming space where we can share our experiences\, learn new techniques\, and deepen our understanding of the healing power of touch. Whether you’re new to massage or have years of experience\, there’s something for everyone. \nWhat to Expect: \nInteractive Sessions: Engage in hands-on activities that highlight different massage techniques. \nSharing Circle: An opportunity to share your experiences and learn from others. \nRelaxation Time: Enjoy a calming environment where you can unwind and connect with others.\nCome with an open heart and a willingness to explore the beautiful world of touch. Let’s create a community where we can support and learn from each other.
URL:https://commonstreet.org/event/massage-party-2-2/2025-01-02/
LOCATION:Studio @ Common Street\, 13 Common Street\, Natick\, MA\, 01760\, United States
CATEGORIES:Community,Healing,Spiritual,Workshop
ORGANIZER;CN="Kathryn Kevorkian":MAILTO:kevorkian.kathryn@gmail.com
END:VEVENT
BEGIN:VEVENT
DTSTART;TZID=America/New_York:20250102T190000
DTEND;TZID=America/New_York:20250102T201500
DTSTAMP:20260422T043932
CREATED:20230803T162536Z
LAST-MODIFIED:20230804T160005Z
UID:10008322-1735844400-1735848900@commonstreet.org
SUMMARY:Mohanji Meditations
DESCRIPTION:The Mohanji Meditation is a powerful heart-opening guided meditation that offers release from binding patterns through love and gratitude. \nAll are welcome. No prior experience necessary.
URL:https://commonstreet.org/event/mohanji-meditations/2025-01-02/
LOCATION:Choir Room @ Common Street Spiritual Center\, 13 Common Street\, Natick\, 01760\, United States
CATEGORIES:Class,Healing,Meditation,Spiritual
ORGANIZER;CN="Soumya Thelakkad":MAILTO:mohanjifamilyma@gmail.com
END:VEVENT
BEGIN:VEVENT
DTSTART;TZID=America/New_York:20250104T090000
DTEND;TZID=America/New_York:20250104T120000
DTSTAMP:20260422T043932
CREATED:20241206T154953Z
LAST-MODIFIED:20241206T154953Z
UID:10018606-1735981200-1735992000@commonstreet.org
SUMMARY:The Uncommon Cafe at the Farmer's Market
DESCRIPTION:Every Saturday 9am-12pm \nStart your weekend with us at the Farmer’s Market and enjoy the unique offerings of The Uncommon Cafe! \nMenu Highlights: \nCoconut Maple Coffee: A harmonious blend of coconut oil\, Vermont maple syrup\, cinnamon\, ginger\, and vanilla for a warm and inviting flavor. \nCeremonial Cacao: A rich\, heart-opening drink infused with cinnamon\, ginger\, and vanilla—perfect for a mindful and nourishing start to your day.\nWhat Else to Expect: \nSpecialty Goods: Browse our collection of Palo Santo\, Sage\, and freshly restocked 1lb ceremonial cacao. \nLocal Treats: Discover new chocolate creations from Prophecy Chocolate\, including Classic Maple and Wild New England bars\, crafted in Hardwick\, VT. \nCoffee Made with Love & Intention: Every cup we brew is a personal experience. We ask what intention you’d like to set for your day and infuse it into your drink as we pour it—making every sip as meaningful as it is delicious. \nNot Sure About Our Unique Coffee? We get it! If you’re on the fence\, we’re happy to offer samples of our Coconut Maple Coffee so you can experience the flavor before committing. \nLet’s make Saturdays uncommon together!
URL:https://commonstreet.org/event/the-uncommon-cafe-at-the-farmers-market/2025-01-04/
LOCATION:Sanctuary Lobby @ Common Street Spiritual Center
CATEGORIES:Community,Cultural,Food,Healing,Spiritual
ATTACH;FMTTYPE=image/jpeg:https://commonstreet.org/wp-content/uploads/2024/12/Uncommon-.jpeg
ORGANIZER;CN="Evan Schlosser":MAILTO:evanschlossercontact@gmail.com
END:VEVENT
BEGIN:VEVENT
DTSTART;TZID=America/New_York:20250105T083000
DTEND;TZID=America/New_York:20250105T213000
DTSTAMP:20260422T043932
CREATED:20241001T123600Z
LAST-MODIFIED:20241228T180751Z
UID:10019165-1736065800-1736112600@commonstreet.org
SUMMARY:Call of Love Yoga
DESCRIPTION:Call of Love  \nChanneled song and messages from the Divine  \nExperience channeled sources of Love into song while you relax at the end of a gentle yoga class. Your practice will include guided breathing\, chair or mat asana\, restorative poses and meditation. Coming home to the oneness in our hearts\, we can cultivate a sense of unity that brings us together into wholeness\, solace\, peace and hope  \n8:30-9:30\, Sundays mornings (except for the last Sunday of the month) \nCommon Street Spiritual Center Sanctuary \nDonations welcome \nCash or Venmo: @Judith-Thapa \nJudy O’Leary Thapa is a channel\, energy healer\, yoga teacher and yoga therapist. She has certifications in Sivananda yoga\, Prenatal yoga\, Phoenix Rising Yoga Therapy (Pryt.com) and with the International Association of Yoga Therapists (IAYT.org). Judy has over twenty years of experience teaching students of all ages. \nYou can follow Judy on FB at Varunayoga
URL:https://commonstreet.org/event/call-of-love-yoga-2/2025-01-05/
LOCATION:Sanctuary at Common Street Spiritual Center\, 13 Common Street\, Natick\, MA\, 01760\, United States
CATEGORIES:Children and Family,Class,Community,Healing,Meditation,Music and Arts,Spiritual,Yoga,Youth
ATTACH;FMTTYPE=image/png:https://commonstreet.org/wp-content/uploads/2024/10/Call-of-Love-Sundays.png
ORGANIZER;CN="Judy Thapa":MAILTO:judy.thapa@gmail.com
END:VEVENT
BEGIN:VEVENT
DTSTART;TZID=America/New_York:20250105T170000
DTEND;TZID=America/New_York:20250105T180000
DTSTAMP:20260422T043932
CREATED:20250102T010721Z
LAST-MODIFIED:20250102T010721Z
UID:10019187-1736096400-1736100000@commonstreet.org
SUMMARY:Healing Yoga for Everyone - Winter Series
DESCRIPTION:We heal one breath at a time. A safe and nurturing practice guides us gently into our inner experience\, where we can explore the layers of our experience. The winter series honors the quiet and stillness of the season\, bringing in breath work and movement that can build heat\, welcome in rest\, and brings in light. Each class will open with Pranayama (guided breath work)\, evolve into a gentle yoga flow\, and will wrap with a guided meditation.\nAll are welcome\, and modifications will be offered. Please bring a mat. \nJanuary 5th\, 5 PM\nJanuary 12 (no class)\nJanuary 19\, 5 PM\nJanuary 26\, 5 PM\nFebruary 2\, 5 PM\nFebruary 9\, 5 PM\nFebruary 16 (no class)\nFebruary 23\, 5 PM \nDrop-in: $20 non-members / $15 members (join here: https://commonstreet.org/how-to-join/)\, cash at the door\, or venmo @Maria-Vasilevsky
URL:https://commonstreet.org/event/healing-yoga-for-everyone-winter-series/2025-01-05/
LOCATION:Common Street Spiritual Center\, 13 Common Street\, Natick\, 01760\, United States
CATEGORIES:Community,Healing,Meditation,Peace and Justice,Small Group,Spiritual,Yoga
ATTACH;FMTTYPE=image/png:https://commonstreet.org/wp-content/uploads/2025/01/IMG_3304.png
ORGANIZER;CN="Maria Vasilevsky":MAILTO:she.who.oms@gmail.com
END:VEVENT
END:VCALENDAR