BEGIN:VCALENDAR
VERSION:2.0
PRODID:-//Common Street Spiritual Center - ECPv6.15.20//NONSGML v1.0//EN
CALSCALE:GREGORIAN
METHOD:PUBLISH
X-ORIGINAL-URL:https://commonstreet.org
X-WR-CALDESC:Events for Common Street Spiritual Center
REFRESH-INTERVAL;VALUE=DURATION:PT1H
X-Robots-Tag:noindex
X-PUBLISHED-TTL:PT1H
BEGIN:VTIMEZONE
TZID:America/New_York
BEGIN:DAYLIGHT
TZOFFSETFROM:-0500
TZOFFSETTO:-0400
TZNAME:EDT
DTSTART:20230312T070000
END:DAYLIGHT
BEGIN:STANDARD
TZOFFSETFROM:-0400
TZOFFSETTO:-0500
TZNAME:EST
DTSTART:20231105T060000
END:STANDARD
BEGIN:DAYLIGHT
TZOFFSETFROM:-0500
TZOFFSETTO:-0400
TZNAME:EDT
DTSTART:20240310T070000
END:DAYLIGHT
BEGIN:STANDARD
TZOFFSETFROM:-0400
TZOFFSETTO:-0500
TZNAME:EST
DTSTART:20241103T060000
END:STANDARD
BEGIN:DAYLIGHT
TZOFFSETFROM:-0500
TZOFFSETTO:-0400
TZNAME:EDT
DTSTART:20250309T070000
END:DAYLIGHT
BEGIN:STANDARD
TZOFFSETFROM:-0400
TZOFFSETTO:-0500
TZNAME:EST
DTSTART:20251102T060000
END:STANDARD
END:VTIMEZONE
BEGIN:VEVENT
DTSTART;TZID=America/New_York:20241209T190000
DTEND;TZID=America/New_York:20241209T200000
DTSTAMP:20260422T125112
CREATED:20241211T184521Z
LAST-MODIFIED:20241211T184522Z
UID:10017664-1733770800-1733774400@commonstreet.org
SUMMARY:Yoga in the Sanctuary
DESCRIPTION:Yoga is a practice that brings together the mind and body.  In fact\, yoga means “to yoke” or unite.   It is an ancient healing practice that is both physical and spiritual\, incorporating postures\, breath\, and meditation.  Yoga heals!   Yoga provides relief from numerous forms of trauma\, anxiety\, and physical stiffness.  It also builds a strong physical and spiritual core.\n\n\nJoin us every Monday from 7-8 pm for a vinyasa flow that will strengthen and energize as well as promote flexibility and balance.  We will also experience inner peace by the closing meditation called Shivasana.  Please bring a mat and water bottle\, and the class meets in the beautiful sanctuary.  There is no registration required\, and the cost per class is $10 or a food pantry donation (the pantry is located outside the center).  Class will not meet on federal holidays.  Venmo: Jennifer-Kurz-2. Please follow us on instagram: @yogadoc_
URL:https://commonstreet.org/event/yoga-in-the-sanctuary-4-2-2-2/
LOCATION:Sanctuary at Common Street Spiritual Center\, 13 Common Street\, Natick\, MA\, 01760\, United States
CATEGORIES:Children and Family,Community,Healing,Yoga
ATTACH;FMTTYPE=image/png:https://commonstreet.org/wp-content/uploads/2024/09/Dr.-Kurz-CSSC-Winter-Flyer-I.png
END:VEVENT
BEGIN:VEVENT
DTSTART;TZID=America/New_York:20241212T190000
DTEND;TZID=America/New_York:20241212T201500
DTSTAMP:20260422T125112
CREATED:20230803T162536Z
LAST-MODIFIED:20230804T160005Z
UID:10008319-1734030000-1734034500@commonstreet.org
SUMMARY:Mohanji Meditations
DESCRIPTION:The Mohanji Meditation is a powerful heart-opening guided meditation that offers release from binding patterns through love and gratitude. \nAll are welcome. No prior experience necessary.
URL:https://commonstreet.org/event/mohanji-meditations/2024-12-12/
LOCATION:Choir Room @ Common Street Spiritual Center\, 13 Common Street\, Natick\, 01760\, United States
CATEGORIES:Class,Healing,Meditation,Spiritual
ORGANIZER;CN="Soumya Thelakkad":MAILTO:mohanjifamilyma@gmail.com
END:VEVENT
BEGIN:VEVENT
DTSTART;TZID=America/New_York:20241214T090000
DTEND;TZID=America/New_York:20241214T120000
DTSTAMP:20260422T125112
CREATED:20241206T154953Z
LAST-MODIFIED:20241206T154953Z
UID:10018603-1734166800-1734177600@commonstreet.org
SUMMARY:The Uncommon Cafe at the Farmer's Market
DESCRIPTION:Every Saturday 9am-12pm \nStart your weekend with us at the Farmer’s Market and enjoy the unique offerings of The Uncommon Cafe! \nMenu Highlights: \nCoconut Maple Coffee: A harmonious blend of coconut oil\, Vermont maple syrup\, cinnamon\, ginger\, and vanilla for a warm and inviting flavor. \nCeremonial Cacao: A rich\, heart-opening drink infused with cinnamon\, ginger\, and vanilla—perfect for a mindful and nourishing start to your day.\nWhat Else to Expect: \nSpecialty Goods: Browse our collection of Palo Santo\, Sage\, and freshly restocked 1lb ceremonial cacao. \nLocal Treats: Discover new chocolate creations from Prophecy Chocolate\, including Classic Maple and Wild New England bars\, crafted in Hardwick\, VT. \nCoffee Made with Love & Intention: Every cup we brew is a personal experience. We ask what intention you’d like to set for your day and infuse it into your drink as we pour it—making every sip as meaningful as it is delicious. \nNot Sure About Our Unique Coffee? We get it! If you’re on the fence\, we’re happy to offer samples of our Coconut Maple Coffee so you can experience the flavor before committing. \nLet’s make Saturdays uncommon together!
URL:https://commonstreet.org/event/the-uncommon-cafe-at-the-farmers-market/2024-12-14/
LOCATION:Sanctuary Lobby @ Common Street Spiritual Center
CATEGORIES:Community,Cultural,Food,Healing,Spiritual
ATTACH;FMTTYPE=image/jpeg:https://commonstreet.org/wp-content/uploads/2024/12/Uncommon-.jpeg
ORGANIZER;CN="Evan Schlosser":MAILTO:evanschlossercontact@gmail.com
END:VEVENT
BEGIN:VEVENT
DTSTART;TZID=America/New_York:20241215T083000
DTEND;TZID=America/New_York:20241215T213000
DTSTAMP:20260422T125112
CREATED:20241001T123600Z
LAST-MODIFIED:20241228T180751Z
UID:10017868-1734251400-1734298200@commonstreet.org
SUMMARY:Call of Love Yoga
DESCRIPTION:Call of Love  \nChanneled song and messages from the Divine  \nExperience channeled sources of Love into song while you relax at the end of a gentle yoga class. Your practice will include guided breathing\, chair or mat asana\, restorative poses and meditation. Coming home to the oneness in our hearts\, we can cultivate a sense of unity that brings us together into wholeness\, solace\, peace and hope  \n8:30-9:30\, Sundays mornings (except for the last Sunday of the month) \nCommon Street Spiritual Center Sanctuary \nDonations welcome \nCash or Venmo: @Judith-Thapa \nJudy O’Leary Thapa is a channel\, energy healer\, yoga teacher and yoga therapist. She has certifications in Sivananda yoga\, Prenatal yoga\, Phoenix Rising Yoga Therapy (Pryt.com) and with the International Association of Yoga Therapists (IAYT.org). Judy has over twenty years of experience teaching students of all ages. \nYou can follow Judy on FB at Varunayoga
URL:https://commonstreet.org/event/call-of-love-yoga-2/2024-12-15/
LOCATION:Sanctuary at Common Street Spiritual Center\, 13 Common Street\, Natick\, MA\, 01760\, United States
CATEGORIES:Children and Family,Class,Community,Healing,Meditation,Music and Arts,Spiritual,Yoga,Youth
ATTACH;FMTTYPE=image/png:https://commonstreet.org/wp-content/uploads/2024/10/Call-of-Love-Sundays.png
ORGANIZER;CN="Judy Thapa":MAILTO:judy.thapa@gmail.com
END:VEVENT
END:VCALENDAR