BEGIN:VCALENDAR
VERSION:2.0
PRODID:-//Common Street Spiritual Center - ECPv6.15.20//NONSGML v1.0//EN
CALSCALE:GREGORIAN
METHOD:PUBLISH
X-ORIGINAL-URL:https://commonstreet.org
X-WR-CALDESC:Events for Common Street Spiritual Center
REFRESH-INTERVAL;VALUE=DURATION:PT1H
X-Robots-Tag:noindex
X-PUBLISHED-TTL:PT1H
BEGIN:VTIMEZONE
TZID:America/New_York
BEGIN:DAYLIGHT
TZOFFSETFROM:-0500
TZOFFSETTO:-0400
TZNAME:EDT
DTSTART:20230312T070000
END:DAYLIGHT
BEGIN:STANDARD
TZOFFSETFROM:-0400
TZOFFSETTO:-0500
TZNAME:EST
DTSTART:20231105T060000
END:STANDARD
BEGIN:DAYLIGHT
TZOFFSETFROM:-0500
TZOFFSETTO:-0400
TZNAME:EDT
DTSTART:20240310T070000
END:DAYLIGHT
BEGIN:STANDARD
TZOFFSETFROM:-0400
TZOFFSETTO:-0500
TZNAME:EST
DTSTART:20241103T060000
END:STANDARD
BEGIN:DAYLIGHT
TZOFFSETFROM:-0500
TZOFFSETTO:-0400
TZNAME:EDT
DTSTART:20250309T070000
END:DAYLIGHT
BEGIN:STANDARD
TZOFFSETFROM:-0400
TZOFFSETTO:-0500
TZNAME:EST
DTSTART:20251102T060000
END:STANDARD
END:VTIMEZONE
BEGIN:VEVENT
DTSTART;TZID=America/New_York:20241031T190000
DTEND;TZID=America/New_York:20241031T201500
DTSTAMP:20260422T193853
CREATED:20230803T162536Z
LAST-MODIFIED:20230804T160005Z
UID:10008313-1730401200-1730405700@commonstreet.org
SUMMARY:Mohanji Meditations
DESCRIPTION:The Mohanji Meditation is a powerful heart-opening guided meditation that offers release from binding patterns through love and gratitude. \nAll are welcome. No prior experience necessary.
URL:https://commonstreet.org/event/mohanji-meditations/2024-10-31/
LOCATION:Choir Room @ Common Street Spiritual Center\, 13 Common Street\, Natick\, 01760\, United States
CATEGORIES:Class,Healing,Meditation,Spiritual
ORGANIZER;CN="Soumya Thelakkad":MAILTO:mohanjifamilyma@gmail.com
END:VEVENT
BEGIN:VEVENT
DTSTART;TZID=America/New_York:20241102T080000
DTEND;TZID=America/New_York:20241102T090000
DTSTAMP:20260422T193853
CREATED:20241030T193840Z
LAST-MODIFIED:20250228T120251Z
UID:10006856-1730534400-1730538000@commonstreet.org
SUMMARY:Intro to Qi Gong
DESCRIPTION:Intro to Qi Gong \nHow to cultivate balance in body and mind and improve your life energy (Qi) \nTime: Saturdays from 8am – 9am\n \nQi Gong is a centuries-old system of coordinated body-posture and movement\, breathing\, and meditation used for the purposes of health\, spirituality\, and martial-arts training. These practices help cultivate concentration\, peace of mind\, strengthen and tone your body all at once. \nAll are welcome. No prior experience required. \nSuggested donation: $5-10 \nMeets in the Moon Room on the 3rd floor.  Enter through the school street door and come upstairs to find us. \nAbout the Instructor: \nWei Li grew up in Mainland\, China. She earned her Ph.D. in Biology at Tufts University in 2005. Since 2010\, she has been studying Qi Gong and Tai Chi with Master Ming Wu and Master Shi Zhao. She finished her Fengyang Qi Gong Associate Instructor training in 2020 and has been teaching Qi Gong since at Wu Healing Center and Morse Institute Library.
URL:https://commonstreet.org/event/intro-to-qi-gong-4/
LOCATION:Moon Room @ Common Street Spiritual Center\, 13 Common Street\, Natick\, 01760\, United States
CATEGORIES:Class,Community,Cultural,Healing,Meditation,Spiritual
ATTACH;FMTTYPE=image/png:https://commonstreet.org/wp-content/uploads/2022/06/Intro-to-Qi-Gong.png
ORGANIZER;CN="Wei Li":MAILTO:weili2155@gmail.com
END:VEVENT
BEGIN:VEVENT
DTSTART;TZID=America/New_York:20241103T083000
DTEND;TZID=America/New_York:20241103T213000
DTSTAMP:20260422T193853
CREATED:20241001T123600Z
LAST-MODIFIED:20241228T180751Z
UID:10017863-1730622600-1730669400@commonstreet.org
SUMMARY:Call of Love Yoga
DESCRIPTION:Call of Love  \nChanneled song and messages from the Divine  \nExperience channeled sources of Love into song while you relax at the end of a gentle yoga class. Your practice will include guided breathing\, chair or mat asana\, restorative poses and meditation. Coming home to the oneness in our hearts\, we can cultivate a sense of unity that brings us together into wholeness\, solace\, peace and hope  \n8:30-9:30\, Sundays mornings (except for the last Sunday of the month) \nCommon Street Spiritual Center Sanctuary \nDonations welcome \nCash or Venmo: @Judith-Thapa \nJudy O’Leary Thapa is a channel\, energy healer\, yoga teacher and yoga therapist. She has certifications in Sivananda yoga\, Prenatal yoga\, Phoenix Rising Yoga Therapy (Pryt.com) and with the International Association of Yoga Therapists (IAYT.org). Judy has over twenty years of experience teaching students of all ages. \nYou can follow Judy on FB at Varunayoga
URL:https://commonstreet.org/event/call-of-love-yoga-2/2024-11-03/
LOCATION:Sanctuary at Common Street Spiritual Center\, 13 Common Street\, Natick\, MA\, 01760\, United States
CATEGORIES:Children and Family,Class,Community,Healing,Meditation,Music and Arts,Spiritual,Yoga,Youth
ATTACH;FMTTYPE=image/png:https://commonstreet.org/wp-content/uploads/2024/10/Call-of-Love-Sundays.png
ORGANIZER;CN="Judy Thapa":MAILTO:judy.thapa@gmail.com
END:VEVENT
BEGIN:VEVENT
DTSTART;TZID=America/New_York:20241103T180000
DTEND;TZID=America/New_York:20241103T233000
DTSTAMP:20260422T193853
CREATED:20241031T162753Z
LAST-MODIFIED:20241031T162753Z
UID:10017905-1730656800-1730676600@commonstreet.org
SUMMARY:HEART JOURNEY
DESCRIPTION:PROFOUND GUIDED TRANSFORMATIONAL EXPERIENCE\nFAMILIES WELCOME \nAncestral and Generational Meditation through the Beauty of Surrender \nCacao Accompanying this Heart Opening Soul Journey with Sound Healing\, Sacred Dance\, Medicinal Live Music and Energy Renewal \nMoving through this transformational experience in profound love and gratitude while embracing all aspects of our human existence as well as integrating them as holy and celebrating the Divine Will in all of it. \nSPECIAL DAY OF THE DEAD PRAYER
URL:https://commonstreet.org/event/heart-journey/
LOCATION:Common Street Spiritual Center\, 13 Common Street\, Natick\, 01760\, United States
CATEGORIES:Benefit,Children and Family,Community,Healing,Meditation,Music and Arts,Spiritual
ATTACH;FMTTYPE=image/png:https://commonstreet.org/wp-content/uploads/2024/10/Happy-Wedding_20241030_134123_0000.png
END:VEVENT
END:VCALENDAR