BEGIN:VCALENDAR
VERSION:2.0
PRODID:-//Common Street Spiritual Center - ECPv6.15.20//NONSGML v1.0//EN
CALSCALE:GREGORIAN
METHOD:PUBLISH
X-ORIGINAL-URL:https://commonstreet.org
X-WR-CALDESC:Events for Common Street Spiritual Center
REFRESH-INTERVAL;VALUE=DURATION:PT1H
X-Robots-Tag:noindex
X-PUBLISHED-TTL:PT1H
BEGIN:VTIMEZONE
TZID:America/New_York
BEGIN:DAYLIGHT
TZOFFSETFROM:-0500
TZOFFSETTO:-0400
TZNAME:EDT
DTSTART:20230312T070000
END:DAYLIGHT
BEGIN:STANDARD
TZOFFSETFROM:-0400
TZOFFSETTO:-0500
TZNAME:EST
DTSTART:20231105T060000
END:STANDARD
BEGIN:DAYLIGHT
TZOFFSETFROM:-0500
TZOFFSETTO:-0400
TZNAME:EDT
DTSTART:20240310T070000
END:DAYLIGHT
BEGIN:STANDARD
TZOFFSETFROM:-0400
TZOFFSETTO:-0500
TZNAME:EST
DTSTART:20241103T060000
END:STANDARD
BEGIN:DAYLIGHT
TZOFFSETFROM:-0500
TZOFFSETTO:-0400
TZNAME:EDT
DTSTART:20250309T070000
END:DAYLIGHT
BEGIN:STANDARD
TZOFFSETFROM:-0400
TZOFFSETTO:-0500
TZNAME:EST
DTSTART:20251102T060000
END:STANDARD
END:VTIMEZONE
BEGIN:VEVENT
DTSTART;TZID=America/New_York:20240710T190000
DTEND;TZID=America/New_York:20240710T210000
DTSTAMP:20260422T230948
CREATED:20240605T141736Z
LAST-MODIFIED:20240606T011030Z
UID:10014441-1720638000-1720645200@commonstreet.org
SUMMARY:MIke Tamburo Sound Meditation Concert in Natick
DESCRIPTION:Mike Tamburo of Crown of Eternity returns to Natick for a powerful sound meditation and musical experience! \nAllow yourself to enter a timeless space of listening as Crown of Eternity’s Mike Tamburo orchestrates his way through 50+ overtone rich instruments including Gongs\, Bells\, Hammered Dulcimer and tuned metal instruments. Listeners have described Mike Tamburo’s music as an adventure in listening; sonic bliss; a deep and lasting vibrational rejuvenation for body and spirit; a profound aesthetic experience; a journey through the senses and a perceptual roller coaster. Allow yourself to be still and listen. \nSpace is limited! Get your tickets in advance! \nPLEASE BRING a yoga mat\, blanket\, or cushion for your comfort during extended relaxation on the floor. \nWe invite you to co-create a sensitive\, safe\, deep listening and meditative experience for all participants. It is expected that all will commit to an agreement of being still\, quiet and honor and respect a deep transformative space throughout the entire experience. It is our intention to create an inclusive experience. \nABOUT MIKE TAMBURO \nMike Tamburo is a world-renowned musician\, composer\, artist and educator. He is known and loved for his transformational live concerts performed on his personally curated set of gongs\, bells and other metal instruments.  \nA lifelong multi-instrumentalist\, Tamburo has focused his talents on metal percussion instruments\, string instruments (hammered dulcimer\, guitar\, zither\, shahi baaja)\, as well as electronic instruments (synths\, looping).  \nSince 1994\, Tamburo has shared more than 2\,000 concerts and workshops. He has recorded over 70 albums\, both solo and in collaboration with Crown of Eternity\, Meisha\, Arco Flute Foundation\, Psychic Frost\, Brother Ong and more\, ranging from epic gong music to ecstatic and transcendental string music\, as well as folk\, drone\, space rock\, ambient\, mantra music and sometimes unclassifiable sounds. This man loves music in all its forms!  \nHe teaches gong music\, both in person and online with School of Gong. He is also a part of the far-reaching ethnomusicology trio\, Dig Deeper\, with Mitch Nur and Thomas Orr Anderson. Their online classes have explored countless musical concepts with a focus on the cultural and personal uses of sound for healing\, meditation\, trance\, ecstatic states\, relaxation\, self transformation\, perception\, psycho-acoustics\, scientific discovery\, time and community.  \nAn early adoptee of meditation\, Tamburo’s music offers space for journeying\, self-exploration and deep introspection. During many of his early performances\, he experienced altered states of consciousness and out of body experiences. To understand these experiences\, he explored kundalini yoga\, energy work\, the therapeutic use of sound and how sound impacts consciousness\, human perception and self healing. His love for long sustained drones\, overtones and psychoacoustics continues to inspire him to explore music in further directions.  \nTamburo is also an interdisciplinary sound artist\, instrument builder\, video artist\, sound therapist\, writer and meditation teacher.
URL:https://commonstreet.org/event/mike-tamburo-sound-meditation-concert-in-natick/
LOCATION:Common Street Spiritual Center\, 13 Common Street\, Natick\, 01760\, United States
CATEGORIES:Community,Cultural,Healing,Meditation,Music and Arts,Spiritual
ATTACH;FMTTYPE=image/jpeg:https://commonstreet.org/wp-content/uploads/2024/06/0749b7dd-7a5d-44c2-88cc-dba3d93ef2d2_fit_300.jpg
ORGANIZER;CN="Jean Ladas":MAILTO:jean@soundmindandbody.us
END:VEVENT
BEGIN:VEVENT
DTSTART;TZID=America/New_York:20240711T190000
DTEND;TZID=America/New_York:20240711T201500
DTSTAMP:20260422T230948
CREATED:20230803T162536Z
LAST-MODIFIED:20230804T160005Z
UID:10008297-1720724400-1720728900@commonstreet.org
SUMMARY:Mohanji Meditations
DESCRIPTION:The Mohanji Meditation is a powerful heart-opening guided meditation that offers release from binding patterns through love and gratitude. \nAll are welcome. No prior experience necessary.
URL:https://commonstreet.org/event/mohanji-meditations/2024-07-11/
LOCATION:Choir Room @ Common Street Spiritual Center\, 13 Common Street\, Natick\, 01760\, United States
CATEGORIES:Class,Healing,Meditation,Spiritual
ORGANIZER;CN="Soumya Thelakkad":MAILTO:mohanjifamilyma@gmail.com
END:VEVENT
BEGIN:VEVENT
DTSTART;TZID=America/New_York:20240712T100000
DTEND;TZID=America/New_York:20240712T113000
DTSTAMP:20260422T230948
CREATED:20231212T011750Z
LAST-MODIFIED:20231214T014353Z
UID:10012897-1720778400-1720783800@commonstreet.org
SUMMARY:The Artist's Way
DESCRIPTION:The Artist’s Way is a monthly drop-in group for aspiring or established creatives.\nWe will create an open\, no-pressure space to experiment\, share\, collaborate and be in community with others.\nThemes from Julia Cameron’s book will be discussed. Contact Nathaniel@plantseyeview.com to register or for more information.
URL:https://commonstreet.org/event/artists-way/2024-07-12/
LOCATION:Studio @ Common Street\, 13 Common Street\, Natick\, MA\, 01760\, United States
CATEGORIES:Class,Healing,Music and Arts,Small Group,Spiritual,Workshop
ATTACH;FMTTYPE=image/png:https://commonstreet.org/wp-content/uploads/2023/12/a83c0198-1e6e-457a-b485-10f4774f1b4f_1.png
ORGANIZER;CN="Nathaniel Putnam":MAILTO:nathaniel@plantseyeview.com
END:VEVENT
BEGIN:VEVENT
DTSTART;TZID=America/New_York:20240714T183000
DTEND;TZID=America/New_York:20240714T210000
DTSTAMP:20260422T230948
CREATED:20240708T222804Z
LAST-MODIFIED:20240708T222804Z
UID:10016131-1720981800-1720990800@commonstreet.org
SUMMARY:Awakening - Exploring The Dance Of Light & Dark
DESCRIPTION:Dear friends\, \nYou are invited to join us for a unique and enriching spiritual experience at our gathering called Awakening. \nThis is definitely not a traditional church service. Awakening offers a space where individuals can come together to explore and deepen their spiritual journey in a supportive community setting. \nWHAT TO EXPECT AT AWAKENING: \n– Brief Music/Meditation: Take a moment to settle in. Experience the power of mindfulness and connect with Spirit. \n– Interactive Exploration and Discussion: Explore both the light and dark aspects of life (and of yourself) with nuance and compassion instead of rules and judgment. \n– Engage in meaningful reflection\, open dialogue\, and explore innovative perspectives. Do you disagree with commonly held ideas about our Divine nature? BRING IT! This is a place where you have permission to share and explore your truth with other intelligent beings who have similar questions. \n– Stories From The Other Side: Hear stories from people who have had direct experiences with the other side. \n– Coffee / Chai Hour: After our gathering\, join us for a relaxed coffee hour where you can connect with fellow attendees\, discuss ideas\, and deepen your sense of community. \nIS THIS FOR YOU? \nAt Awakening\, there are no experts or authorities dictating how you should think or live. Instead\, we embrace curiosity and inquiry\, encouraging questions that expand our possibilities and foster personal growth. \nCome be a part of this experiment with us. Let’s create something beautiful together. All that’s required is an open mind and a willingness to explore. \nPlease RSVP to this event by grabbing your free ticket on Eventbrite. Your RSVP helps us ensure a meaningful experience for everyone. \nWe look forward to seeing you at Awakening. \nJason and Amanda
URL:https://commonstreet.org/event/awakening-exploring-the-dance-of-light-dark-2/
LOCATION:Moon Room @ Common Street Spiritual Center\, 13 Common Street\, Natick\, 01760\, United States
CATEGORIES:Community,Dialogue,Healing,Other,Spiritual,Workshop
ATTACH;FMTTYPE=image/jpeg:https://commonstreet.org/wp-content/uploads/2024/07/Awakening-FB.jpg
ORGANIZER;CN="Amanda Short":MAILTO:kitchenstudioboston@gmail.com
END:VEVENT
END:VCALENDAR