BEGIN:VCALENDAR
VERSION:2.0
PRODID:-//Common Street Spiritual Center - ECPv6.15.20//NONSGML v1.0//EN
CALSCALE:GREGORIAN
METHOD:PUBLISH
X-ORIGINAL-URL:https://commonstreet.org
X-WR-CALDESC:Events for Common Street Spiritual Center
REFRESH-INTERVAL;VALUE=DURATION:PT1H
X-Robots-Tag:noindex
X-PUBLISHED-TTL:PT1H
BEGIN:VTIMEZONE
TZID:America/New_York
BEGIN:DAYLIGHT
TZOFFSETFROM:-0500
TZOFFSETTO:-0400
TZNAME:EDT
DTSTART:20230312T070000
END:DAYLIGHT
BEGIN:STANDARD
TZOFFSETFROM:-0400
TZOFFSETTO:-0500
TZNAME:EST
DTSTART:20231105T060000
END:STANDARD
BEGIN:DAYLIGHT
TZOFFSETFROM:-0500
TZOFFSETTO:-0400
TZNAME:EDT
DTSTART:20240310T070000
END:DAYLIGHT
BEGIN:STANDARD
TZOFFSETFROM:-0400
TZOFFSETTO:-0500
TZNAME:EST
DTSTART:20241103T060000
END:STANDARD
BEGIN:DAYLIGHT
TZOFFSETFROM:-0500
TZOFFSETTO:-0400
TZNAME:EDT
DTSTART:20250309T070000
END:DAYLIGHT
BEGIN:STANDARD
TZOFFSETFROM:-0400
TZOFFSETTO:-0500
TZNAME:EST
DTSTART:20251102T060000
END:STANDARD
END:VTIMEZONE
BEGIN:VEVENT
DTSTART;TZID=America/New_York:20240530T190000
DTEND;TZID=America/New_York:20240530T201500
DTSTAMP:20260423T072120
CREATED:20230803T162536Z
LAST-MODIFIED:20230804T160005Z
UID:10008291-1717095600-1717100100@commonstreet.org
SUMMARY:Mohanji Meditations
DESCRIPTION:The Mohanji Meditation is a powerful heart-opening guided meditation that offers release from binding patterns through love and gratitude. \nAll are welcome. No prior experience necessary.
URL:https://commonstreet.org/event/mohanji-meditations/2024-05-30/
LOCATION:Choir Room @ Common Street Spiritual Center\, 13 Common Street\, Natick\, 01760\, United States
CATEGORIES:Class,Healing,Meditation,Spiritual
ORGANIZER;CN="Soumya Thelakkad":MAILTO:mohanjifamilyma@gmail.com
END:VEVENT
BEGIN:VEVENT
DTSTART;TZID=America/New_York:20240601T163000
DTEND;TZID=America/New_York:20240601T181500
DTSTAMP:20260423T072120
CREATED:20240527T181336Z
LAST-MODIFIED:20240527T181336Z
UID:10014338-1717259400-1717265700@commonstreet.org
SUMMARY:Group Energy Healing Circle
DESCRIPTION:Group Energy Healing Circle\nHealing The Feminine Wound-\nWelcoming The Divine Goddess \nhttps://www.eventbrite.com/e/group-energy-healing-circle-healing-the-feminine-wound-tickets-913357856937?aff=oddtdtcreator
URL:https://commonstreet.org/event/group-energy-healing-circle-3/
LOCATION:Common Street Spiritual Center\, 13 Common Street\, Natick\, 01760\, United States
CATEGORIES:Healing,Meditation,Spiritual,Women
ATTACH;FMTTYPE=image/png:https://commonstreet.org/wp-content/uploads/2024/05/Gray-and-White-Simple-Business-Workshop-Facebook-Event-Cover-3.png
ORGANIZER;CN="Diana Phillips":MAILTO:info@soul13.net
END:VEVENT
END:VCALENDAR