BEGIN:VCALENDAR
VERSION:2.0
PRODID:-//Common Street Spiritual Center - ECPv6.15.20//NONSGML v1.0//EN
CALSCALE:GREGORIAN
METHOD:PUBLISH
X-WR-CALNAME:Common Street Spiritual Center
X-ORIGINAL-URL:https://commonstreet.org
X-WR-CALDESC:Events for Common Street Spiritual Center
REFRESH-INTERVAL;VALUE=DURATION:PT1H
X-Robots-Tag:noindex
X-PUBLISHED-TTL:PT1H
BEGIN:VTIMEZONE
TZID:America/New_York
BEGIN:DAYLIGHT
TZOFFSETFROM:-0500
TZOFFSETTO:-0400
TZNAME:EDT
DTSTART:20230312T070000
END:DAYLIGHT
BEGIN:STANDARD
TZOFFSETFROM:-0400
TZOFFSETTO:-0500
TZNAME:EST
DTSTART:20231105T060000
END:STANDARD
BEGIN:DAYLIGHT
TZOFFSETFROM:-0500
TZOFFSETTO:-0400
TZNAME:EDT
DTSTART:20240310T070000
END:DAYLIGHT
BEGIN:STANDARD
TZOFFSETFROM:-0400
TZOFFSETTO:-0500
TZNAME:EST
DTSTART:20241103T060000
END:STANDARD
BEGIN:DAYLIGHT
TZOFFSETFROM:-0500
TZOFFSETTO:-0400
TZNAME:EDT
DTSTART:20250309T070000
END:DAYLIGHT
BEGIN:STANDARD
TZOFFSETFROM:-0400
TZOFFSETTO:-0500
TZNAME:EST
DTSTART:20251102T060000
END:STANDARD
END:VTIMEZONE
BEGIN:VEVENT
DTSTART;TZID=America/New_York:20240516T190000
DTEND;TZID=America/New_York:20240516T201500
DTSTAMP:20260423T065013
CREATED:20230803T162536Z
LAST-MODIFIED:20230804T160005Z
UID:10008289-1715886000-1715890500@commonstreet.org
SUMMARY:Mohanji Meditations
DESCRIPTION:The Mohanji Meditation is a powerful heart-opening guided meditation that offers release from binding patterns through love and gratitude. \nAll are welcome. No prior experience necessary.
URL:https://commonstreet.org/event/mohanji-meditations/2024-05-16/
LOCATION:Choir Room @ Common Street Spiritual Center\, 13 Common Street\, Natick\, 01760\, United States
CATEGORIES:Class,Healing,Meditation,Spiritual
ORGANIZER;CN="Soumya Thelakkad":MAILTO:mohanjifamilyma@gmail.com
END:VEVENT
BEGIN:VEVENT
DTSTART;TZID=America/New_York:20240519T150000
DTEND;TZID=America/New_York:20240519T160000
DTSTAMP:20260423T065013
CREATED:20240430T171242Z
LAST-MODIFIED:20240519T021529Z
UID:10014269-1716130800-1716134400@commonstreet.org
SUMMARY:Crystal Bowl Sound Bath
DESCRIPTION:In a peaceful setting\, experience the soothing sounds of Crystal Singing Bowls. This is an invitation into a deep meditative state that helps to reduce stress. The vibrations from the bowls give an immersive\, full body experience that brings balance and renewed feelings of well-being. The program is presented by Priscilla Gale who has done Sound Healings for over 20 years all over New England.\nPre-Registration is Required.\n$30 Members and $40 Non-Members\nVenmo: @Michael-Orlando-114\nPhoto Image is compliments of Free-Pix
URL:https://commonstreet.org/event/crystal-bowl-sound-bath/
LOCATION:Sanctuary at Common Street Spiritual Center\, 13 Common Street\, Natick\, MA\, 01760\, United States
CATEGORIES:Healing
ATTACH;FMTTYPE=image/jpeg:https://commonstreet.org/wp-content/uploads/2024/04/full-shot-adult-meditating.jpg
ORGANIZER;CN="Michael Orlando":MAILTO:mikelouorlando@gmail.com
END:VEVENT
END:VCALENDAR