BEGIN:VCALENDAR
VERSION:2.0
PRODID:-//Common Street Spiritual Center - ECPv6.15.20//NONSGML v1.0//EN
CALSCALE:GREGORIAN
METHOD:PUBLISH
X-WR-CALNAME:Common Street Spiritual Center
X-ORIGINAL-URL:https://commonstreet.org
X-WR-CALDESC:Events for Common Street Spiritual Center
REFRESH-INTERVAL;VALUE=DURATION:PT1H
X-Robots-Tag:noindex
X-PUBLISHED-TTL:PT1H
BEGIN:VTIMEZONE
TZID:America/New_York
BEGIN:DAYLIGHT
TZOFFSETFROM:-0500
TZOFFSETTO:-0400
TZNAME:EDT
DTSTART:20230312T070000
END:DAYLIGHT
BEGIN:STANDARD
TZOFFSETFROM:-0400
TZOFFSETTO:-0500
TZNAME:EST
DTSTART:20231105T060000
END:STANDARD
BEGIN:DAYLIGHT
TZOFFSETFROM:-0500
TZOFFSETTO:-0400
TZNAME:EDT
DTSTART:20240310T070000
END:DAYLIGHT
BEGIN:STANDARD
TZOFFSETFROM:-0400
TZOFFSETTO:-0500
TZNAME:EST
DTSTART:20241103T060000
END:STANDARD
BEGIN:DAYLIGHT
TZOFFSETFROM:-0500
TZOFFSETTO:-0400
TZNAME:EDT
DTSTART:20250309T070000
END:DAYLIGHT
BEGIN:STANDARD
TZOFFSETFROM:-0400
TZOFFSETTO:-0500
TZNAME:EST
DTSTART:20251102T060000
END:STANDARD
END:VTIMEZONE
BEGIN:VEVENT
DTSTART;TZID=America/New_York:20240425T190000
DTEND;TZID=America/New_York:20240425T201500
DTSTAMP:20260423T053906
CREATED:20230803T162536Z
LAST-MODIFIED:20230804T160005Z
UID:10008286-1714071600-1714076100@commonstreet.org
SUMMARY:Mohanji Meditations
DESCRIPTION:The Mohanji Meditation is a powerful heart-opening guided meditation that offers release from binding patterns through love and gratitude. \nAll are welcome. No prior experience necessary.
URL:https://commonstreet.org/event/mohanji-meditations/2024-04-25/
LOCATION:Choir Room @ Common Street Spiritual Center\, 13 Common Street\, Natick\, 01760\, United States
CATEGORIES:Class,Healing,Meditation,Spiritual
ORGANIZER;CN="Soumya Thelakkad":MAILTO:mohanjifamilyma@gmail.com
END:VEVENT
BEGIN:VEVENT
DTSTART;TZID=America/New_York:20240426T190000
DTEND;TZID=America/New_York:20240426T220000
DTSTAMP:20260423T053906
CREATED:20240409T145544Z
LAST-MODIFIED:20240409T145544Z
UID:10013848-1714158000-1714168800@commonstreet.org
SUMMARY:Transformation Circle | Sound Healing & Breathwork
DESCRIPTION:Join us for an immersion into collective presence in 3 hours container night. With multiple modalities celebrating aliveness together\, we will weave interactive sharing circle\, breathwork\, sound healing\, movements and connection with one another. \nWe’ll practice together how to surrender anything that has been held in your heart. We’ll gently hold them together in a circle and transmute into light through vibration and breath. \nAPRIL 26 | Friday – @ 7pm – 10pm\nWhat to bring: Yoga Mat / Blanket / Eye Cover / Pillow / Water\nMain Entrance\, Sanctuary
URL:https://commonstreet.org/event/transformation-circle-sound-healing-breathwork/
LOCATION:Sanctuary at Common Street Spiritual Center\, 13 Common Street\, Natick\, MA\, 01760\, United States
CATEGORIES:Community,Healing,Meditation,Music and Arts,Peace and Justice,Spiritual
ATTACH;FMTTYPE=image/png:https://commonstreet.org/wp-content/uploads/2024/04/IMG_0125.png
END:VEVENT
END:VCALENDAR