BEGIN:VCALENDAR
VERSION:2.0
PRODID:-//Common Street Spiritual Center - ECPv6.15.20//NONSGML v1.0//EN
CALSCALE:GREGORIAN
METHOD:PUBLISH
X-WR-CALNAME:Common Street Spiritual Center
X-ORIGINAL-URL:https://commonstreet.org
X-WR-CALDESC:Events for Common Street Spiritual Center
REFRESH-INTERVAL;VALUE=DURATION:PT1H
X-Robots-Tag:noindex
X-PUBLISHED-TTL:PT1H
BEGIN:VTIMEZONE
TZID:America/New_York
BEGIN:DAYLIGHT
TZOFFSETFROM:-0500
TZOFFSETTO:-0400
TZNAME:EDT
DTSTART:20230312T070000
END:DAYLIGHT
BEGIN:STANDARD
TZOFFSETFROM:-0400
TZOFFSETTO:-0500
TZNAME:EST
DTSTART:20231105T060000
END:STANDARD
BEGIN:DAYLIGHT
TZOFFSETFROM:-0500
TZOFFSETTO:-0400
TZNAME:EDT
DTSTART:20240310T070000
END:DAYLIGHT
BEGIN:STANDARD
TZOFFSETFROM:-0400
TZOFFSETTO:-0500
TZNAME:EST
DTSTART:20241103T060000
END:STANDARD
BEGIN:DAYLIGHT
TZOFFSETFROM:-0500
TZOFFSETTO:-0400
TZNAME:EDT
DTSTART:20250309T070000
END:DAYLIGHT
BEGIN:STANDARD
TZOFFSETFROM:-0400
TZOFFSETTO:-0500
TZNAME:EST
DTSTART:20251102T060000
END:STANDARD
END:VTIMEZONE
BEGIN:VEVENT
DTSTART;TZID=America/New_York:20240326T190000
DTEND;TZID=America/New_York:20240326T200000
DTSTAMP:20260423T053924
CREATED:20240325T194201Z
LAST-MODIFIED:20240325T194203Z
UID:10013696-1711479600-1711483200@commonstreet.org
SUMMARY:Meditation and Breath to Clear the Mind for Peaceful Sleep
DESCRIPTION:Deep sleep. Clear mind. In this class you will learn a simple and effective chant\, its hand and eye placement\, and breathing technique. We will meditate with the chant for 12 to 30 minutes. \nThis four-class series is specifically designed to help you during the day\, deliberately preparing you to settle down for a good slumber. \nJoin for all four classes\, or walk-in the evening of Tuesday\, March 12\, 19\, 26\, April 2\, from 7 – 8 p.m. \nClass is for all levels. Beginners are encouraged to join. \ncomplimentary\, or by donation\, Members: $8\, Non Members: $10 \nSarah Ering is a Licensed Massage Therapist with over 24 years of experience in the healing field. Her office located in Natick Center.
URL:https://commonstreet.org/event/meditation-and-breath-to-clear-the-mind-for-peaceful-sleep-2/
LOCATION:Common Street Spiritual Center\, 13 Common Street\, Natick\, 01760\, United States
CATEGORIES:Community,Healing,Meditation,Spiritual
ATTACH;FMTTYPE=image/png:https://commonstreet.org/wp-content/uploads/2024/03/Deep-sleep.-Clear-mind.-In-this-class-you-will-learn-a-simple-and-effective-chant-its-hand-and-eye-placement-and-breathing-technique.-We-will-meditate-with-the-chant-for-12-to-30-minutes.-This-f.png
ORGANIZER;CN="Sarah Ering":MAILTO:MyhealingStudio@gmail.com
END:VEVENT
BEGIN:VEVENT
DTSTART;TZID=America/New_York:20240328T190000
DTEND;TZID=America/New_York:20240328T201500
DTSTAMP:20260423T053924
CREATED:20230803T162536Z
LAST-MODIFIED:20230804T160005Z
UID:10008282-1711652400-1711656900@commonstreet.org
SUMMARY:Mohanji Meditations
DESCRIPTION:The Mohanji Meditation is a powerful heart-opening guided meditation that offers release from binding patterns through love and gratitude. \nAll are welcome. No prior experience necessary.
URL:https://commonstreet.org/event/mohanji-meditations/2024-03-28/
LOCATION:Choir Room @ Common Street Spiritual Center\, 13 Common Street\, Natick\, 01760\, United States
CATEGORIES:Class,Healing,Meditation,Spiritual
ORGANIZER;CN="Soumya Thelakkad":MAILTO:mohanjifamilyma@gmail.com
END:VEVENT
BEGIN:VEVENT
DTSTART;TZID=America/New_York:20240328T190000
DTEND;TZID=America/New_York:20240328T203000
DTSTAMP:20260423T053924
CREATED:20240323T182733Z
LAST-MODIFIED:20240323T182733Z
UID:10013778-1711652400-1711657800@commonstreet.org
SUMMARY:Awakening - Exploring The Dance Of Light & Dark
DESCRIPTION:Dear friends\, \nYou are invited to join us for a unique and enriching spiritual experience at our gathering called Awakening. \nThis is definitely not a traditional church service. Awakening offers a space where individuals can come together to explore and deepen their spiritual journey in a supportive community setting. \nWHAT TO EXPECT AT AWAKENING: \nBrief Music/Meditation: Take a moment to settle in. Experience the power of mindfulness and connect with Spirit. \nInteractive Exploration and Discussion: Explore both the light and dark aspects of life (and of yourself) with nuance and compassion instead of rules and judgment. \nEngage in meaningful reflection\, open dialogue\, and explore innovative perspectives. Do you disagree with commonly held ideas about our Divine nature?  \nBRING IT! \nThis is a place where you have permission to share and explore your truth with other intelligent beings who have similar questions. \nStories From The Other Side: Hear stories from people who have had direct experiences with the other side. \nCoffee / Chai Hour: After our gathering\, join us for a relaxed coffee hour where you can connect with fellow attendees\, discuss ideas\, and deepen your sense of community. \nIS THIS FOR YOU? \nAt Awakening\, there are no experts or authorities dictating how you should think or live. Instead\, we embrace curiosity and inquiry\, encouraging questions that expand our possibilities and foster personal growth. \nCome be a part of this experiment with us. Let’s create something beautiful together. All that’s required is an open mind and a willingness to explore. \nPlease RSVP to this event by grabbing your free ticket on Eventbrite. Your RSVP helps us ensure a meaningful experience for everyone. \nWe look forward to seeing you at Awakening. \nJason and Amanda
URL:https://commonstreet.org/event/awakening-exploring-the-dance-of-light-dark/
LOCATION:Sanctuary at Common Street Spiritual Center\, 13 Common Street\, Natick\, MA\, 01760\, United States
CATEGORIES:Community,Dialogue,Healing,Spiritual,Workshop
ATTACH;FMTTYPE=image/jpeg:https://commonstreet.org/wp-content/uploads/2024/03/Awakening-EB.jpg
ORGANIZER;CN="Amanda Short":MAILTO:kitchenstudioboston@gmail.com
END:VEVENT
BEGIN:VEVENT
DTSTART;TZID=America/New_York:20240330T130000
DTEND;TZID=America/New_York:20240330T160000
DTSTAMP:20260423T053924
CREATED:20240302T190830Z
LAST-MODIFIED:20240330T180319Z
UID:10013669-1711803600-1711814400@commonstreet.org
SUMMARY:Digestion: Ayurvedic and Yogic Approach
DESCRIPTION:Ayurveda and Yoga\, both stemming from ancient Vedic Philosophy\, are interconnected sister sciences.\nDuring the session\, we will delve into Ayurvedic perspectives on identifying imbalances and provide practical approaches to address them\, including dietary adjustments\, lifestyle modifications\, and herbs. Led by certified Ayurvedic Doctor Nina Fine\, this segment of the workshop will offer expert guidance.\nExpect an engaging mix of interactive learning and active participation\, during which you will explore and practice techniques such as Pranayama (breathing techniques)\, asanaYoga (yoga postures targeted at various parts of the body)\, and Meditation\, all blended to improve the mind-body-spirit balance. Certified yoga teacher Olena will guide this portion of the workshop.\nNina and Olena will elucidate the connection between chakras (energetic centers in the body) and bodily systems/organs\, offering guidance on recognizing imbalances in the flow of prana (the life force energy) through the chakras and strategies to restore balance.\nIn essence\, the workshop will encompass learning (lecture)\, movement\, breathwork\, and meditation.
URL:https://commonstreet.org/event/digestion-ayurvedic-and-yogic-approach/
LOCATION:Moon Room @ Common Street Spiritual Center\, 13 Common Street\, Natick\, 01760\, United States
CATEGORIES:Healing,Meditation,Spiritual,Workshop,Yoga
ATTACH;FMTTYPE=image/png:https://commonstreet.org/wp-content/uploads/2024/03/Cover-Dogestion-with-Olena-march-30.png
ORGANIZER;CN="Nina Fine":MAILTO:nina.fine@myselfclub.com
END:VEVENT
BEGIN:VEVENT
DTSTART;TZID=America/New_York:20240331T180000
DTEND;TZID=America/New_York:20240331T210000
DTSTAMP:20260423T053924
CREATED:20240323T182724Z
LAST-MODIFIED:20240326T175548Z
UID:10013779-1711908000-1711918800@commonstreet.org
SUMMARY:Cacao Ceremony - Living with Intention: Aligning Heart and Actions
DESCRIPTION:Have you ever found yourself just going through the motions in your life? What if you could align your heart with the actions you take to create the life you want? How would that change things for you? \nThis is a chance to look at how you’re investing your time and energy in creating your life in the following areas: \n– Your relationship with the Divine\n– Your connection to your body\n– Your family relationships\n– The friendships you’re growing and nurturing\n– Your highest and most fulfilling expression of your work\n– Your romantic partnership \nWe invite you to our special Cacao Ceremony this coming Easter Sunday. The theme is “Living With Intention: Aligning Heart & Actions”. \nThis event is designed to help you press the pause button\, and look honestly at where and how you’re spending your energy. If you know deep down that something needs to shift in order for you to create the life you want\, then this is for you. \nThe ceremonial cacao\, a key part of our gathering\, acts as a gentle guide\, opening pathways to deeper understanding and connection. \nWHAT YOU CAN LOOK FORWARD TO: \n– Living with Intention Workshop: We start off with a session designed to explore the harmony between your heart’s desires and your daily actions. Engage in reflective exercises to uncover the disconnects\, and learn actionable steps to align your most important intentions with impactful actions. \n– Ceremonial Cacao Experience: Engage in a heart-opening Cacao Ceremony\, enhanced by the unique\, creamy blend of our ceremonial-grade Cacao from Prophecy Chocolate\, enriched with almond milk\, spices\, vanilla\, and maple syrup. \n– Intention-Focused Meditations: These gently guided meditations will help you recognize moments where your actions can more closely reflect your heart’s true desires. \nEVENT DETAILS & LOGISTICS \nWhere is it? – The event is held at the Common Street Spiritual Center in Natick\, MA which is a beautiful facility for an event like this. \nWhat time? – We start promptly at 6:00 PM and go until 9:00 PM (with a break in the middle). Please plan on arriving by 5:45pm so you have time to park\, and then settle in and meet the others. \nHow to RSVP: Click the link associated with this posting to secure your ticket on Eventbrite. \nWe are looking forward to seeing you there. \nWarmly\,\nJason \nP.S. – Please check the FAQ section at the Eventbrite link to make sure Cacao is safe for you. It generally is for most people\, but it’s good to have a look to be sure.
URL:https://commonstreet.org/event/cacao-ceremony-living-with-intention-aligning-heart-and-actions/
LOCATION:Sanctuary at Common Street Spiritual Center\, 13 Common Street\, Natick\, MA\, 01760\, United States
CATEGORIES:Dialogue,Healing,Meditation,Spiritual,Workshop
ATTACH;FMTTYPE=image/jpeg:https://commonstreet.org/wp-content/uploads/2024/03/Cacao-Living-With-Intention.jpg
ORGANIZER;CN="Jason McGarva":MAILTO:info@commonstreet.org
END:VEVENT
END:VCALENDAR