BEGIN:VCALENDAR
VERSION:2.0
PRODID:-//Common Street Spiritual Center - ECPv6.15.20//NONSGML v1.0//EN
CALSCALE:GREGORIAN
METHOD:PUBLISH
X-ORIGINAL-URL:https://commonstreet.org
X-WR-CALDESC:Events for Common Street Spiritual Center
REFRESH-INTERVAL;VALUE=DURATION:PT1H
X-Robots-Tag:noindex
X-PUBLISHED-TTL:PT1H
BEGIN:VTIMEZONE
TZID:America/New_York
BEGIN:DAYLIGHT
TZOFFSETFROM:-0500
TZOFFSETTO:-0400
TZNAME:EDT
DTSTART:20230312T070000
END:DAYLIGHT
BEGIN:STANDARD
TZOFFSETFROM:-0400
TZOFFSETTO:-0500
TZNAME:EST
DTSTART:20231105T060000
END:STANDARD
BEGIN:DAYLIGHT
TZOFFSETFROM:-0500
TZOFFSETTO:-0400
TZNAME:EDT
DTSTART:20240310T070000
END:DAYLIGHT
BEGIN:STANDARD
TZOFFSETFROM:-0400
TZOFFSETTO:-0500
TZNAME:EST
DTSTART:20241103T060000
END:STANDARD
BEGIN:DAYLIGHT
TZOFFSETFROM:-0500
TZOFFSETTO:-0400
TZNAME:EDT
DTSTART:20250309T070000
END:DAYLIGHT
BEGIN:STANDARD
TZOFFSETFROM:-0400
TZOFFSETTO:-0500
TZNAME:EST
DTSTART:20251102T060000
END:STANDARD
END:VTIMEZONE
BEGIN:VEVENT
DTSTART;TZID=America/New_York:20240311T073000
DTEND;TZID=America/New_York:20240311T080000
DTSTAMP:20260423T054155
CREATED:20240226T181037Z
LAST-MODIFIED:20240226T184233Z
UID:10013666-1710142200-1710144000@commonstreet.org
SUMMARY:Breathe
DESCRIPTION:Breath control is self control. When you are better able to manage your breath you are better able to manage your life. The breath is the fastest way to shift the state of our nervous system and when we breathe as a group we create a powerful synergy of change. Join us weekly for a 30 minute breath work session that is broken into 3 parts. After a brief body scan we will move the upper body to help free the ribcage and then settle into a simple way of breathing that will lower stress and anxiety\, and increase focus and presence. Each class is $8 and the first class is free with the code FIRST.
URL:https://commonstreet.org/event/breathe/
LOCATION:Common Street Spiritual Center\, 13 Common Street\, Natick\, 01760\, United States
CATEGORIES:Class,Healing,Spiritual
ATTACH;FMTTYPE=image/png:https://commonstreet.org/wp-content/uploads/2024/02/Synergy-Breathwork-1.png
ORGANIZER;CN="Sarah Whitten":MAILTO:sarahkwhitten@gmail.com
END:VEVENT
BEGIN:VEVENT
DTSTART;TZID=America/New_York:20240312T190000
DTEND;TZID=America/New_York:20240312T200000
DTSTAMP:20260423T054155
CREATED:20240311T184957Z
LAST-MODIFIED:20240314T001422Z
UID:10013694-1710270000-1710273600@commonstreet.org
SUMMARY:Meditation and Breath to Clear the Mind for Peaceful Sleep
DESCRIPTION:Deep sleep. Clear mind. In this class you will learn a simple and effective chant\, its hand and eye placement\, and breathing technique. We will meditate with the chant for 12 to 30 minutes. \nThis four-class series is specifically designed to help you during the day\, deliberately preparing you to settle down for a good slumber. \nJoin for all four classes\, or walk-in the evening of Tuesday\, March 12\, 19\, 26\, April 2\, from 7 – 8 p.m. \nClass is for all levels. Beginners are encouraged to join. \ncomplimentary\, or by donation\, Members: $8\, Non Members: $10 \nSarah Ering is a Licensed Massage Therapist with over 24 years of experience in the healing field. Her office located in Natick Center.
URL:https://commonstreet.org/event/meditation-and-breath-to-clear-the-mind-for-peaceful-sleep/2024-03-12/
LOCATION:Common Street Spiritual Center\, 13 Common Street\, Natick\, 01760\, United States
CATEGORIES:Community,Healing,Meditation,Spiritual
ATTACH;FMTTYPE=image/png:https://commonstreet.org/wp-content/uploads/2024/03/Deep-sleep.-Clear-mind.-In-this-class-you-will-learn-a-simple-and-effective-chant-its-hand-and-eye-placement-and-breathing-technique.-We-will-meditate-with-the-chant-for-12-to-30-minutes.-This-f.png
ORGANIZER;CN="Sarah Ering":MAILTO:MyhealingStudio@gmail.com
END:VEVENT
BEGIN:VEVENT
DTSTART;TZID=America/New_York:20240314T190000
DTEND;TZID=America/New_York:20240314T201500
DTSTAMP:20260423T054155
CREATED:20230803T162536Z
LAST-MODIFIED:20230804T160005Z
UID:10008280-1710442800-1710447300@commonstreet.org
SUMMARY:Mohanji Meditations
DESCRIPTION:The Mohanji Meditation is a powerful heart-opening guided meditation that offers release from binding patterns through love and gratitude. \nAll are welcome. No prior experience necessary.
URL:https://commonstreet.org/event/mohanji-meditations/2024-03-14/
LOCATION:Choir Room @ Common Street Spiritual Center\, 13 Common Street\, Natick\, 01760\, United States
CATEGORIES:Class,Healing,Meditation,Spiritual
ORGANIZER;CN="Soumya Thelakkad":MAILTO:mohanjifamilyma@gmail.com
END:VEVENT
BEGIN:VEVENT
DTSTART;TZID=America/New_York:20240316T170000
DTEND;TZID=America/New_York:20240316T210000
DTSTAMP:20260423T054155
CREATED:20240307T120756Z
LAST-MODIFIED:20240307T120756Z
UID:10013683-1710608400-1710622800@commonstreet.org
SUMMARY:Rite of the Womb: Spring Equinox Celebration
DESCRIPTION:After a long Winter\, join us as we welcome Spring and all the new opportunities it brings.\n\nDuring the Winter we were asked to go inward and meet our shadows\, get to know those deeper parts of ourselves we have been hiding from all of our lives.\n\nAs Spring rolls around\, it is time to analyze which stories still resonate and align with our Souls\, and which don’t\, so that we may continue our journey through the year feeling lighter and with more open space for new things to grow.\n\nDuring this month’s Rite of the Womb\, we will be celebrating the Spring Equinox and we will use play and creativity to bring up and let go of our old narratives\, and learn to plant and to cultivate new seeds\, new stories about who we want to be and what we want to create in our lives.\n\nFor more information @milla.dalbem
URL:https://commonstreet.org/event/rite-of-the-womb-spring-equinox-celebration/
LOCATION:Common Street Spiritual Center\, 13 Common Street\, Natick\, 01760\, United States
CATEGORIES:Community,Healing,Spiritual,Women
ATTACH;FMTTYPE=image/jpeg:https://commonstreet.org/wp-content/uploads/2024/03/rite-of-womb-March-2024.jpg
ORGANIZER;CN="Milla Dalbem":MAILTO:cah.anastasi@gmail.com
END:VEVENT
BEGIN:VEVENT
DTSTART;TZID=America/New_York:20240317T130000
DTEND;TZID=America/New_York:20240317T143000
DTSTAMP:20260423T054155
CREATED:20240226T153849Z
LAST-MODIFIED:20240226T153849Z
UID:10013663-1710680400-1710685800@commonstreet.org
SUMMARY:Purifying the Body: Insights on Ayurvedic Cleanses
DESCRIPTION:Ayurveda emphasizes the significance of regular cleansing as the body naturally tends to accumulate toxins over time.\nEmbark on a journey of inner purification with Ayurvedic Insights on Cleansing. Discover the wisdom behind toxin accumulation and personalized cleansing recommendations. \nIn this meeting\, we will explore: \n✨Understanding toxins from an Ayurvedic viewpoint.\n✨Insight into how toxins are generated within the body\, their potential presence in various systems\, and underlying reasons.\n✨Identifying individuals who are recommended to undergo cleansing.\n✨Recognizing contraindications for deep cleanses.\n✨Determining the optimal times of the year for cleansing practices.\n✨Exploring alternative methods for eliminating toxins for individuals with contraindications for deep cleansing. \nEVENT DETAILS & LOGISTICS \nHow do I register? – Scroll back up and look for the “FIND TICKETS” button. That will take you to Eventbrite where you can complete your registration.\nWhere is it? – The event is held at the Common Street Spiritual Center in Natick\, MA which is a beautiful facility for an event like this.\nWhat time? – We start promptly at 1:00 PM and go until 4:00 PM (with a break in the middle). Please plan on arriving by 12:45 pm so you have time to park\, and then settle in and meet the others.\nWe are looking forward to seeing you there.\nIt is a FREE event\nHow do I register? – Please email at nina.fine@myselfclub.com\nWhere is it? – Common Street Spiritual Center in Natick\, Choir Room (3d floor)\nWhat time? – I start promptly at 1:00 PM and go until 2:03 PM\nPlease plan on arriving by 12:45 pm so you have time to park\, and then settle in and meet the others.\nI am looking forward to seeing you there.\nYours in health and beauty\, Ayurvedic Doctor Nina Fine
URL:https://commonstreet.org/event/purifying-the-body-insights-on-ayurvedic-cleanses/
LOCATION:Choir Room @ Common Street Spiritual Center\, 13 Common Street\, Natick\, 01760\, United States
CATEGORIES:Healing,Other
ATTACH;FMTTYPE=image/png:https://commonstreet.org/wp-content/uploads/2024/02/Ayurvedic-Cleanse-flyer-march-17-copy.png
ORGANIZER;CN="Nina Fine":MAILTO:nina.fine@myselfclub.com
END:VEVENT
BEGIN:VEVENT
DTSTART;TZID=America/New_York:20240317T133000
DTEND;TZID=America/New_York:20240317T150000
DTSTAMP:20260423T054155
CREATED:20240304T182437Z
LAST-MODIFIED:20240308T160707Z
UID:10013675-1710682200-1710687600@commonstreet.org
SUMMARY:Community Dialogue on Israel and Gaza
DESCRIPTION:We need each other. In this time of war and humanitarian crisis in Israel and Gaza\, we are opening an inclusive and sensitive space for dialogue and listening.\n\nIn a process facilitated by Sadik Kassim\, Rabbi Robin Sparr\, and Rev. Dr. Ian Mevorach\, we will share our thoughts and feelings\, and listen to each other. The space will be free of hate speech\, courteous\, and respectful of all.\n\nOur goal is to learn from each other\, see how we can support each other in these times\, and find ways to work together to create a more peaceful world.\n\nFREE and open to the public.
URL:https://commonstreet.org/event/community-dialogue-on-israel-and-gaza-2/
LOCATION:Common Street Spiritual Center\, 13 Common Street\, Natick\, 01760\, United States
CATEGORIES:Community,Dialogue,Healing,Meeting,Peace and Justice,Spiritual
ATTACH;FMTTYPE=image/png:https://commonstreet.org/wp-content/uploads/2024/03/Community-Dialogue-Mar-17th.png
ORGANIZER;CN="Ian Mevorach":MAILTO:ian@commonstreet.org
END:VEVENT
END:VCALENDAR