BEGIN:VCALENDAR
VERSION:2.0
PRODID:-//Common Street Spiritual Center - ECPv6.15.20//NONSGML v1.0//EN
CALSCALE:GREGORIAN
METHOD:PUBLISH
X-ORIGINAL-URL:https://commonstreet.org
X-WR-CALDESC:Events for Common Street Spiritual Center
REFRESH-INTERVAL;VALUE=DURATION:PT1H
X-Robots-Tag:noindex
X-PUBLISHED-TTL:PT1H
BEGIN:VTIMEZONE
TZID:America/New_York
BEGIN:DAYLIGHT
TZOFFSETFROM:-0500
TZOFFSETTO:-0400
TZNAME:EDT
DTSTART:20230312T070000
END:DAYLIGHT
BEGIN:STANDARD
TZOFFSETFROM:-0400
TZOFFSETTO:-0500
TZNAME:EST
DTSTART:20231105T060000
END:STANDARD
BEGIN:DAYLIGHT
TZOFFSETFROM:-0500
TZOFFSETTO:-0400
TZNAME:EDT
DTSTART:20240310T070000
END:DAYLIGHT
BEGIN:STANDARD
TZOFFSETFROM:-0400
TZOFFSETTO:-0500
TZNAME:EST
DTSTART:20241103T060000
END:STANDARD
BEGIN:DAYLIGHT
TZOFFSETFROM:-0500
TZOFFSETTO:-0400
TZNAME:EDT
DTSTART:20250309T070000
END:DAYLIGHT
BEGIN:STANDARD
TZOFFSETFROM:-0400
TZOFFSETTO:-0500
TZNAME:EST
DTSTART:20251102T060000
END:STANDARD
END:VTIMEZONE
BEGIN:VEVENT
DTSTART;TZID=America/New_York:20240305T190000
DTEND;TZID=America/New_York:20240305T210000
DTSTAMP:20260423T054158
CREATED:20240226T185440Z
LAST-MODIFIED:20240226T185440Z
UID:10013667-1709665200-1709672400@commonstreet.org
SUMMARY:Transformation Circle | Breathwork & Soundhealing
DESCRIPTION:Immersion into collective presence in 2 hours container night. With multiple modalities celebrating aliveness together\, we will weave interactive sharing circle\, breathwork\, sound healing and connection with one another. We’ll practice together how to surrender anything that has been held in your heart. We’ll gently hold them together in a circle and transmute into light through vibration and breath. \n\nTuesday March 5th – @ 7pm – 9pm\nWhat to bring: Yoga Mat / Blanket / Eye Cover / Pillow / Water\nMain Entrance\, Sanctuary\n\nSuggested Donation  \n$20+ cash or venmo \nVenmo: @tov-demirel
URL:https://commonstreet.org/event/transformation-circle-breathwork-soundhealing/
LOCATION:Common Street Spiritual Center\, 13 Common Street\, Natick\, 01760\, United States
CATEGORIES:Community,Healing,Meditation,Music and Arts,Spiritual
ATTACH;FMTTYPE=image/jpeg:https://commonstreet.org/wp-content/uploads/2024/02/unnamed-scaled.jpg
END:VEVENT
BEGIN:VEVENT
DTSTART;TZID=America/New_York:20240307T190000
DTEND;TZID=America/New_York:20240307T201500
DTSTAMP:20260423T054158
CREATED:20230803T162536Z
LAST-MODIFIED:20230804T160005Z
UID:10008279-1709838000-1709842500@commonstreet.org
SUMMARY:Mohanji Meditations
DESCRIPTION:The Mohanji Meditation is a powerful heart-opening guided meditation that offers release from binding patterns through love and gratitude. \nAll are welcome. No prior experience necessary.
URL:https://commonstreet.org/event/mohanji-meditations/2024-03-07/
LOCATION:Choir Room @ Common Street Spiritual Center\, 13 Common Street\, Natick\, 01760\, United States
CATEGORIES:Class,Healing,Meditation,Spiritual
ORGANIZER;CN="Soumya Thelakkad":MAILTO:mohanjifamilyma@gmail.com
END:VEVENT
BEGIN:VEVENT
DTSTART;TZID=America/New_York:20240307T190000
DTEND;TZID=America/New_York:20240307T203000
DTSTAMP:20260423T054158
CREATED:20240110T173212Z
LAST-MODIFIED:20240116T002259Z
UID:10013030-1709838000-1709843400@commonstreet.org
SUMMARY:Introduction to Family Constellations
DESCRIPTION:Join us for an introduction to Family Constellations — a practice for healing intergenerational patterns and connecting with the strength and wisdom from our lineage. \nIn every family there are heroes\, heroines\, villains\, and outcasts; people who are easy to love\, and people who feel impossible to love. There have most definitely been great triumphs and death-defying difficulties. \nWe will be exploring how these people and events influence our lives today. We’ll learn how it is possible to come into relationship with the treasures in our family lineage that have been hiding in plain sight. And we will activate a closer relationship with those ancestors who can can most empower us. \nFor more details and to register: alissafleet.com \nOffered by Alissa Fleet\nAlissa is a Facilitator of Family and Systemic Constellations. Her personal passion is finding ways to bring healing and transformation for ourselves and society.
URL:https://commonstreet.org/event/introduction-to-family-constellations/2024-03-07/
LOCATION:Common Street Spiritual Center\, 13 Common Street\, Natick\, 01760\, United States
CATEGORIES:Healing,Small Group,Workshop
ATTACH;FMTTYPE=image/jpeg:https://commonstreet.org/wp-content/uploads/2024/01/Family-Constellations-Alissa-Fleet.001.jpeg
ORGANIZER;CN="Alissa Fleet":MAILTO:hello@alissafleet.com
END:VEVENT
BEGIN:VEVENT
DTSTART;TZID=America/New_York:20240308T100000
DTEND;TZID=America/New_York:20240308T113000
DTSTAMP:20260423T054158
CREATED:20231212T011750Z
LAST-MODIFIED:20231214T014353Z
UID:10012893-1709892000-1709897400@commonstreet.org
SUMMARY:The Artist's Way
DESCRIPTION:The Artist’s Way is a monthly drop-in group for aspiring or established creatives.\nWe will create an open\, no-pressure space to experiment\, share\, collaborate and be in community with others.\nThemes from Julia Cameron’s book will be discussed. Contact Nathaniel@plantseyeview.com to register or for more information.
URL:https://commonstreet.org/event/artists-way/2024-03-08/
LOCATION:Studio @ Common Street\, 13 Common Street\, Natick\, MA\, 01760\, United States
CATEGORIES:Class,Healing,Music and Arts,Small Group,Spiritual,Workshop
ATTACH;FMTTYPE=image/png:https://commonstreet.org/wp-content/uploads/2023/12/a83c0198-1e6e-457a-b485-10f4774f1b4f_1.png
ORGANIZER;CN="Nathaniel Putnam":MAILTO:nathaniel@plantseyeview.com
END:VEVENT
BEGIN:VEVENT
DTSTART;TZID=America/New_York:20240309T150000
DTEND;TZID=America/New_York:20240309T170000
DTSTAMP:20260423T054158
CREATED:20231211T160542Z
LAST-MODIFIED:20231211T160542Z
UID:10012885-1709996400-1710003600@commonstreet.org
SUMMARY:Healing the Family Tree
DESCRIPTION:In this class the participants will find the patterns they are repeating from their family system. They will find who is connected to\, they will release and heal that imbalance.\nAlso we will work healing the inner child from conception\, and the mother wound.\nAll of this is connect to how we live our lives\, our partner\, career \, abundance\,physical and mental health.\nIt’s also helpful to cut and release those patterns for the future generations so they don’t repeat themselves. \nThe class would be 2 hours and I will provide the materials.
URL:https://commonstreet.org/event/healing-the-family-tree/
LOCATION:Sanctuary at Common Street Spiritual Center\, 13 Common Street\, Natick\, MA\, 01760\, United States
CATEGORIES:Healing
ATTACH;FMTTYPE=image/png:https://commonstreet.org/wp-content/uploads/2023/12/20231210_224948_0000.png
ORGANIZER;CN="Alida Moncada":MAILTO:alidamm82@gmail.com
END:VEVENT
BEGIN:VEVENT
DTSTART;TZID=America/New_York:20240309T150000
DTEND;TZID=America/New_York:20240309T170000
DTSTAMP:20260423T054158
CREATED:20240216T210606Z
LAST-MODIFIED:20240216T210606Z
UID:10013659-1709996400-1710003600@commonstreet.org
SUMMARY:Healing the Family Tree
DESCRIPTION:Have you ever found yourself uttering phrases like:\n“I don’t feel loved.”\n“I can’t find a good partner.”\n“I always fail in relationships.”\n“It’s hard to communicate with my boss.”\n“My parents don’t understand me.”\n“I avoid talking to my parents.” \nIf any of these statements resonate with you\, it’s a sign that there may be deep-rooted ancestral patterns affecting your life. \nIn this workshop you wil have the power to liberate you from these patterns and open the floodgates of love in your life.
URL:https://commonstreet.org/event/healing-the-family-tree-2/
LOCATION:Common Street Spiritual Center\, 13 Common Street\, Natick\, 01760\, United States
CATEGORIES:Healing,Spiritual,Workshop
ATTACH;FMTTYPE=image/png:https://commonstreet.org/wp-content/uploads/2024/02/20231211_213814_0000.png
END:VEVENT
END:VCALENDAR