BEGIN:VCALENDAR
VERSION:2.0
PRODID:-//Common Street Spiritual Center - ECPv6.15.20//NONSGML v1.0//EN
CALSCALE:GREGORIAN
METHOD:PUBLISH
X-ORIGINAL-URL:https://commonstreet.org
X-WR-CALDESC:Events for Common Street Spiritual Center
REFRESH-INTERVAL;VALUE=DURATION:PT1H
X-Robots-Tag:noindex
X-PUBLISHED-TTL:PT1H
BEGIN:VTIMEZONE
TZID:America/New_York
BEGIN:DAYLIGHT
TZOFFSETFROM:-0500
TZOFFSETTO:-0400
TZNAME:EDT
DTSTART:20230312T070000
END:DAYLIGHT
BEGIN:STANDARD
TZOFFSETFROM:-0400
TZOFFSETTO:-0500
TZNAME:EST
DTSTART:20231105T060000
END:STANDARD
BEGIN:DAYLIGHT
TZOFFSETFROM:-0500
TZOFFSETTO:-0400
TZNAME:EDT
DTSTART:20240310T070000
END:DAYLIGHT
BEGIN:STANDARD
TZOFFSETFROM:-0400
TZOFFSETTO:-0500
TZNAME:EST
DTSTART:20241103T060000
END:STANDARD
BEGIN:DAYLIGHT
TZOFFSETFROM:-0500
TZOFFSETTO:-0400
TZNAME:EDT
DTSTART:20250309T070000
END:DAYLIGHT
BEGIN:STANDARD
TZOFFSETFROM:-0400
TZOFFSETTO:-0500
TZNAME:EST
DTSTART:20251102T060000
END:STANDARD
END:VTIMEZONE
BEGIN:VEVENT
DTSTART;TZID=America/New_York:20240220T190000
DTEND;TZID=America/New_York:20240220T210000
DTSTAMP:20260423T054208
CREATED:20240206T204241Z
LAST-MODIFIED:20240209T115004Z
UID:10013359-1708455600-1708462800@commonstreet.org
SUMMARY:Transformation Circle | Breathwork & Sound Healing
DESCRIPTION:Join us for an immersion into collective presence in 2 hours container night. With multiple modalities celebrating aliveness together\, we will weave interactive sharing circle\, breathwork\, sound healing and connection with one another. \nWe’ll practice together how to surrender anything that has been held in your heart. We’ll gently hold them together in a circle and transmute into light through vibration and breath. \n\n\n\nTuesday February 20th – @ 7pm – 9pm\n\n\n\n\nWhat to bring: Yoga Mat / Blanket / Eye Cover / Pillow / Water\nMain Entrance\, Sanctuary\n\n 
URL:https://commonstreet.org/event/transformation-circle-breathwork-sound-healing-3/
LOCATION:Common Street Spiritual Center\, 13 Common Street\, Natick\, 01760\, United States
CATEGORIES:Community,Healing,Meditation,Music and Arts,Spiritual
ATTACH;FMTTYPE=image/jpeg:https://commonstreet.org/wp-content/uploads/2024/02/image0.jpeg
END:VEVENT
BEGIN:VEVENT
DTSTART;TZID=America/New_York:20240222T190000
DTEND;TZID=America/New_York:20240222T201500
DTSTAMP:20260423T054208
CREATED:20230803T162536Z
LAST-MODIFIED:20230804T160005Z
UID:10008277-1708628400-1708632900@commonstreet.org
SUMMARY:Mohanji Meditations
DESCRIPTION:The Mohanji Meditation is a powerful heart-opening guided meditation that offers release from binding patterns through love and gratitude. \nAll are welcome. No prior experience necessary.
URL:https://commonstreet.org/event/mohanji-meditations/2024-02-22/
LOCATION:Choir Room @ Common Street Spiritual Center\, 13 Common Street\, Natick\, 01760\, United States
CATEGORIES:Class,Healing,Meditation,Spiritual
ORGANIZER;CN="Soumya Thelakkad":MAILTO:mohanjifamilyma@gmail.com
END:VEVENT
BEGIN:VEVENT
DTSTART;TZID=America/New_York:20240223T190000
DTEND;TZID=America/New_York:20240223T210000
DTSTAMP:20260423T054208
CREATED:20240213T162207Z
LAST-MODIFIED:20240213T162207Z
UID:10013628-1708714800-1708722000@commonstreet.org
SUMMARY:Healing Circle: Breathwork & Sound Healing
DESCRIPTION:Real change happens through real conscious decisions.  Just the same way we decide to shop for new clothes and change the way we look\, we can consider new ways of thinking and change the way we feel. \nTo step into the heart\, open up and bring healing to your life it takes a conscious decision. Of course one that would impact your life in a powerful way. Join us for a journey through which we will tap into the energy of the heart and your own body’s ability to heal you. \nThis Journey will include: \n* Story telling \n* Guided Meditation/breathwork accompanied by sound healing \n* Sharing circle \nFeb 23rd\, 7-9pm \n2nd Floor\, Moon Room \n13 Common St\, Natick\,Ma \n20-40$ Sliding Scale Cash or Venmo @Parsa-Medhati \nLooking forward to seeing you there! – Parsa
URL:https://commonstreet.org/event/healing-circle-breathwork-sound-healing/
LOCATION:Common Street Spiritual Center\, 13 Common Street\, Natick\, 01760\, United States
CATEGORIES:Community,Healing,Meditation
ATTACH;FMTTYPE=image/jpeg:https://commonstreet.org/wp-content/uploads/2024/02/parsas-event.jpg
ORGANIZER;CN="Parsa Medhati":MAILTO:parsamedhati@gmail.com
END:VEVENT
BEGIN:VEVENT
DTSTART;TZID=America/New_York:20240225T133000
DTEND;TZID=America/New_York:20240225T150000
DTSTAMP:20260423T054208
CREATED:20240215T165618Z
LAST-MODIFIED:20240220T214356Z
UID:10013656-1708867800-1708873200@commonstreet.org
SUMMARY:A Community Dialogue on Gaza
DESCRIPTION:We invite members and friends of the Spiritual Center community to gather for a dialogue about the war that is raging in Gaza. The discussion will be facilitated by Dr. Sadik Kassim\, who is a seasoned interfaith leader with years of experience in the facilitation of conversations on interfaith peacemaking and understanding.\n\nOur community wants to foster a dialogue about what’s happening in Gaza and how we can make a difference for the people suffering there. We also want to bring our diverse local community together around this issue to seek understanding\, respect\, and connection across our differences.
URL:https://commonstreet.org/event/a-community-dialogue-on-gaza/
LOCATION:Common Street Spiritual Center\, 13 Common Street\, Natick\, 01760\, United States
CATEGORIES:Community,Healing,Peace and Justice
ATTACH;FMTTYPE=image/png:https://commonstreet.org/wp-content/uploads/2024/02/Community-Dialogue-Feb-25.png
ORGANIZER;CN="Sadik Kassim":MAILTO:shkassim81@gmail.com
END:VEVENT
END:VCALENDAR