BEGIN:VCALENDAR
VERSION:2.0
PRODID:-//Common Street Spiritual Center - ECPv6.15.20//NONSGML v1.0//EN
CALSCALE:GREGORIAN
METHOD:PUBLISH
X-ORIGINAL-URL:https://commonstreet.org
X-WR-CALDESC:Events for Common Street Spiritual Center
REFRESH-INTERVAL;VALUE=DURATION:PT1H
X-Robots-Tag:noindex
X-PUBLISHED-TTL:PT1H
BEGIN:VTIMEZONE
TZID:America/New_York
BEGIN:DAYLIGHT
TZOFFSETFROM:-0500
TZOFFSETTO:-0400
TZNAME:EDT
DTSTART:20230312T070000
END:DAYLIGHT
BEGIN:STANDARD
TZOFFSETFROM:-0400
TZOFFSETTO:-0500
TZNAME:EST
DTSTART:20231105T060000
END:STANDARD
BEGIN:DAYLIGHT
TZOFFSETFROM:-0500
TZOFFSETTO:-0400
TZNAME:EDT
DTSTART:20240310T070000
END:DAYLIGHT
BEGIN:STANDARD
TZOFFSETFROM:-0400
TZOFFSETTO:-0500
TZNAME:EST
DTSTART:20241103T060000
END:STANDARD
BEGIN:DAYLIGHT
TZOFFSETFROM:-0500
TZOFFSETTO:-0400
TZNAME:EDT
DTSTART:20250309T070000
END:DAYLIGHT
BEGIN:STANDARD
TZOFFSETFROM:-0400
TZOFFSETTO:-0500
TZNAME:EST
DTSTART:20251102T060000
END:STANDARD
END:VTIMEZONE
BEGIN:VEVENT
DTSTART;TZID=America/New_York:20240125T091500
DTEND;TZID=America/New_York:20240125T101500
DTSTAMP:20260423T140106
CREATED:20240124T172215Z
LAST-MODIFIED:20240124T172258Z
UID:10010937-1706174100-1706177700@commonstreet.org
SUMMARY:Conscious Kundalini Yoga
DESCRIPTION:Join Nelya for a Kundalini-inspired community class to restore spirit\, mind\, and body. We start by tuning in with breath work and mantra\, followed by a warm up and Kriya (set of Kundalini exercises). We’ll end with a relaxing meditation. Each class focuses on a unique theme\, from self love and immune support to connecting with your intuition. This class is an invitation to slow down and look inward to connect with a deeper consciousness. All levels welcome\, no experience needed.\n\n\nMembers – $11\nNon-members – $15\nTo register\, Venmo @Nelya-Binder (#6560) or email nelya@rootedsanctuary.com\nTo learn more about Nelya’s yoga\, healing\, and community work\, check out www.rootedsanctuary.com.
URL:https://commonstreet.org/event/conscious-kundalini-yoga-4/
LOCATION:Sanctuary at Common Street Spiritual Center\, 13 Common Street\, Natick\, MA\, 01760\, United States
CATEGORIES:Class,Community,Healing,Spiritual
ATTACH;FMTTYPE=image/png:https://commonstreet.org/wp-content/uploads/2023/07/Common-St-Conscious-Kundalini-3.png
ORGANIZER;CN="Nelya Binder":MAILTO:nelya@rootedsanctuary.com
END:VEVENT
BEGIN:VEVENT
DTSTART;TZID=America/New_York:20240125T190000
DTEND;TZID=America/New_York:20240125T201500
DTSTAMP:20260423T140106
CREATED:20230803T162536Z
LAST-MODIFIED:20230804T160005Z
UID:10008273-1706209200-1706213700@commonstreet.org
SUMMARY:Mohanji Meditations
DESCRIPTION:The Mohanji Meditation is a powerful heart-opening guided meditation that offers release from binding patterns through love and gratitude. \nAll are welcome. No prior experience necessary.
URL:https://commonstreet.org/event/mohanji-meditations/2024-01-25/
LOCATION:Choir Room @ Common Street Spiritual Center\, 13 Common Street\, Natick\, 01760\, United States
CATEGORIES:Class,Healing,Meditation,Spiritual
ORGANIZER;CN="Soumya Thelakkad":MAILTO:mohanjifamilyma@gmail.com
END:VEVENT
BEGIN:VEVENT
DTSTART;TZID=America/New_York:20240126T190000
DTEND;TZID=America/New_York:20240126T203000
DTSTAMP:20260423T140106
CREATED:20240110T181151Z
LAST-MODIFIED:20240110T190119Z
UID:10013059-1706295600-1706301000@commonstreet.org
SUMMARY:Energy Balancing
DESCRIPTION:A combination of practices will be introduced to improve the balance of energy for body\, mind and spirit. The approaches include breathing exercises\, spontaneous movement\, recognizing and balancing pulses in the body\, sound healing\, and meditations.
URL:https://commonstreet.org/event/energy-balancing/
LOCATION:Sanctuary at Common Street Spiritual Center\, 13 Common Street\, Natick\, MA\, 01760\, United States
CATEGORIES:Healing
ATTACH;FMTTYPE=image/png:https://commonstreet.org/wp-content/uploads/2024/01/energy-balancing-2.png
ORGANIZER;CN="Michael Orlando":MAILTO:mikelouorlando@gmail.com
END:VEVENT
BEGIN:VEVENT
DTSTART;TZID=America/New_York:20240128T180000
DTEND;TZID=America/New_York:20240128T210000
DTSTAMP:20260423T140106
CREATED:20240113T190701Z
LAST-MODIFIED:20240118T013647Z
UID:10013060-1706464800-1706475600@commonstreet.org
SUMMARY:Fundraiser for Civilians of Gaza
DESCRIPTION:Please join us in our mission to fund-raise for a community facing hunger\, displacement\, and war. \nThere will be live music\, local artists selling works to benefit the fundraiser\, and fresh baked goods available to purchase. $10 suggested donation at the door. \nThe money made from this event will go towards supporting the innocent civilians of Gaza. \nThere is no room in this event for hate\, so if you have nothing positive to add we kindly ask you not to attend. \nIf you are interested in being one of the vendors for this event\, please reach out and we will find you a spot!  Please remember that if you are a vendor at this event that the money made is to support the fundraiser. Thank you and I hope to see many of you there. \nInterested in vending? A musician or musical group wanting to perform? Please email Seb at Email Seb at sebpressler@gmail.com. \nAll are welcome to donate baked goods for the bake sale table (please include ingredient list if home made). \n\nIf you cannot make it\, please donate online here: https://secure.givelively.org/donate/common-street-spiritual-center/gaza-relief-fundraiser \nThis is not a political statement. This is a community-based effort to relieve suffering brought upon by atrocities committed by governments and the collateral damage inflicted upon innocent civilians. Please bring your positive energy and intent of well-being and support. This is an initiative brought about by love\, peace\, and concern for our fellow beings.
URL:https://commonstreet.org/event/fundraiser-for-civilians-of-gaza/
LOCATION:Common Street Spiritual Center\, 13 Common Street\, Natick\, 01760\, United States
CATEGORIES:Benefit,Children and Family,Community,Concert,Food,Healing,Peace and Justice
ATTACH;FMTTYPE=image/jpeg:https://commonstreet.org/wp-content/uploads/2024/01/FoodAid1.jpg
ORGANIZER;CN="Seb Pressler":MAILTO:sebpressler@gmail.com
END:VEVENT
END:VCALENDAR