BEGIN:VCALENDAR
VERSION:2.0
PRODID:-//Common Street Spiritual Center - ECPv6.15.20//NONSGML v1.0//EN
CALSCALE:GREGORIAN
METHOD:PUBLISH
X-ORIGINAL-URL:https://commonstreet.org
X-WR-CALDESC:Events for Common Street Spiritual Center
REFRESH-INTERVAL;VALUE=DURATION:PT1H
X-Robots-Tag:noindex
X-PUBLISHED-TTL:PT1H
BEGIN:VTIMEZONE
TZID:America/New_York
BEGIN:DAYLIGHT
TZOFFSETFROM:-0500
TZOFFSETTO:-0400
TZNAME:EDT
DTSTART:20230312T070000
END:DAYLIGHT
BEGIN:STANDARD
TZOFFSETFROM:-0400
TZOFFSETTO:-0500
TZNAME:EST
DTSTART:20231105T060000
END:STANDARD
BEGIN:DAYLIGHT
TZOFFSETFROM:-0500
TZOFFSETTO:-0400
TZNAME:EDT
DTSTART:20240310T070000
END:DAYLIGHT
BEGIN:STANDARD
TZOFFSETFROM:-0400
TZOFFSETTO:-0500
TZNAME:EST
DTSTART:20241103T060000
END:STANDARD
BEGIN:DAYLIGHT
TZOFFSETFROM:-0500
TZOFFSETTO:-0400
TZNAME:EDT
DTSTART:20250309T070000
END:DAYLIGHT
BEGIN:STANDARD
TZOFFSETFROM:-0400
TZOFFSETTO:-0500
TZNAME:EST
DTSTART:20251102T060000
END:STANDARD
END:VTIMEZONE
BEGIN:VEVENT
DTSTART;TZID=America/New_York:20240118T091500
DTEND;TZID=America/New_York:20240118T101500
DTSTAMP:20260423T140106
CREATED:20230909T001403Z
LAST-MODIFIED:20230909T001405Z
UID:10010936-1705569300-1705572900@commonstreet.org
SUMMARY:Conscious Kundalini Yoga
DESCRIPTION:Join Nelya for a Kundalini-inspired community class to restore spirit\, mind\, and body. We start by tuning in with breath work and mantra\, followed by a warm up and Kriya (set of Kundalini exercises). We’ll end with a relaxing meditation. Each class focuses on a unique theme\, from self love and immune support to connecting with your intuition. This class is an invitation to slow down and look inward to connect with a deeper consciousness. All levels welcome\, no experience needed.\n\n\nMembers – $11\nNon-members – $15\nTo register\, Venmo @Nelya-Binder (#6560) or email nelya@rootedsanctuary.com\nTo learn more about Nelya’s yoga\, healing\, and community work\, check out www.rootedsanctuary.com.
URL:https://commonstreet.org/event/conscious-kundalini-yoga-3/2024-01-18/
LOCATION:Sanctuary at Common Street Spiritual Center\, 13 Common Street\, Natick\, MA\, 01760\, United States
CATEGORIES:Class,Community,Healing,Spiritual
ATTACH;FMTTYPE=image/png:https://commonstreet.org/wp-content/uploads/2023/07/Common-St-Conscious-Kundalini-3.png
ORGANIZER;CN="Nelya Binder":MAILTO:nelya@rootedsanctuary.com
END:VEVENT
BEGIN:VEVENT
DTSTART;TZID=America/New_York:20240118T190000
DTEND;TZID=America/New_York:20240118T201500
DTSTAMP:20260423T140106
CREATED:20230803T162536Z
LAST-MODIFIED:20230804T160005Z
UID:10008272-1705604400-1705608900@commonstreet.org
SUMMARY:Mohanji Meditations
DESCRIPTION:The Mohanji Meditation is a powerful heart-opening guided meditation that offers release from binding patterns through love and gratitude. \nAll are welcome. No prior experience necessary.
URL:https://commonstreet.org/event/mohanji-meditations/2024-01-18/
LOCATION:Choir Room @ Common Street Spiritual Center\, 13 Common Street\, Natick\, 01760\, United States
CATEGORIES:Class,Healing,Meditation,Spiritual
ORGANIZER;CN="Soumya Thelakkad":MAILTO:mohanjifamilyma@gmail.com
END:VEVENT
BEGIN:VEVENT
DTSTART;TZID=America/New_York:20240120T170000
DTEND;TZID=America/New_York:20240120T210000
DTSTAMP:20260423T140106
CREATED:20240109T234920Z
LAST-MODIFIED:20240109T234920Z
UID:10013058-1705770000-1705784400@commonstreet.org
SUMMARY:Rite of the Womb
DESCRIPTION:THE RITE OF THE WOMB is a women’s circle that has been happening consistently every 3rd Saturday of the month at Common Street Spiritual Center – Natick. \nIn this group\, we create a safe space for women to sit with their emotions and learn about how Sacred is to be a Woman – a portal of life\, to have some joy with our sisterhood\, and to develop ourselves as spirits existing in a human body. \nAt this next gathering\, we are having Sherry as a special guest\, and she will be leading a shamanic journey for us to connect with our shadows to “overcome” them. \nfor more info please reach out @milla.dalbem or at the email contact@milladalbem.com
URL:https://commonstreet.org/event/rite-of-the-womb-2/
LOCATION:Moon Room @ Common Street Spiritual Center\, 13 Common Street\, Natick\, 01760\, United States
CATEGORIES:Community,Healing,Spiritual,Women
ATTACH;FMTTYPE=image/png:https://commonstreet.org/wp-content/uploads/2024/01/Copy-of-Cream-Elegant-Minimalist-Clean-Coming-Soon-Hijab-Product-Instagram-Post-Portrait-1080-x-1350-px.png
ORGANIZER;CN="Milla Dalbem":MAILTO:cah.anastasi@gmail.com
END:VEVENT
BEGIN:VEVENT
DTSTART;TZID=America/New_York:20240120T190000
DTEND;TZID=America/New_York:20240120T220000
DTSTAMP:20260423T140106
CREATED:20231229T022950Z
LAST-MODIFIED:20240119T192841Z
UID:10013018-1705777200-1705788000@commonstreet.org
SUMMARY:Yogic Open Mic
DESCRIPTION:Come be youuu in this intentionally loving\, divinely sacred\, and deeply spiritual community.\nThere will be…\nsaging centering meditation sound bowl healing pranayama live music\n\n~Halfway through~\nAn enlivening ecstatic dance lead by DJ Fae Bae followed by a powerful drumming circle lead by Dominic Castellano\n\nmore live music chanting poetry reading + more Oooo soo yummYYY!\n\nPlease arrive early if you would like to join in the opening meditation!\n\nSliding scale\, $20-40\, cash at door or venmo @commonstreet\n\n\nWe will have some percussive instruments available as well as yoga mats and blankets\, but please bring if you have your own drums or mats\, bolsters\, anything to be totally comfortable!\n\nOm Shanti\, Shanti\, Shanti  See you there!  Ali\, Dominic\, Jaclynn\, & Miranda
URL:https://commonstreet.org/event/yogic-open-mic-4/
LOCATION:Sanctuary at Common Street Spiritual Center\, 13 Common Street\, Natick\, MA\, 01760\, United States
CATEGORIES:Community,Healing,Meditation,Music and Arts,Spiritual,Yoga
ATTACH;FMTTYPE=image/jpeg:https://commonstreet.org/wp-content/uploads/2023/12/IMG_0658.jpeg
ORGANIZER;CN="Dominic Castellano":MAILTO:ohmknock@gmail.com
END:VEVENT
END:VCALENDAR