BEGIN:VCALENDAR
VERSION:2.0
PRODID:-//Common Street Spiritual Center - ECPv6.15.20//NONSGML v1.0//EN
CALSCALE:GREGORIAN
METHOD:PUBLISH
X-WR-CALNAME:Common Street Spiritual Center
X-ORIGINAL-URL:https://commonstreet.org
X-WR-CALDESC:Events for Common Street Spiritual Center
REFRESH-INTERVAL;VALUE=DURATION:PT1H
X-Robots-Tag:noindex
X-PUBLISHED-TTL:PT1H
BEGIN:VTIMEZONE
TZID:America/New_York
BEGIN:DAYLIGHT
TZOFFSETFROM:-0500
TZOFFSETTO:-0400
TZNAME:EDT
DTSTART:20220313T070000
END:DAYLIGHT
BEGIN:STANDARD
TZOFFSETFROM:-0400
TZOFFSETTO:-0500
TZNAME:EST
DTSTART:20221106T060000
END:STANDARD
BEGIN:DAYLIGHT
TZOFFSETFROM:-0500
TZOFFSETTO:-0400
TZNAME:EDT
DTSTART:20230312T070000
END:DAYLIGHT
BEGIN:STANDARD
TZOFFSETFROM:-0400
TZOFFSETTO:-0500
TZNAME:EST
DTSTART:20231105T060000
END:STANDARD
BEGIN:DAYLIGHT
TZOFFSETFROM:-0500
TZOFFSETTO:-0400
TZNAME:EDT
DTSTART:20240310T070000
END:DAYLIGHT
BEGIN:STANDARD
TZOFFSETFROM:-0400
TZOFFSETTO:-0500
TZNAME:EST
DTSTART:20241103T060000
END:STANDARD
END:VTIMEZONE
BEGIN:VEVENT
DTSTART;TZID=America/New_York:20231130T091500
DTEND;TZID=America/New_York:20231130T101500
DTSTAMP:20260423T190304
CREATED:20230909T001403Z
LAST-MODIFIED:20230909T001405Z
UID:10010929-1701335700-1701339300@commonstreet.org
SUMMARY:Conscious Kundalini Yoga
DESCRIPTION:Join Nelya for a Kundalini-inspired community class to restore spirit\, mind\, and body. We start by tuning in with breath work and mantra\, followed by a warm up and Kriya (set of Kundalini exercises). We’ll end with a relaxing meditation. Each class focuses on a unique theme\, from self love and immune support to connecting with your intuition. This class is an invitation to slow down and look inward to connect with a deeper consciousness. All levels welcome\, no experience needed.\n\n\nMembers – $11\nNon-members – $15\nTo register\, Venmo @Nelya-Binder (#6560) or email nelya@rootedsanctuary.com\nTo learn more about Nelya’s yoga\, healing\, and community work\, check out www.rootedsanctuary.com.
URL:https://commonstreet.org/event/conscious-kundalini-yoga-3/2023-11-30/
LOCATION:Sanctuary at Common Street Spiritual Center\, 13 Common Street\, Natick\, MA\, 01760\, United States
CATEGORIES:Class,Community,Healing,Spiritual
ATTACH;FMTTYPE=image/png:https://commonstreet.org/wp-content/uploads/2023/07/Common-St-Conscious-Kundalini-3.png
ORGANIZER;CN="Nelya Binder":MAILTO:nelya@rootedsanctuary.com
END:VEVENT
BEGIN:VEVENT
DTSTART;TZID=America/New_York:20231130T190000
DTEND;TZID=America/New_York:20231130T200000
DTSTAMP:20260423T190304
CREATED:20231024T232812Z
LAST-MODIFIED:20231025T192941Z
UID:10011587-1701370800-1701374400@commonstreet.org
SUMMARY:Rekindle The Flame
DESCRIPTION:Rekindle the flame is a yoga class with the purpose of helping you ignite the relationship between you and  your body. As any other relationship in your life your connection to your body is crucial for survival. In this class gentle slow movement along with sound vibration and frequency therapy will be combined to foster the perfect environment to ignite the flame between body\, soul and spirit. In this class we leave the mind at the door and only feel our way through the journey of enlightenment. Enjoying not only the destination but the journey along the way.
URL:https://commonstreet.org/event/rekindle-the-flame/
LOCATION:Moon Room @ Common Street Spiritual Center\, 13 Common Street\, Natick\, 01760\, United States
CATEGORIES:Community,Healing,Meditation,Spiritual,Yoga
ATTACH;FMTTYPE=image/jpeg:https://commonstreet.org/wp-content/uploads/2023/10/Wild-Free-Boundless-Event-Templates.jpg
END:VEVENT
BEGIN:VEVENT
DTSTART;TZID=America/New_York:20231130T190000
DTEND;TZID=America/New_York:20231130T201500
DTSTAMP:20260423T190304
CREATED:20230803T162536Z
LAST-MODIFIED:20230804T160005Z
UID:10008265-1701370800-1701375300@commonstreet.org
SUMMARY:Mohanji Meditations
DESCRIPTION:The Mohanji Meditation is a powerful heart-opening guided meditation that offers release from binding patterns through love and gratitude. \nAll are welcome. No prior experience necessary.
URL:https://commonstreet.org/event/mohanji-meditations/2023-11-30/
LOCATION:Choir Room @ Common Street Spiritual Center\, 13 Common Street\, Natick\, 01760\, United States
CATEGORIES:Class,Healing,Meditation,Spiritual
ORGANIZER;CN="Soumya Thelakkad":MAILTO:mohanjifamilyma@gmail.com
END:VEVENT
BEGIN:VEVENT
DTSTART;TZID=America/New_York:20231202T101500
DTEND;TZID=America/New_York:20231202T114500
DTSTAMP:20260423T190304
CREATED:20231128T001537Z
LAST-MODIFIED:20231128T001537Z
UID:10012805-1701512100-1701517500@commonstreet.org
SUMMARY:Morning yoga flow with live harp
DESCRIPTION:Dear Friends\,\nWe are happy to invite you to join the morning yoga flow practice with live music. Come to stretch\, to breathe\, to connect with yourself and others\, come to be carried by beautiful music and harmonies.\nDecember 2nd at 10:15 AM at Common Street Spiritual Center\nDoors will open at 10:00 AM. Please be on time.\nBring a yoga mat\, water bottle\, and blanket for relaxation. Wear comfortable preferably light or colorful clothes (no black please).\nTicket Link: https://souldance.ticketleap.com/yogamusic/\nPrice- $40 for CSSC Members: $35\nPlease confirm your attendance and register by Nov 28th. We would appreciate it if you reserve your spot a bit in advance.\nBlessings of harmony\,\nVolga
URL:https://commonstreet.org/event/morning-yoga-flow-with-live-harp/
LOCATION:Common Street Spiritual Center\, 13 Common Street\, Natick\, 01760\, United States
CATEGORIES:Healing,Meditation,Music and Arts,Yoga
ATTACH;FMTTYPE=image/jpeg:https://commonstreet.org/wp-content/uploads/2023/11/morning-yoga-flow.jpg
ORGANIZER;CN="Volga Bo":MAILTO:13souldance@gmail.com
END:VEVENT
BEGIN:VEVENT
DTSTART;TZID=America/New_York:20231202T190000
DTEND;TZID=America/New_York:20231202T220000
DTSTAMP:20260423T190304
CREATED:20231111T181848Z
LAST-MODIFIED:20231113T121800Z
UID:10011921-1701543600-1701554400@commonstreet.org
SUMMARY:Yogic Open Mic
DESCRIPTION:Come be youuu in this intentionally loving\, divinely sacred\, and deeply spiritual community.\nThere will be…\nsaging centering meditation sound bowl healing pranayama live music\n\n~Halfway through~\nAn enlivening ecstatic dance lead by DJ Fae Bae followed by a powerful drumming circle lead by Dominic Castellano\n\nmore live music chanting poetry reading + more Oooo soo yummYYY!\n\nPlease arrive early if you would like to join in the opening meditation!\n\nSliding scale\, $20-40\, cash at door or venmo @commonstreet\n\n\nWe will have some percussive instruments available as well as yoga mats and blankets\, but please bring if you have your own drums or mats\, bolsters\, anything to be totally comfortable!\n\nOm Shanti\, Shanti\, Shanti  See you there!  Ali\, Dominic\, Jaclynn\, & Miranda
URL:https://commonstreet.org/event/yogic-open-mic-3/
LOCATION:Sanctuary at Common Street Spiritual Center\, 13 Common Street\, Natick\, MA\, 01760\, United States
CATEGORIES:Community,Healing,Meditation,Music and Arts,Spiritual,Yoga
ATTACH;FMTTYPE=image/png:https://commonstreet.org/wp-content/uploads/2023/11/Yogic-Open-Mic-Dec-2-Square1.png
ORGANIZER;CN="Dominic Castellano":MAILTO:ohmknock@gmail.com
END:VEVENT
BEGIN:VEVENT
DTSTART;TZID=America/New_York:20231203T130000
DTEND;TZID=America/New_York:20231203T160000
DTSTAMP:20260423T190304
CREATED:20231013T115728Z
LAST-MODIFIED:20231016T150846Z
UID:10011291-1701608400-1701619200@commonstreet.org
SUMMARY:SoulCollage® for Personal Growth and Development
DESCRIPTION:SoulCollage® is a fun collage art form using your imagination\, creativity and intuition. It is an amazing process for accessing the many sides of your personality. You will create a series of collaged cards using found images from magazines or photos from which you will then journal and share your insights. SoulCollage® has proven to be a valuable tool for spiritual and personal growth! It’s FUN and no artistic experience is necessary! Collaging helps cultivate peace and relaxation of body\, mind\, and spirit. It provides an opportunity to improve your health\, relationships and overall sense of wellbeing. SoulCollage® is a powerful tool that can help one achieve optimal growth and development by:\n•	Developing new and creative solutions to life’s difficulties.\n•	Fostering respect\, empathy\, and acceptance for self and others.\n•	Learning to experience and express emotions in a healthy manner.\n•	Providing insight in how to prevent or solve inner conflicts and emotional struggles.\n•	Improving self-worth and confidence in one’s abilities.\nTo register\, Contact Nadine Lucas at nadineelucas@gmail.com
URL:https://commonstreet.org/event/soulcollage-for-personal-growth-and-development/
LOCATION:Common Street Spiritual Center\, 13 Common Street\, Natick\, 01760\, United States
CATEGORIES:Community,Healing,Music and Arts,Spiritual,Workshop
ATTACH;FMTTYPE=image/jpeg:https://commonstreet.org/wp-content/uploads/2023/10/Heart-chakra-Nadine.2-1.jpg
ORGANIZER;CN="Nadine Lucas":MAILTO:nadineelucas@gmail.com
END:VEVENT
BEGIN:VEVENT
DTSTART;TZID=America/New_York:20231203T160000
DTEND;TZID=America/New_York:20231203T180000
DTSTAMP:20260423T190304
CREATED:20231120T191850Z
LAST-MODIFIED:20231120T192310Z
UID:10012522-1701619200-1701626400@commonstreet.org
SUMMARY:Introduction to Shamanic Journeying: Connect with Your Power Animal
DESCRIPTION:Introduction to Shamanic Journeying:\nConnect with Your Power Animal \n“Shamanic journeying is the inner art of traveling to the invisible worlds beyond ordinary reality in order to retrieve information for change in any area of our lives\, from spirituality and health to work and relationships” (Sandra Ingerman\, 2007). \nPower animals are an elemental component of shamanism and all shamans work with power animals to help bring about spiritual\, physical and emotional healing at the soul or spirit level. One or more power animals may help us throughout our lives. All of us have access to our power animals and our power animals want to work with us! \nIn this workshop\, you will be guided to independently travel to the shamanic lower world through a meditative journeying state and meet your power animal. We will also discover the various ways to work with power animals in daily life and to assist in understanding specific intentions or gifts they have to offer. \nIt is recommended you bring any items that will help you descend into this state of consciousness. Such materials can include an eye covering\, pillow\, blanket\, mat\, and wearing comfortable clothing. Cushions\, yoga mats\, and blankets will be available. \nIn your shamanic journey space\, you may gain information from the lower world spirits and your power animal. Bringing a journal can be valuable to record the messages received for further integration and referencing. \nNo prior shamanic or journeying experience necessary. All levels of shamanic practice are welcome! Email Sherry @ sherrysolchnp@gmail.com with questions. \nSpace limited to 12 participants\, preregistration required by following this link: https://forms.gle/bjvX7HqCAhXo2TK38 \nExchange $30
URL:https://commonstreet.org/event/introduction-to-shamanic-journeying-connect-with-your-power-animal/
LOCATION:Studio @ Common Street\, 13 Common Street\, Natick\, MA\, 01760\, United States
CATEGORIES:Community,Cultural,Healing,Meditation,Spiritual,Workshop
ATTACH;FMTTYPE=application/pdf:https://commonstreet.org/wp-content/uploads/2023/11/Power-Animal-Journey.pdf
ORGANIZER;CN="Colleen Puzas":MAILTO:puzasc@gmail.com
END:VEVENT
BEGIN:VEVENT
DTSTART;TZID=America/New_York:20231203T160000
DTEND;TZID=America/New_York:20231203T190000
DTSTAMP:20260423T190304
CREATED:20231113T115824Z
LAST-MODIFIED:20231113T115824Z
UID:10011926-1701619200-1701630000@commonstreet.org
SUMMARY:Plant-Based Meal Prep Workshop and Dinner
DESCRIPTION:Plant-Based Meal Prep workshop and Dinner\nJoin us for a fun and informative evening at our Plant-Based Meal Prep Workshop and Dinner! Discover the delicious world of plant-based cooking and learn how to create nutritious meals that are good for you and the planet. Plus take home 5 meals to enjoy throughout the week! \nDuring this hands-on workshop\, chef Amanda Short will guide you through the process of preparing flavorful plant-based dishes from scratch. Learn essential cooking techniques\, explore a variety of ingredients\, and gain practical tips for incorporating more plant-based meals into your daily routine.\nAfter the workshop\, we’ll sit down together to enjoy the fruits of our labor. Indulge in a delicious dinner where you can savor the flavors of the dishes you helped create while connecting with like-minded individuals who share your passion for healthy and sustainable eating.\nWhether you’re a seasoned plant-based eater or just curious about incorporating more plant-based meals into your diet\, this workshop is perfect for you. Don’t miss out on this opportunity to expand your culinary skills and enjoy a mouthwatering plant-based feast!
URL:https://commonstreet.org/event/plant-based-meal-prep-workshop-and-dinner-2/2023-12-03/
LOCATION:kitchen\, 15 Common Street\, Natick\, MA
CATEGORIES:Community,Food,Healing,Small Group,Workshop
ATTACH;FMTTYPE=image/png:https://commonstreet.org/wp-content/uploads/2023/11/HEALTHY-FOOD-FOR-YOU-2.png
ORGANIZER;CN="Amanda Short":MAILTO:kitchenstudioboston@gmail.com
END:VEVENT
END:VCALENDAR