BEGIN:VCALENDAR
VERSION:2.0
PRODID:-//Common Street Spiritual Center - ECPv6.15.20//NONSGML v1.0//EN
CALSCALE:GREGORIAN
METHOD:PUBLISH
X-WR-CALNAME:Common Street Spiritual Center
X-ORIGINAL-URL:https://commonstreet.org
X-WR-CALDESC:Events for Common Street Spiritual Center
REFRESH-INTERVAL;VALUE=DURATION:PT1H
X-Robots-Tag:noindex
X-PUBLISHED-TTL:PT1H
BEGIN:VTIMEZONE
TZID:America/New_York
BEGIN:DAYLIGHT
TZOFFSETFROM:-0500
TZOFFSETTO:-0400
TZNAME:EDT
DTSTART:20220313T070000
END:DAYLIGHT
BEGIN:STANDARD
TZOFFSETFROM:-0400
TZOFFSETTO:-0500
TZNAME:EST
DTSTART:20221106T060000
END:STANDARD
BEGIN:DAYLIGHT
TZOFFSETFROM:-0500
TZOFFSETTO:-0400
TZNAME:EDT
DTSTART:20230312T070000
END:DAYLIGHT
BEGIN:STANDARD
TZOFFSETFROM:-0400
TZOFFSETTO:-0500
TZNAME:EST
DTSTART:20231105T060000
END:STANDARD
BEGIN:DAYLIGHT
TZOFFSETFROM:-0500
TZOFFSETTO:-0400
TZNAME:EDT
DTSTART:20240310T070000
END:DAYLIGHT
BEGIN:STANDARD
TZOFFSETFROM:-0400
TZOFFSETTO:-0500
TZNAME:EST
DTSTART:20241103T060000
END:STANDARD
END:VTIMEZONE
BEGIN:VEVENT
DTSTART;TZID=America/New_York:20231123T091500
DTEND;TZID=America/New_York:20231123T101500
DTSTAMP:20260425T090714
CREATED:20231120T204212Z
LAST-MODIFIED:20231120T204213Z
UID:10010928-1700730900-1700734500@commonstreet.org
SUMMARY:Conscious Kundalini Yoga
DESCRIPTION:Join Nelya for a Kundalini-inspired community class to restore spirit\, mind\, and body. We start by tuning in with breath work and mantra\, followed by a warm up and Kriya (set of Kundalini exercises). We’ll end with a relaxing meditation. Each class focuses on a unique theme\, from self love and immune support to connecting with your intuition. This class is an invitation to slow down and look inward to connect with a deeper consciousness. All levels welcome\, no experience needed.\n\n\nMembers – $11\nNon-members – $15\nTo register\, Venmo @Nelya-Binder (#6560) or email nelya@rootedsanctuary.com\nTo learn more about Nelya’s yoga\, healing\, and community work\, check out www.rootedsanctuary.com.
URL:https://commonstreet.org/event/conscious-kundalini-yoga-3-2/
LOCATION:Sanctuary at Common Street Spiritual Center\, 13 Common Street\, Natick\, MA\, 01760\, United States
CATEGORIES:Class,Community,Healing,Spiritual
ATTACH;FMTTYPE=image/png:https://commonstreet.org/wp-content/uploads/2023/07/Common-St-Conscious-Kundalini-3.png
ORGANIZER;CN="Nelya Binder":MAILTO:nelya@rootedsanctuary.com
END:VEVENT
BEGIN:VEVENT
DTSTART;TZID=America/New_York:20231123T190000
DTEND;TZID=America/New_York:20231123T201500
DTSTAMP:20260425T090714
CREATED:20230803T162536Z
LAST-MODIFIED:20230804T160005Z
UID:10008264-1700766000-1700770500@commonstreet.org
SUMMARY:Mohanji Meditations
DESCRIPTION:The Mohanji Meditation is a powerful heart-opening guided meditation that offers release from binding patterns through love and gratitude. \nAll are welcome. No prior experience necessary.
URL:https://commonstreet.org/event/mohanji-meditations/2023-11-23/
LOCATION:Choir Room @ Common Street Spiritual Center\, 13 Common Street\, Natick\, 01760\, United States
CATEGORIES:Class,Healing,Meditation,Spiritual
ORGANIZER;CN="Soumya Thelakkad":MAILTO:mohanjifamilyma@gmail.com
END:VEVENT
BEGIN:VEVENT
DTSTART;TZID=America/New_York:20231125T190000
DTEND;TZID=America/New_York:20231125T210000
DTSTAMP:20260425T090714
CREATED:20231120T135447Z
LAST-MODIFIED:20231120T135447Z
UID:10012519-1700938800-1700946000@commonstreet.org
SUMMARY:Deep Connection Mixer - An Evening Of Unforgettable Connections
DESCRIPTION:Have you ever attended a meetup or some other social gathering and gotten stuck in “small talk” that went nowhere? \nAre you tired of polite\, boring conversations that don’t light a spark and make you really feel something inside? \nIf you answered “yes” to either of these questions\, then you’re going to love this. \nThis is a unique kind of social event where the focus is on playing games that create interesting conversations and profound connections with some warm and amazing people. \nBy participating in these eye-opening (and heart-opening) exercises\, you’ll not only have a lot of fun\, but you’ll learn a so much about yourself and the people around you. \nAnd on a practical level\, you’ll also learn tools that you can use in your everyday life to create deeper connections with others. \nWHY COME TO A DEEP CONNECTION MIXER? \nYou’ll discover how you are truly experienced by others in fun\, eye-opening\, and compassionate ways. \nYou’ll learn to navigate those moments when you’re not sure what you’re going to say next\, and surprise yourself at how interesting and creative you really are when you stop trying to manage how others see you. \nYou’ll learn how to share yourself more authentically in conversation\, and that will serve you in other areas of your life as well. \nRather than having a night of boring small talk\, you’ll actually get real with the people you meet… giving you the kind of deep\, connected experience we often hope for at gatherings\, but rarely experience. \nAnd you’ll have a lot of fun! \nDoes that sound like music to your ears? This is going to be very different from what you typically experience at a meetup event. I’m excited to create this together with you! \nFREQUENTLY ASKED QUESTIONS \nWhere is it? – The event is held at the Common Street Spiritual Center in Natick\, MA which is a beautiful facility for an event like this. \nWhat time? – We start promptly at 7:00pm and go until 9:00pm (with a break in the middle). Please plan on arriving by 6:45pm so you have time to settle in and meet the other participants. \nHow much? – I wanted to keep this affordable for everyone\, so it’s only $20 to attend. That is very inexpensive for a facilitated gathering where you are guaranteed to meet great people and actually have meaningful connections with them. \nI’m looking forward to seeing you there. \nWarmly\, \nJason
URL:https://commonstreet.org/event/deep-connection-mixer-an-evening-of-unforgettable-connections/
LOCATION:Sanctuary at Common Street Spiritual Center\, 13 Common Street\, Natick\, MA\, 01760\, United States
CATEGORIES:Dialogue,Healing,Other,Workshop
ATTACH;FMTTYPE=image/jpeg:https://commonstreet.org/wp-content/uploads/2023/11/DCM.jpeg
ORGANIZER;CN="Jason McGarva":MAILTO:info@commonstreet.org
END:VEVENT
BEGIN:VEVENT
DTSTART;TZID=America/New_York:20231126T123000
DTEND;TZID=America/New_York:20231126T140000
DTSTAMP:20260425T090714
CREATED:20231120T160010Z
LAST-MODIFIED:20231120T161125Z
UID:10012520-1701001800-1701007200@commonstreet.org
SUMMARY:Community Dialogue on Israel and Gaza
DESCRIPTION:We need each other. In this time of war and humanitarian crisis in Israel and Gaza\, we are opening an inclusive and sensitive space for dialogue and listening.\n\nUsing a sharing circle format\, we will share our thoughts and feelings\, and listen to each other. The space will be free of hate speech\, courteous\, and respectful of all.\n\nOur goal is to learn from each other\, see how we can support each other in these times\, and find ways to work together to create a more peaceful world.
URL:https://commonstreet.org/event/community-dialogue-on-israel-and-gaza/
LOCATION:Common Street Spiritual Center\, 13 Common Street\, Natick\, 01760\, United States
CATEGORIES:Community,Dialogue,Healing,Peace and Justice
ATTACH;FMTTYPE=image/png:https://commonstreet.org/wp-content/uploads/2023/11/Community-Dialogue-112623.png
ORGANIZER;CN="Ian Mevorach":MAILTO:ian@commonstreet.org
END:VEVENT
BEGIN:VEVENT
DTSTART;TZID=America/New_York:20231126T160000
DTEND;TZID=America/New_York:20231126T190000
DTSTAMP:20260425T090714
CREATED:20231113T115824Z
LAST-MODIFIED:20231113T115824Z
UID:10011925-1701014400-1701025200@commonstreet.org
SUMMARY:Plant-Based Meal Prep Workshop and Dinner
DESCRIPTION:Plant-Based Meal Prep workshop and Dinner\nJoin us for a fun and informative evening at our Plant-Based Meal Prep Workshop and Dinner! Discover the delicious world of plant-based cooking and learn how to create nutritious meals that are good for you and the planet. Plus take home 5 meals to enjoy throughout the week! \nDuring this hands-on workshop\, chef Amanda Short will guide you through the process of preparing flavorful plant-based dishes from scratch. Learn essential cooking techniques\, explore a variety of ingredients\, and gain practical tips for incorporating more plant-based meals into your daily routine.\nAfter the workshop\, we’ll sit down together to enjoy the fruits of our labor. Indulge in a delicious dinner where you can savor the flavors of the dishes you helped create while connecting with like-minded individuals who share your passion for healthy and sustainable eating.\nWhether you’re a seasoned plant-based eater or just curious about incorporating more plant-based meals into your diet\, this workshop is perfect for you. Don’t miss out on this opportunity to expand your culinary skills and enjoy a mouthwatering plant-based feast!
URL:https://commonstreet.org/event/plant-based-meal-prep-workshop-and-dinner-2/2023-11-26/
LOCATION:kitchen\, 15 Common Street\, Natick\, MA
CATEGORIES:Community,Food,Healing,Small Group,Workshop
ATTACH;FMTTYPE=image/png:https://commonstreet.org/wp-content/uploads/2023/11/HEALTHY-FOOD-FOR-YOU-2.png
ORGANIZER;CN="Amanda Short":MAILTO:kitchenstudioboston@gmail.com
END:VEVENT
END:VCALENDAR