BEGIN:VCALENDAR
VERSION:2.0
PRODID:-//Common Street Spiritual Center - ECPv6.15.20//NONSGML v1.0//EN
CALSCALE:GREGORIAN
METHOD:PUBLISH
X-WR-CALNAME:Common Street Spiritual Center
X-ORIGINAL-URL:https://commonstreet.org
X-WR-CALDESC:Events for Common Street Spiritual Center
REFRESH-INTERVAL;VALUE=DURATION:PT1H
X-Robots-Tag:noindex
X-PUBLISHED-TTL:PT1H
BEGIN:VTIMEZONE
TZID:America/New_York
BEGIN:DAYLIGHT
TZOFFSETFROM:-0500
TZOFFSETTO:-0400
TZNAME:EDT
DTSTART:20220313T070000
END:DAYLIGHT
BEGIN:STANDARD
TZOFFSETFROM:-0400
TZOFFSETTO:-0500
TZNAME:EST
DTSTART:20221106T060000
END:STANDARD
BEGIN:DAYLIGHT
TZOFFSETFROM:-0500
TZOFFSETTO:-0400
TZNAME:EDT
DTSTART:20230312T070000
END:DAYLIGHT
BEGIN:STANDARD
TZOFFSETFROM:-0400
TZOFFSETTO:-0500
TZNAME:EST
DTSTART:20231105T060000
END:STANDARD
BEGIN:DAYLIGHT
TZOFFSETFROM:-0500
TZOFFSETTO:-0400
TZNAME:EDT
DTSTART:20240310T070000
END:DAYLIGHT
BEGIN:STANDARD
TZOFFSETFROM:-0400
TZOFFSETTO:-0500
TZNAME:EST
DTSTART:20241103T060000
END:STANDARD
END:VTIMEZONE
BEGIN:VEVENT
DTSTART;TZID=America/New_York:20231109T091500
DTEND;TZID=America/New_York:20231109T101500
DTSTAMP:20260425T090723
CREATED:20230909T001403Z
LAST-MODIFIED:20230909T001405Z
UID:10010926-1699521300-1699524900@commonstreet.org
SUMMARY:Conscious Kundalini Yoga
DESCRIPTION:Join Nelya for a Kundalini-inspired community class to restore spirit\, mind\, and body. We start by tuning in with breath work and mantra\, followed by a warm up and Kriya (set of Kundalini exercises). We’ll end with a relaxing meditation. Each class focuses on a unique theme\, from self love and immune support to connecting with your intuition. This class is an invitation to slow down and look inward to connect with a deeper consciousness. All levels welcome\, no experience needed.\n\n\nMembers – $11\nNon-members – $15\nTo register\, Venmo @Nelya-Binder (#6560) or email nelya@rootedsanctuary.com\nTo learn more about Nelya’s yoga\, healing\, and community work\, check out www.rootedsanctuary.com.
URL:https://commonstreet.org/event/conscious-kundalini-yoga-3/2023-11-09/
LOCATION:Sanctuary at Common Street Spiritual Center\, 13 Common Street\, Natick\, MA\, 01760\, United States
CATEGORIES:Class,Community,Healing,Spiritual
ATTACH;FMTTYPE=image/png:https://commonstreet.org/wp-content/uploads/2023/07/Common-St-Conscious-Kundalini-3.png
ORGANIZER;CN="Nelya Binder":MAILTO:nelya@rootedsanctuary.com
END:VEVENT
BEGIN:VEVENT
DTSTART;TZID=America/New_York:20231109T190000
DTEND;TZID=America/New_York:20231109T201500
DTSTAMP:20260425T090723
CREATED:20230803T162536Z
LAST-MODIFIED:20230804T160005Z
UID:10013970-1699556400-1699560900@commonstreet.org
SUMMARY:Mohanji Meditations
DESCRIPTION:The Mohanji Meditation is a powerful heart-opening guided meditation that offers release from binding patterns through love and gratitude. \nAll are welcome. No prior experience necessary.
URL:https://commonstreet.org/event/mohanji-meditations/2023-11-09/
LOCATION:Choir Room @ Common Street Spiritual Center\, 13 Common Street\, Natick\, 01760\, United States
CATEGORIES:Class,Healing,Meditation,Spiritual
ORGANIZER;CN="Soumya Thelakkad":MAILTO:mohanjifamilyma@gmail.com
END:VEVENT
BEGIN:VEVENT
DTSTART;TZID=America/New_York:20231109T190000
DTEND;TZID=America/New_York:20231109T201500
DTSTAMP:20260425T090723
CREATED:20231017T171950Z
LAST-MODIFIED:20231017T171951Z
UID:10008262-1699556400-1699560900@commonstreet.org
SUMMARY:Mohanji Meditations (Virtual)
DESCRIPTION:The Mohanji Meditation is a powerful heart-opening guided meditation that offers release from binding patterns through love and gratitude. \nAll are welcome. No prior experience necessary. \nFor 10/19\, 10/26\, 11/2\, 11/9\, 11/16\, 11/23\, sessions will be held online at the link below: \nWhen:Every Thursday\nTime: 7pm\nZoom Meeting\nhttps://us02web.zoom.us/j/85141271883?pwd=NFkrM2VNR1pnM3h2dUtSY1EwUlMwUT09\n\nMeeting ID: 851 4127 1883\nPasscode: mohanji
URL:https://commonstreet.org/event/mohanji-meditations-7/
LOCATION:Choir Room @ Common Street Spiritual Center\, 13 Common Street\, Natick\, 01760\, United States
CATEGORIES:Class,Healing,Meditation,Spiritual
ORGANIZER;CN="Soumya Thelakkad":MAILTO:mohanjifamilyma@gmail.com
END:VEVENT
BEGIN:VEVENT
DTSTART;TZID=America/New_York:20231110T183000
DTEND;TZID=America/New_York:20231110T203000
DTSTAMP:20260425T090723
CREATED:20231004T163910Z
LAST-MODIFIED:20231111T010805Z
UID:10011280-1699641000-1699648200@commonstreet.org
SUMMARY:Community Herbal Tea Ceremony
DESCRIPTION:Description: The world around us is abundant with plants waiting to share their medicine and gifts with us. Join this open-hearted community in connecting with herbal allies using our senses\, emotions\, and spirit. We will come together in circle for an opening meditation\, herbal education\, tea ceremony with music\, and sharing. You will learn about plant energetics and medicinal qualities while connecting with the plants on a deeper\, spiritual level through the ceremony. Please bring a journal if you wish. Plants are organically grown or locally harvested in a sustainable way.\n\n**Space limited to 13\, so please register in advance**\n\n\nDonation: Members: $20-$35\, Non-Members: $30-$45. Energy exchange available for those with financial constraints ~ just reach out to nelya@rootedsanctuary.com.\n\n\nTo register: Please Venmo your donation to @Nelya-Binder to confirm your space. If you have any questions or do not have Venmo\, feel free to send an email to nelya@rootedsanctuary.com.\n \nAbout Nelya: Nelya is a wellbeing coach\, herbalist\, certified yoga teacher\, and energy medicine practitioner. After spending years as a corporate attorney experiencing disconnect between spirit\, mind\, and body\, Nelya followed her purpose to empower people to be their own greatest healers. Nelya’s mission is to guide others towards an awakened and healthful life with energy medicine\, herbs\, sovereign wellness tools\, and meditation. Nelya’s current 1:1 practice focuses primarily on sovereign women’s care\, from cycle wellbeing to fertility. To learn more about Nelya and her medicine\, visit www.rootedsanctuary.com or follow her on Instagram ~ @rooted.with.nelya.
URL:https://commonstreet.org/event/community-herbal-tea-ceremony-3/
LOCATION:Moon Room @ Common Street Spiritual Center\, 13 Common Street\, Natick\, 01760\, United States
CATEGORIES:Community,Healing,Meditation,Spiritual
ATTACH;FMTTYPE=image/png:https://commonstreet.org/wp-content/uploads/2023/10/Community-Herbal-Tea-Ceremony-5.png
ORGANIZER;CN="Nelya Binder":MAILTO:nelya@rootedsanctuary.com
END:VEVENT
BEGIN:VEVENT
DTSTART;TZID=America/New_York:20231111T103000
DTEND;TZID=America/New_York:20231111T120000
DTSTAMP:20260425T090723
CREATED:20231025T193057Z
LAST-MODIFIED:20231025T193057Z
UID:10011586-1699698600-1699704000@commonstreet.org
SUMMARY:Joyful Warrior: Self-Care & Wild Wellness Circle
DESCRIPTION:Come in cozy clothes for a rejuvenating self-care session and leave feeling uplifted and supported in your self-care journey. \nPopularized self-care seems to be all about buying things and sitting in a bathtub\, but this workshop goes into holistic\, sustainable\, and new approaches to self-care inspired by listening to your specific needs and Wild Wellness practices for wellness and wholeness. \nOur circle consists of an opening grounding practice and a brief lecture that flows into open sharing.
URL:https://commonstreet.org/event/joyful-warrior-self-care-wild-wellness-circle/
LOCATION:Meeting Room of CSSC
CATEGORIES:Benefit,Community,Dialogue,Healing,Meditation,Meeting,Workshop
ATTACH;FMTTYPE=image/png:https://commonstreet.org/wp-content/uploads/2023/10/Connect-with-Yourself-Natures-Wisdom-Instagram-Post-2.png
ORGANIZER;CN="SaraKunz- Joyful Warrior":MAILTO:sara@sarakunz.com
END:VEVENT
BEGIN:VEVENT
DTSTART;TZID=America/New_York:20231111T140000
DTEND;TZID=America/New_York:20231111T170000
DTSTAMP:20260425T090723
CREATED:20231024T021202Z
LAST-MODIFIED:20231107T031758Z
UID:10011917-1699711200-1699722000@commonstreet.org
SUMMARY:Skills for Bridging the Divide a Braver Angels Workshop
DESCRIPTION:In our current polarized political environment\, many people avoid or dread political conversations with friends or family members whose politics differ from their own. They worry\, rightly so\, that any attempts at political discussions will devolve into arguments and acrimony\, and result in hurt feelings or anger. \nBraver Angels Skills for Bridging the Divide Workshops teach skills for having respectful conversations that clarify differences\, search for common ground\, and affirm the importance of the relationship. They also give participants a safe environment to practice those skills. \nThis workshop is approximately 2 ½ hours long.
URL:https://commonstreet.org/event/skills-for-bridging-the-divide-a-braver-angels-workshop/
CATEGORIES:Dialogue,Healing,Peace and Justice,Workshop
ORGANIZER;CN="Julien":MAILTO:lafleur.julien@gmail.com
END:VEVENT
BEGIN:VEVENT
DTSTART;TZID=America/New_York:20231111T163000
DTEND;TZID=America/New_York:20231111T183000
DTSTAMP:20260425T090723
CREATED:20231103T011727Z
LAST-MODIFIED:20231107T013850Z
UID:10011913-1699720200-1699727400@commonstreet.org
SUMMARY:Group Healing Goddess Circle
DESCRIPTION:What is a Group Healing Goddess Circle?\nGroup healings are powerful opportunities to clear and release issues that participants share collectively. Each group healing is different\, since Spirit determines what we address. Sometimes\, we work deeply to release an issue like fear held in the body. At other times\, Spirit upgrades our energy system\, giving us tools to help others. The healings are transformative and support our awakening. Usually\, group healings last 45-60 minutes. Participants are welcome to ask for support with a specific issue beforehand. After the healing\, we meditate in the stillness. Finally\, those who are moved are invited to share their experiences. \nHow are the Healings Transmitted?\nDiana leads group healings with help from Spirit\, the Arenal Volcano\, Jaguar energy\, and the Archangels. \nDiana Phillips- is a gifted practitioner who has worked in the healing arts since 2004. In the last few years\, Spirit has given her a very strong set of healing energies that she uses to release issues of our physical\, mental\,  emotional bodies\, past lives\, and ancestors.
URL:https://commonstreet.org/event/group-healing-goddess-circle/
LOCATION:Common Street Spiritual Center\, 13 Common Street\, Natick\, 01760\, United States
CATEGORIES:Healing,Meditation,Spiritual,Women
END:VEVENT
BEGIN:VEVENT
DTSTART;TZID=America/New_York:20231112T160000
DTEND;TZID=America/New_York:20231112T190000
DTSTAMP:20260425T090724
CREATED:20231113T115824Z
LAST-MODIFIED:20231113T115824Z
UID:10011923-1699804800-1699815600@commonstreet.org
SUMMARY:Plant-Based Meal Prep Workshop and Dinner
DESCRIPTION:Plant-Based Meal Prep workshop and Dinner\nJoin us for a fun and informative evening at our Plant-Based Meal Prep Workshop and Dinner! Discover the delicious world of plant-based cooking and learn how to create nutritious meals that are good for you and the planet. Plus take home 5 meals to enjoy throughout the week! \nDuring this hands-on workshop\, chef Amanda Short will guide you through the process of preparing flavorful plant-based dishes from scratch. Learn essential cooking techniques\, explore a variety of ingredients\, and gain practical tips for incorporating more plant-based meals into your daily routine.\nAfter the workshop\, we’ll sit down together to enjoy the fruits of our labor. Indulge in a delicious dinner where you can savor the flavors of the dishes you helped create while connecting with like-minded individuals who share your passion for healthy and sustainable eating.\nWhether you’re a seasoned plant-based eater or just curious about incorporating more plant-based meals into your diet\, this workshop is perfect for you. Don’t miss out on this opportunity to expand your culinary skills and enjoy a mouthwatering plant-based feast!
URL:https://commonstreet.org/event/plant-based-meal-prep-workshop-and-dinner-2/2023-11-12/
LOCATION:kitchen\, 15 Common Street\, Natick\, MA
CATEGORIES:Community,Food,Healing,Small Group,Workshop
ATTACH;FMTTYPE=image/png:https://commonstreet.org/wp-content/uploads/2023/11/HEALTHY-FOOD-FOR-YOU-2.png
ORGANIZER;CN="Amanda Short":MAILTO:kitchenstudioboston@gmail.com
END:VEVENT
END:VCALENDAR