BEGIN:VCALENDAR
VERSION:2.0
PRODID:-//Common Street Spiritual Center - ECPv6.15.20//NONSGML v1.0//EN
CALSCALE:GREGORIAN
METHOD:PUBLISH
X-WR-CALNAME:Common Street Spiritual Center
X-ORIGINAL-URL:https://commonstreet.org
X-WR-CALDESC:Events for Common Street Spiritual Center
REFRESH-INTERVAL;VALUE=DURATION:PT1H
X-Robots-Tag:noindex
X-PUBLISHED-TTL:PT1H
BEGIN:VTIMEZONE
TZID:America/New_York
BEGIN:DAYLIGHT
TZOFFSETFROM:-0500
TZOFFSETTO:-0400
TZNAME:EDT
DTSTART:20230312T070000
END:DAYLIGHT
BEGIN:STANDARD
TZOFFSETFROM:-0400
TZOFFSETTO:-0500
TZNAME:EST
DTSTART:20231105T060000
END:STANDARD
BEGIN:DAYLIGHT
TZOFFSETFROM:-0500
TZOFFSETTO:-0400
TZNAME:EDT
DTSTART:20240310T070000
END:DAYLIGHT
BEGIN:STANDARD
TZOFFSETFROM:-0400
TZOFFSETTO:-0500
TZNAME:EST
DTSTART:20241103T060000
END:STANDARD
BEGIN:DAYLIGHT
TZOFFSETFROM:-0500
TZOFFSETTO:-0400
TZNAME:EDT
DTSTART:20250309T070000
END:DAYLIGHT
BEGIN:STANDARD
TZOFFSETFROM:-0400
TZOFFSETTO:-0500
TZNAME:EST
DTSTART:20251102T060000
END:STANDARD
END:VTIMEZONE
BEGIN:VEVENT
DTSTART;TZID=America/New_York:20241207T090000
DTEND;TZID=America/New_York:20241207T120000
DTSTAMP:20260422T073914
CREATED:20241206T154953Z
LAST-MODIFIED:20241206T154953Z
UID:10018602-1733562000-1733572800@commonstreet.org
SUMMARY:The Uncommon Cafe at the Farmer's Market
DESCRIPTION:Every Saturday 9am-12pm \nStart your weekend with us at the Farmer’s Market and enjoy the unique offerings of The Uncommon Cafe! \nMenu Highlights: \nCoconut Maple Coffee: A harmonious blend of coconut oil\, Vermont maple syrup\, cinnamon\, ginger\, and vanilla for a warm and inviting flavor. \nCeremonial Cacao: A rich\, heart-opening drink infused with cinnamon\, ginger\, and vanilla—perfect for a mindful and nourishing start to your day.\nWhat Else to Expect: \nSpecialty Goods: Browse our collection of Palo Santo\, Sage\, and freshly restocked 1lb ceremonial cacao. \nLocal Treats: Discover new chocolate creations from Prophecy Chocolate\, including Classic Maple and Wild New England bars\, crafted in Hardwick\, VT. \nCoffee Made with Love & Intention: Every cup we brew is a personal experience. We ask what intention you’d like to set for your day and infuse it into your drink as we pour it—making every sip as meaningful as it is delicious. \nNot Sure About Our Unique Coffee? We get it! If you’re on the fence\, we’re happy to offer samples of our Coconut Maple Coffee so you can experience the flavor before committing. \nLet’s make Saturdays uncommon together!
URL:https://commonstreet.org/event/the-uncommon-cafe-at-the-farmers-market/2024-12-07/
LOCATION:Sanctuary Lobby @ Common Street Spiritual Center
CATEGORIES:Community,Cultural,Food,Healing,Spiritual
ATTACH;FMTTYPE=image/jpeg:https://commonstreet.org/wp-content/uploads/2024/12/Uncommon-.jpeg
ORGANIZER;CN="Evan Schlosser":MAILTO:evanschlossercontact@gmail.com
END:VEVENT
BEGIN:VEVENT
DTSTART;TZID=America/New_York:20241207T170000
DTEND;TZID=America/New_York:20241207T220000
DTSTAMP:20260422T073914
CREATED:20240923T023524Z
LAST-MODIFIED:20241206T124630Z
UID:10017719-1733590800-1733608800@commonstreet.org
SUMMARY:Common Street's Holiday Banquet
DESCRIPTION:Celebrate the Holiday Season in Style at the Common Street Spiritual Center’s All-Holiday Banquet!\n\nThis year\, let’s come together again to celebrate the beauty of the holiday season\, embracing all traditions in one spectacular evening! Join us for a magical night filled with fun\, community\, and festive spirit.\n\nPlant Based Feast!We’re serving up a delicious main course of Penne Aribbiatta Pasta \, and a selection of other foods prepared by plant based chef Amanda Short. Together\, we’ll enjoy a diverse and delectable feast.\n\nA Night Filled with Fun Activities & Music\nThroughout the night\, our space will be transformed into a hub of festive events!\n• Vendors to shop with for some holiday gifts that support a good cause!• A Give & Receive Massage Room for relaxation and connection• Game Night in the Fellowship Hall for laughs and friendly competition• Song Circle in the Moon room upstairs to gather in harmony and sing together• Ecstatic Dance for those who want to move and feel the rhythm\n\nPlus\, we’ll have live musicians and singers creating a joyful atmosphere
URL:https://commonstreet.org/event/common-streets-holiday-banquet/
LOCATION:Sanctuary at Common Street Spiritual Center\, 13 Common Street\, Natick\, MA\, 01760\, United States
CATEGORIES:Children and Family,Community,Concert,Dialogue,Food,Healing,Music and Arts,Spiritual,Youth
ATTACH;FMTTYPE=image/jpeg:https://commonstreet.org/wp-content/uploads/2024/09/holiday-banquet-updated.jpg
ORGANIZER;CN="Amanda Short":MAILTO:kitchenstudioboston@gmail.com
END:VEVENT
END:VCALENDAR