BEGIN:VCALENDAR
VERSION:2.0
PRODID:-//Common Street Spiritual Center - ECPv6.15.20//NONSGML v1.0//EN
CALSCALE:GREGORIAN
METHOD:PUBLISH
X-ORIGINAL-URL:https://commonstreet.org
X-WR-CALDESC:Events for Common Street Spiritual Center
REFRESH-INTERVAL;VALUE=DURATION:PT1H
X-Robots-Tag:noindex
X-PUBLISHED-TTL:PT1H
BEGIN:VTIMEZONE
TZID:America/New_York
BEGIN:DAYLIGHT
TZOFFSETFROM:-0500
TZOFFSETTO:-0400
TZNAME:EDT
DTSTART:20230312T070000
END:DAYLIGHT
BEGIN:STANDARD
TZOFFSETFROM:-0400
TZOFFSETTO:-0500
TZNAME:EST
DTSTART:20231105T060000
END:STANDARD
BEGIN:DAYLIGHT
TZOFFSETFROM:-0500
TZOFFSETTO:-0400
TZNAME:EDT
DTSTART:20240310T070000
END:DAYLIGHT
BEGIN:STANDARD
TZOFFSETFROM:-0400
TZOFFSETTO:-0500
TZNAME:EST
DTSTART:20241103T060000
END:STANDARD
BEGIN:DAYLIGHT
TZOFFSETFROM:-0500
TZOFFSETTO:-0400
TZNAME:EDT
DTSTART:20250309T070000
END:DAYLIGHT
BEGIN:STANDARD
TZOFFSETFROM:-0400
TZOFFSETTO:-0500
TZNAME:EST
DTSTART:20251102T060000
END:STANDARD
END:VTIMEZONE
BEGIN:VEVENT
DTSTART;TZID=America/New_York:20240504T163000
DTEND;TZID=America/New_York:20240504T181500
DTSTAMP:20260423T004054
CREATED:20240429T160323Z
LAST-MODIFIED:20240429T160323Z
UID:10014268-1714840200-1714846500@commonstreet.org
SUMMARY:Group Energy Healing Circle Meeting & Releasing Fear in the Body
DESCRIPTION:What Is a Group Energy Healing Circle?\nThis is a special gathering where we sit in meditation and Diana channels Soul 13 energy to collectively metabolize and release trauma\, wounding\, and other issues. As a participant\, you will not relive any trauma or feel any discomfort but feel a potent quieting of the mind when the healing is over.
URL:https://commonstreet.org/event/group-energy-healing-circle-meeting-releasing-fear-in-the-body/
LOCATION:Studio @ Common Street\, 13 Common Street\, Natick\, MA\, 01760\, United States
CATEGORIES:Healing,Meditation,Spiritual
ATTACH;FMTTYPE=image/png:https://commonstreet.org/wp-content/uploads/2024/04/Gray-and-White-Simple-Business-Workshop-Facebook-Event-Cover-2.png
ORGANIZER;CN="Diana Phillips":MAILTO:info@soul13.net
END:VEVENT
END:VCALENDAR