BEGIN:VCALENDAR
VERSION:2.0
PRODID:-//Common Street Spiritual Center - ECPv6.15.20//NONSGML v1.0//EN
CALSCALE:GREGORIAN
METHOD:PUBLISH
X-WR-CALNAME:Common Street Spiritual Center
X-ORIGINAL-URL:https://commonstreet.org
X-WR-CALDESC:Events for Common Street Spiritual Center
REFRESH-INTERVAL;VALUE=DURATION:PT1H
X-Robots-Tag:noindex
X-PUBLISHED-TTL:PT1H
BEGIN:VTIMEZONE
TZID:America/New_York
BEGIN:DAYLIGHT
TZOFFSETFROM:-0500
TZOFFSETTO:-0400
TZNAME:EDT
DTSTART:20230312T070000
END:DAYLIGHT
BEGIN:STANDARD
TZOFFSETFROM:-0400
TZOFFSETTO:-0500
TZNAME:EST
DTSTART:20231105T060000
END:STANDARD
BEGIN:DAYLIGHT
TZOFFSETFROM:-0500
TZOFFSETTO:-0400
TZNAME:EDT
DTSTART:20240310T070000
END:DAYLIGHT
BEGIN:STANDARD
TZOFFSETFROM:-0400
TZOFFSETTO:-0500
TZNAME:EST
DTSTART:20241103T060000
END:STANDARD
BEGIN:DAYLIGHT
TZOFFSETFROM:-0500
TZOFFSETTO:-0400
TZNAME:EDT
DTSTART:20250309T070000
END:DAYLIGHT
BEGIN:STANDARD
TZOFFSETFROM:-0400
TZOFFSETTO:-0500
TZNAME:EST
DTSTART:20251102T060000
END:STANDARD
END:VTIMEZONE
BEGIN:VEVENT
DTSTART;TZID=America/New_York:20240331T180000
DTEND;TZID=America/New_York:20240331T210000
DTSTAMP:20260423T090416
CREATED:20240323T182724Z
LAST-MODIFIED:20240326T175548Z
UID:10013779-1711908000-1711918800@commonstreet.org
SUMMARY:Cacao Ceremony - Living with Intention: Aligning Heart and Actions
DESCRIPTION:Have you ever found yourself just going through the motions in your life? What if you could align your heart with the actions you take to create the life you want? How would that change things for you? \nThis is a chance to look at how you’re investing your time and energy in creating your life in the following areas: \n– Your relationship with the Divine\n– Your connection to your body\n– Your family relationships\n– The friendships you’re growing and nurturing\n– Your highest and most fulfilling expression of your work\n– Your romantic partnership \nWe invite you to our special Cacao Ceremony this coming Easter Sunday. The theme is “Living With Intention: Aligning Heart & Actions”. \nThis event is designed to help you press the pause button\, and look honestly at where and how you’re spending your energy. If you know deep down that something needs to shift in order for you to create the life you want\, then this is for you. \nThe ceremonial cacao\, a key part of our gathering\, acts as a gentle guide\, opening pathways to deeper understanding and connection. \nWHAT YOU CAN LOOK FORWARD TO: \n– Living with Intention Workshop: We start off with a session designed to explore the harmony between your heart’s desires and your daily actions. Engage in reflective exercises to uncover the disconnects\, and learn actionable steps to align your most important intentions with impactful actions. \n– Ceremonial Cacao Experience: Engage in a heart-opening Cacao Ceremony\, enhanced by the unique\, creamy blend of our ceremonial-grade Cacao from Prophecy Chocolate\, enriched with almond milk\, spices\, vanilla\, and maple syrup. \n– Intention-Focused Meditations: These gently guided meditations will help you recognize moments where your actions can more closely reflect your heart’s true desires. \nEVENT DETAILS & LOGISTICS \nWhere is it? – The event is held at the Common Street Spiritual Center in Natick\, MA which is a beautiful facility for an event like this. \nWhat time? – We start promptly at 6:00 PM and go until 9:00 PM (with a break in the middle). Please plan on arriving by 5:45pm so you have time to park\, and then settle in and meet the others. \nHow to RSVP: Click the link associated with this posting to secure your ticket on Eventbrite. \nWe are looking forward to seeing you there. \nWarmly\,\nJason \nP.S. – Please check the FAQ section at the Eventbrite link to make sure Cacao is safe for you. It generally is for most people\, but it’s good to have a look to be sure.
URL:https://commonstreet.org/event/cacao-ceremony-living-with-intention-aligning-heart-and-actions/
LOCATION:Sanctuary at Common Street Spiritual Center\, 13 Common Street\, Natick\, MA\, 01760\, United States
CATEGORIES:Dialogue,Healing,Meditation,Spiritual,Workshop
ATTACH;FMTTYPE=image/jpeg:https://commonstreet.org/wp-content/uploads/2024/03/Cacao-Living-With-Intention.jpg
ORGANIZER;CN="Jason McGarva":MAILTO:info@commonstreet.org
END:VEVENT
END:VCALENDAR