BEGIN:VCALENDAR
VERSION:2.0
PRODID:-//Common Street Spiritual Center - ECPv6.15.20//NONSGML v1.0//EN
CALSCALE:GREGORIAN
METHOD:PUBLISH
X-WR-CALNAME:Common Street Spiritual Center
X-ORIGINAL-URL:https://commonstreet.org
X-WR-CALDESC:Events for Common Street Spiritual Center
REFRESH-INTERVAL;VALUE=DURATION:PT1H
X-Robots-Tag:noindex
X-PUBLISHED-TTL:PT1H
BEGIN:VTIMEZONE
TZID:America/New_York
BEGIN:DAYLIGHT
TZOFFSETFROM:-0500
TZOFFSETTO:-0400
TZNAME:EDT
DTSTART:20230312T070000
END:DAYLIGHT
BEGIN:STANDARD
TZOFFSETFROM:-0400
TZOFFSETTO:-0500
TZNAME:EST
DTSTART:20231105T060000
END:STANDARD
BEGIN:DAYLIGHT
TZOFFSETFROM:-0500
TZOFFSETTO:-0400
TZNAME:EDT
DTSTART:20240310T070000
END:DAYLIGHT
BEGIN:STANDARD
TZOFFSETFROM:-0400
TZOFFSETTO:-0500
TZNAME:EST
DTSTART:20241103T060000
END:STANDARD
BEGIN:DAYLIGHT
TZOFFSETFROM:-0500
TZOFFSETTO:-0400
TZNAME:EDT
DTSTART:20250309T070000
END:DAYLIGHT
BEGIN:STANDARD
TZOFFSETFROM:-0400
TZOFFSETTO:-0500
TZNAME:EST
DTSTART:20251102T060000
END:STANDARD
END:VTIMEZONE
BEGIN:VEVENT
DTSTART;TZID=America/New_York:20240322T190000
DTEND;TZID=America/New_York:20240322T210000
DTSTAMP:20260423T035729
CREATED:20240311T181153Z
LAST-MODIFIED:20240311T182810Z
UID:10013693-1711134000-1711141200@commonstreet.org
SUMMARY:Transformation Circle | Breathwork & Sound Healing
DESCRIPTION:Immersion into collective presence in 2 hours container night. With multiple modalities celebrating aliveness together\, we will weave interactive sharing circle\, breathwork\, sound healing and connection with one another. We’ll practice together how to surrender anything that has been held in your heart. We’ll gently hold them together in a circle and transmute into light through sound and breath. \n\nFriday March 22th – @ 7pm – 9pm\nWhat to bring: Yoga Mat / Blanket / Eye Cover / Pillow / Water\nMain Entrance\, Sanctuary\n\nSuggested Donation  \n$20+ cash or venmo \nVenmo: @tov-demirel
URL:https://commonstreet.org/event/transformation-circle-breathwork-sound-healing-4/
LOCATION:Common Street Spiritual Center\, 13 Common Street\, Natick\, 01760\, United States
CATEGORIES:Community,Healing,Spiritual
ATTACH;FMTTYPE=image/jpeg:https://commonstreet.org/wp-content/uploads/2024/03/transformation-scaled.jpg
END:VEVENT
END:VCALENDAR