BEGIN:VCALENDAR
VERSION:2.0
PRODID:-//Common Street Spiritual Center - ECPv6.15.20//NONSGML v1.0//EN
CALSCALE:GREGORIAN
METHOD:PUBLISH
X-ORIGINAL-URL:https://commonstreet.org
X-WR-CALDESC:Events for Common Street Spiritual Center
REFRESH-INTERVAL;VALUE=DURATION:PT1H
X-Robots-Tag:noindex
X-PUBLISHED-TTL:PT1H
BEGIN:VTIMEZONE
TZID:America/New_York
BEGIN:DAYLIGHT
TZOFFSETFROM:-0500
TZOFFSETTO:-0400
TZNAME:EDT
DTSTART:20230312T070000
END:DAYLIGHT
BEGIN:STANDARD
TZOFFSETFROM:-0400
TZOFFSETTO:-0500
TZNAME:EST
DTSTART:20231105T060000
END:STANDARD
BEGIN:DAYLIGHT
TZOFFSETFROM:-0500
TZOFFSETTO:-0400
TZNAME:EDT
DTSTART:20240310T070000
END:DAYLIGHT
BEGIN:STANDARD
TZOFFSETFROM:-0400
TZOFFSETTO:-0500
TZNAME:EST
DTSTART:20241103T060000
END:STANDARD
BEGIN:DAYLIGHT
TZOFFSETFROM:-0500
TZOFFSETTO:-0400
TZNAME:EDT
DTSTART:20250309T070000
END:DAYLIGHT
BEGIN:STANDARD
TZOFFSETFROM:-0400
TZOFFSETTO:-0500
TZNAME:EST
DTSTART:20251102T060000
END:STANDARD
END:VTIMEZONE
BEGIN:VEVENT
DTSTART;TZID=America/New_York:20240204T140000
DTEND;TZID=America/New_York:20240204T160000
DTSTAMP:20260423T072200
CREATED:20240122T204101Z
LAST-MODIFIED:20240122T204101Z
UID:10013069-1707055200-1707062400@commonstreet.org
SUMMARY:Stone Painting w/ the Abundant Love Project
DESCRIPTION:Creating stones for our global Random Acts of Kindness \nAbundant Love Project \nWe aim to touch the hearts of individuals through a simple random act of kindness: we draw a heart on a stone and leave it in a public place for someone to find. With each stone is a note that tells the finder that no matter how bad their day is going\, they are loved…and to keep going. They are worth it and their life matters to many. \nThe founder of this project lost her daughter to suicide and it was the factor that led to the birth of The Abundant Love Project.  I lost my brother to suicide as well\, and it is my mission to remind others that they are not alone and show people that they are loved. I personally know the profound effect from a random act of kindness.  It can facilitate a momentary shift in a person’s thinking and help them realize that they are loved and needed on earth.  Many people who find the stones will write letters saying exactly that. \n *I will supply the stones\, paint pens\, and stickers. You are welcome to bring your own supplies.   I will bring printed notes\, but encourage people to write a message which adds a personal touch.  A donation for the supplies is greatly appreciated but not required.  Typically $10-$20 per person covers the cost of the supplies. 
URL:https://commonstreet.org/event/stone-painting-w-the-abundant-love-project/
LOCATION:Moon Room @ Common Street Spiritual Center\, 13 Common Street\, Natick\, 01760\, United States
CATEGORIES:Community,Healing,Music and Arts,Small Group
ATTACH;FMTTYPE=image/jpeg:https://commonstreet.org/wp-content/uploads/2024/01/IMG_0793.jpg
ORGANIZER;CN="Colleen Winchester":MAILTO:colleenwinchester333@gmail.com
END:VEVENT
END:VCALENDAR