BEGIN:VCALENDAR
VERSION:2.0
PRODID:-//Common Street Spiritual Center - ECPv6.15.20//NONSGML v1.0//EN
CALSCALE:GREGORIAN
METHOD:PUBLISH
X-WR-CALNAME:Common Street Spiritual Center
X-ORIGINAL-URL:https://commonstreet.org
X-WR-CALDESC:Events for Common Street Spiritual Center
REFRESH-INTERVAL;VALUE=DURATION:PT1H
X-Robots-Tag:noindex
X-PUBLISHED-TTL:PT1H
BEGIN:VTIMEZONE
TZID:America/New_York
BEGIN:DAYLIGHT
TZOFFSETFROM:-0500
TZOFFSETTO:-0400
TZNAME:EDT
DTSTART:20220313T070000
END:DAYLIGHT
BEGIN:STANDARD
TZOFFSETFROM:-0400
TZOFFSETTO:-0500
TZNAME:EST
DTSTART:20221106T060000
END:STANDARD
BEGIN:DAYLIGHT
TZOFFSETFROM:-0500
TZOFFSETTO:-0400
TZNAME:EDT
DTSTART:20230312T070000
END:DAYLIGHT
BEGIN:STANDARD
TZOFFSETFROM:-0400
TZOFFSETTO:-0500
TZNAME:EST
DTSTART:20231105T060000
END:STANDARD
BEGIN:DAYLIGHT
TZOFFSETFROM:-0500
TZOFFSETTO:-0400
TZNAME:EDT
DTSTART:20240310T070000
END:DAYLIGHT
BEGIN:STANDARD
TZOFFSETFROM:-0400
TZOFFSETTO:-0500
TZNAME:EST
DTSTART:20241103T060000
END:STANDARD
END:VTIMEZONE
BEGIN:VEVENT
DTSTART;TZID=America/New_York:20231026T091500
DTEND;TZID=America/New_York:20231026T101500
DTSTAMP:20260425T111245
CREATED:20230909T001403Z
LAST-MODIFIED:20230909T001405Z
UID:10010924-1698311700-1698315300@commonstreet.org
SUMMARY:Conscious Kundalini Yoga
DESCRIPTION:Join Nelya for a Kundalini-inspired community class to restore spirit\, mind\, and body. We start by tuning in with breath work and mantra\, followed by a warm up and Kriya (set of Kundalini exercises). We’ll end with a relaxing meditation. Each class focuses on a unique theme\, from self love and immune support to connecting with your intuition. This class is an invitation to slow down and look inward to connect with a deeper consciousness. All levels welcome\, no experience needed.\n\n\nMembers – $11\nNon-members – $15\nTo register\, Venmo @Nelya-Binder (#6560) or email nelya@rootedsanctuary.com\nTo learn more about Nelya’s yoga\, healing\, and community work\, check out www.rootedsanctuary.com.
URL:https://commonstreet.org/event/conscious-kundalini-yoga-3/2023-10-26/
LOCATION:Sanctuary at Common Street Spiritual Center\, 13 Common Street\, Natick\, MA\, 01760\, United States
CATEGORIES:Class,Community,Healing,Spiritual
ATTACH;FMTTYPE=image/png:https://commonstreet.org/wp-content/uploads/2023/07/Common-St-Conscious-Kundalini-3.png
ORGANIZER;CN="Nelya Binder":MAILTO:nelya@rootedsanctuary.com
END:VEVENT
BEGIN:VEVENT
DTSTART;TZID=America/New_York:20231026T190000
DTEND;TZID=America/New_York:20231026T201500
DTSTAMP:20260425T111245
CREATED:20231017T171834Z
LAST-MODIFIED:20231017T171836Z
UID:10008260-1698346800-1698351300@commonstreet.org
SUMMARY:Mohanji Meditations (virtual)
DESCRIPTION:The Mohanji Meditation is a powerful heart-opening guided meditation that offers release from binding patterns through love and gratitude. \nAll are welcome. No prior experience necessary. \nFor 10/19\, 10/26\, 11/2\, 11/9\, 11/16\, 11/23\, sessions will be held online at the link below: \nWhen:Every Thursday\nTime: 7pm\nZoom Meeting\nhttps://us02web.zoom.us/j/85141271883?pwd=NFkrM2VNR1pnM3h2dUtSY1EwUlMwUT09\n\nMeeting ID: 851 4127 1883\nPasscode: mohanji
URL:https://commonstreet.org/event/mohanji-meditations-5/
LOCATION:Choir Room @ Common Street Spiritual Center\, 13 Common Street\, Natick\, 01760\, United States
CATEGORIES:Class,Healing,Meditation,Spiritual
ORGANIZER;CN="Soumya Thelakkad":MAILTO:mohanjifamilyma@gmail.com
END:VEVENT
END:VCALENDAR