BEGIN:VCALENDAR
VERSION:2.0
PRODID:-//Common Street Spiritual Center - ECPv6.15.20//NONSGML v1.0//EN
CALSCALE:GREGORIAN
METHOD:PUBLISH
X-WR-CALNAME:Common Street Spiritual Center
X-ORIGINAL-URL:https://commonstreet.org
X-WR-CALDESC:Events for Common Street Spiritual Center
REFRESH-INTERVAL;VALUE=DURATION:PT1H
X-Robots-Tag:noindex
X-PUBLISHED-TTL:PT1H
BEGIN:VTIMEZONE
TZID:America/New_York
BEGIN:DAYLIGHT
TZOFFSETFROM:-0500
TZOFFSETTO:-0400
TZNAME:EDT
DTSTART:20220313T070000
END:DAYLIGHT
BEGIN:STANDARD
TZOFFSETFROM:-0400
TZOFFSETTO:-0500
TZNAME:EST
DTSTART:20221106T060000
END:STANDARD
BEGIN:DAYLIGHT
TZOFFSETFROM:-0500
TZOFFSETTO:-0400
TZNAME:EDT
DTSTART:20230312T070000
END:DAYLIGHT
BEGIN:STANDARD
TZOFFSETFROM:-0400
TZOFFSETTO:-0500
TZNAME:EST
DTSTART:20231105T060000
END:STANDARD
BEGIN:DAYLIGHT
TZOFFSETFROM:-0500
TZOFFSETTO:-0400
TZNAME:EDT
DTSTART:20240310T070000
END:DAYLIGHT
BEGIN:STANDARD
TZOFFSETFROM:-0400
TZOFFSETTO:-0500
TZNAME:EST
DTSTART:20241103T060000
END:STANDARD
END:VTIMEZONE
BEGIN:VEVENT
DTSTART;TZID=America/New_York:20230930T190000
DTEND;TZID=America/New_York:20230930T210000
DTSTAMP:20260426T003036
CREATED:20230926T145114Z
LAST-MODIFIED:20230926T145114Z
UID:10011270-1696100400-1696107600@commonstreet.org
SUMMARY:Full Moon JourneyDance™ with Sharing Circle
DESCRIPTION:Full Moon JourneyDance™ & Divine Feminine Embodiment Workshop (for all genders) with Sharing Circle\nWelcome to a magical evening at the Common Street Spiritual Center in Natick\, MA\, where the sublime energy of the full moon intertwines with the empowering embrace of JourneyDance™. In this transformative in-person event\, we unite dance\, connection\, and sharing\, inviting you to delve deep into self-expression\, release stress\, and reignite your creative spirit.\n\nLocation: Common Street Spiritual Center\, 13 Common St\, Natick\, MA 01760\nTime: 7:00 PM – 9:00 PM\nTickets: $45 (Contact me re: Work-study option available\, student & low-income priced tickets available\, and discount for CSSC members)\nPurchase: https://FullMoonJourneyDance.eventbrite.com\nReminder: This is not a therapy nor a replacement for therapy but a great supplement to therapy!\n\nWhat to Bring:\n– Journal & Pen\n– Yoga Mat\n– Water Bottle\n– Comfy\, layered clothes\n– Open heart and willingness to let go\n\nThe Experience:\n– Soulful Movement: Begin with a guided warm-up\, grounding and connecting to your body\, expressing freely through dance and releasing pent-up emotions.\n– Full Moon Connection: Learn and align with the illuminating energy of the full moon\, reflecting on its symbolism for personal growth\, transformation\, and alignment with the universe’s cycles.\n– Guided Movement Meditation: Center yourself with attuned guidance\, visualizations\, and opportunities for setting fresh intentions.\n– Creative Expression: Explore the realm of self-expression in a safe\, non-judgmental space\, discovering your unique dance style.\n– Community Connection: Interact with diverse\, like-minded individuals fostering a supportive community focused on self-discovery and personal growth.\n– Healing and Release: Embrace the therapeutic powers of dance to release emotional blockages and promote holistic healing.\n– Eclectic Music: Journey through curated playlists enhancing the dance experience.\n– Closing Circle: Share your experiences\, insights\, and intentions for the coming month in a sharing circle.\n\nTheme for September:\nHarvest Moon: Having and Abundance\nReflect on your personal harvest\, achievements\, and the abundance in your life.\n\nWho Should Attend:\nThis workshop is a welcoming beacon for individuals from all walks of life\, regardless of dance experience or background. It’s specifically tailored for:\n1. Individuals Seeking Self-Expression & Personal Growth\n2. Dance Enthusiasts of All Levels\n3. Wellness and Mind-Body Explorers\n4. Stress Relief and Relaxation Seekers\n5. Spiritual and Energetic Practitioners\n6. Community-Minded Individuals\n7. Adults of All Ages Interested in Self-Exploration & Personal Development\n\nInclusive Space:\nWe stand as an inclusive\, LGBTQIA+ friendly space\, welcoming all races\, cultures\, backgrounds\, and orientations. From the seasoned dancer to the first-timer\, every participant will find a haven of acceptance and self-discovery in our workshop.\n\nFacilitation:\nSandra will be facilitating this journey\, holding space with anti-perfectionist\, providing explicit guidance\, offering visualizations\, and creating opportunities for connection and reflection.\n\nFinal Note:\nCome as you are\, with an open heart and mind\, to this divine convergence of dance\, connection\, and lunar energy. Let the enchanting glow of the full moon and the harmonic tunes guide your steps\, nourish your soul\, and unveil your authentic self. See you under the luminous full moon!
URL:https://commonstreet.org/event/full-moon-journeydance-with-sharing-circle/
LOCATION:Common Street Spiritual Center\, 13 Common Street\, Natick\, 01760\, United States
CATEGORIES:Community,Dance,Healing,Spiritual
ATTACH;FMTTYPE=image/jpeg:https://commonstreet.org/wp-content/uploads/2023/09/journey-dance.jpg
ORGANIZER;CN="Sandra Rose":MAILTO:srh.026@gmail.com
END:VEVENT
END:VCALENDAR