BEGIN:VCALENDAR
VERSION:2.0
PRODID:-//Common Street Spiritual Center - ECPv6.15.20//NONSGML v1.0//EN
CALSCALE:GREGORIAN
METHOD:PUBLISH
X-WR-CALNAME:Common Street Spiritual Center
X-ORIGINAL-URL:https://commonstreet.org
X-WR-CALDESC:Events for Common Street Spiritual Center
REFRESH-INTERVAL;VALUE=DURATION:PT1H
X-Robots-Tag:noindex
X-PUBLISHED-TTL:PT1H
BEGIN:VTIMEZONE
TZID:America/New_York
BEGIN:DAYLIGHT
TZOFFSETFROM:-0500
TZOFFSETTO:-0400
TZNAME:EDT
DTSTART:20240310T070000
END:DAYLIGHT
BEGIN:STANDARD
TZOFFSETFROM:-0400
TZOFFSETTO:-0500
TZNAME:EST
DTSTART:20241103T060000
END:STANDARD
BEGIN:DAYLIGHT
TZOFFSETFROM:-0500
TZOFFSETTO:-0400
TZNAME:EDT
DTSTART:20250309T070000
END:DAYLIGHT
BEGIN:STANDARD
TZOFFSETFROM:-0400
TZOFFSETTO:-0500
TZNAME:EST
DTSTART:20251102T060000
END:STANDARD
BEGIN:DAYLIGHT
TZOFFSETFROM:-0500
TZOFFSETTO:-0400
TZNAME:EDT
DTSTART:20260308T070000
END:DAYLIGHT
BEGIN:STANDARD
TZOFFSETFROM:-0400
TZOFFSETTO:-0500
TZNAME:EST
DTSTART:20261101T060000
END:STANDARD
END:VTIMEZONE
BEGIN:VEVENT
DTSTART;TZID=America/New_York:20250313T190000
DTEND;TZID=America/New_York:20250313T213000
DTSTAMP:20260421T093337
CREATED:20250214T031757Z
LAST-MODIFIED:20250214T031757Z
UID:10020221-1741892400-1741901400@commonstreet.org
SUMMARY:The Book of Bob
DESCRIPTION:Let’s get together and feel alright\, in this experience of the love\, wisdom\, and power of Bob Marley’s story. \nAlex DeGroot and friends will create a vibe of celebration\, learning\, and spiritual seeking through music\, history\, truth-telling\, open sharing\, dance\, and many other ways of connecting with the Book of Bob\, the revelations that he brought for humanity through his music. \nEveryone is welcome\, of all backgrounds\, lifestyles\, beliefs\, and even music tastes. The event is free and open to the public.
URL:https://commonstreet.org/event/the-book-of-bob-3/
LOCATION:Sanctuary at Common Street Spiritual Center\, 13 Common Street\, Natick\, MA\, 01760\, United States
CATEGORIES:Community,Cultural,Dance,Dialogue,Food,Healing,Music and Arts
ATTACH;FMTTYPE=image/png:https://commonstreet.org/wp-content/uploads/2025/02/March-13-2025-BoB.png
ORGANIZER;CN="Alex DeGroot":MAILTO:zanderdegroot@gmail.com
END:VEVENT
END:VCALENDAR