BEGIN:VCALENDAR
VERSION:2.0
PRODID:-//Common Street Spiritual Center - ECPv6.15.20//NONSGML v1.0//EN
CALSCALE:GREGORIAN
METHOD:PUBLISH
X-WR-CALNAME:Common Street Spiritual Center
X-ORIGINAL-URL:https://commonstreet.org
X-WR-CALDESC:Events for Common Street Spiritual Center
REFRESH-INTERVAL;VALUE=DURATION:PT1H
X-Robots-Tag:noindex
X-PUBLISHED-TTL:PT1H
BEGIN:VTIMEZONE
TZID:America/New_York
BEGIN:DAYLIGHT
TZOFFSETFROM:-0500
TZOFFSETTO:-0400
TZNAME:EDT
DTSTART:20240310T070000
END:DAYLIGHT
BEGIN:STANDARD
TZOFFSETFROM:-0400
TZOFFSETTO:-0500
TZNAME:EST
DTSTART:20241103T060000
END:STANDARD
BEGIN:DAYLIGHT
TZOFFSETFROM:-0500
TZOFFSETTO:-0400
TZNAME:EDT
DTSTART:20250309T070000
END:DAYLIGHT
BEGIN:STANDARD
TZOFFSETFROM:-0400
TZOFFSETTO:-0500
TZNAME:EST
DTSTART:20251102T060000
END:STANDARD
BEGIN:DAYLIGHT
TZOFFSETFROM:-0500
TZOFFSETTO:-0400
TZNAME:EDT
DTSTART:20260308T070000
END:DAYLIGHT
BEGIN:STANDARD
TZOFFSETFROM:-0400
TZOFFSETTO:-0500
TZNAME:EST
DTSTART:20261101T060000
END:STANDARD
END:VTIMEZONE
BEGIN:VEVENT
DTSTART;TZID=America/New_York:20250117T190000
DTEND;TZID=America/New_York:20250117T213000
DTSTAMP:20260424T195258
CREATED:20250112T202935Z
LAST-MODIFIED:20250112T202935Z
UID:10019634-1737140400-1737149400@commonstreet.org
SUMMARY:Ecstatic Dance & Sound Bath with the Drum Nomads
DESCRIPTION:The Drum Nomads are a performance ensemble that specializes in drum rhythms from around the world\, as well as playing a variety of exotic melodic instruments.\nJoin the Nomads for a special evening of ecstatic dance where we start off with a welcoming ceremony to get people aligned with the vibe of dancing as a form of moving meditation and personal expression.  Then the rhythms begin\, easing in slowly and gradually building in tempo and intensity over the next hour until the dance floor will be bursting with high energy.  Then we bring things back down for a soft landing\, as the dancers melt onto the floor for a soothing and restorative sound bath to round out the night.\nCost is $20 per adult.\nDoors open at 6:30\, opening ceremony starts at 7:00pm.\nBring a water bottle\, wear loose clothing\, and have a blanket or yoga mat to lie on for the sound bath.\nNote that this is a “conscious dance” event\, and we ask that people arrive with their heads clear of drugs or alcohol.
URL:https://commonstreet.org/event/ecstatic-dance-sound-bath-with-the-drum-nomads/
LOCATION:Common Street Spiritual Center\, 13 Common Street\, Natick\, 01760\, United States
CATEGORIES:Dance
ATTACH;FMTTYPE=image/jpeg:https://commonstreet.org/wp-content/uploads/2025/01/colorful-dancers.jpg
ORGANIZER;CN="Dave Curry":MAILTO:drumhead@drumsforoneandall.com
END:VEVENT
END:VCALENDAR