BEGIN:VCALENDAR
VERSION:2.0
PRODID:-//Common Street Spiritual Center - ECPv6.15.20//NONSGML v1.0//EN
CALSCALE:GREGORIAN
METHOD:PUBLISH
X-ORIGINAL-URL:https://commonstreet.org
X-WR-CALDESC:Events for Common Street Spiritual Center
REFRESH-INTERVAL;VALUE=DURATION:PT1H
X-Robots-Tag:noindex
X-PUBLISHED-TTL:PT1H
BEGIN:VTIMEZONE
TZID:America/New_York
BEGIN:DAYLIGHT
TZOFFSETFROM:-0500
TZOFFSETTO:-0400
TZNAME:EDT
DTSTART:20280312T070000
END:DAYLIGHT
BEGIN:STANDARD
TZOFFSETFROM:-0400
TZOFFSETTO:-0500
TZNAME:EST
DTSTART:20281105T060000
END:STANDARD
BEGIN:DAYLIGHT
TZOFFSETFROM:-0500
TZOFFSETTO:-0400
TZNAME:EDT
DTSTART:20290311T070000
END:DAYLIGHT
BEGIN:STANDARD
TZOFFSETFROM:-0400
TZOFFSETTO:-0500
TZNAME:EST
DTSTART:20291104T060000
END:STANDARD
BEGIN:DAYLIGHT
TZOFFSETFROM:-0500
TZOFFSETTO:-0400
TZNAME:EDT
DTSTART:20300310T070000
END:DAYLIGHT
BEGIN:STANDARD
TZOFFSETFROM:-0400
TZOFFSETTO:-0500
TZNAME:EST
DTSTART:20301103T060000
END:STANDARD
END:VTIMEZONE
BEGIN:VEVENT
DTSTART;TZID=America/New_York:20290605T190000
DTEND;TZID=America/New_York:20290605T203000
DTSTAMP:20260425T073516
CREATED:20250901T123654Z
LAST-MODIFIED:20250901T123846Z
UID:10023646-1875380400-1875385800@commonstreet.org
SUMMARY:Chanting and Meditation Group
DESCRIPTION:This chanting and meditation group is designed to tap into our inner freedom. We will have two 15 minute sessions of chanting and two 30 minute sessions of meditation. Through the actions of chanting and meditation\, the aim is to free all the thoughts and emotions stuck within our minds and bodies. And over time\, the goal is to free ourselves from our unconscious programming we have built over our lifetimes and deepen our connection with Spirit.\n\n\nThe event is free and open to the community. Donations are welcome but not required and can be sent via Venmo to @Emmanuel-Weinman or by cash.\n\n\nFor any questions or comments\, please contact Emmanuel Krishna by email: emanwman@gmail.com or phone: 978-578-9707
URL:https://commonstreet.org/event/chanting-and-meditation-group-2-2-4/2029-06-05/
LOCATION:Moon Room @ Common Street Spiritual Center\, 13 Common Street\, Natick\, 01760\, United States
CATEGORIES:Community,Healing,Meditation,Spiritual
ATTACH;FMTTYPE=image/jpeg:https://commonstreet.org/wp-content/uploads/2025/06/B139037B-783E-4ADD-A76D-11F2999685B31.jpg
ORGANIZER;CN="Emmanuel Krishna Weinman":MAILTO:emanwman@gmail.com
END:VEVENT
BEGIN:VEVENT
DTSTART;TZID=America/New_York:20290607T180000
DTEND;TZID=America/New_York:20290607T220000
DTSTAMP:20260425T073516
CREATED:20260424T191633Z
LAST-MODIFIED:20260424T191633Z
UID:10028283-1875549600-1875564000@commonstreet.org
SUMMARY:¿How Lovely Are We? an evening of yoga\, open mic\, teach-in\, and ecstatic dance
DESCRIPTION:Join us in person for a celebratory blend of YOGA\, OPEN MIC\, TEACH-IN\, and ECSTATIC DANCE. \nCollective Activation to EXPERIENCE\, EXPRESS\, EXPLORE\, and EXPAND ourselves individually in community – come discover how lovely we all are. \nIt’s all about good vibes\, connecting\, and expressing yourself freely. Whether you wanna stretch\, share your voice\, learn something new\, or just dance your heart out\, this event series is for you! \nSee more at https://www.howlovelyarewe.org/
URL:https://commonstreet.org/event/how-lovely-are-we-an-evening-of-yoga-open-mic-teach-in-and-ecstatic-dance/2029-06-07/
LOCATION:Common Street Spiritual Center\, 13 Common Street\, Natick\, 01760\, United States
CATEGORIES:Community,Dance,Music and Arts,Other,Peace and Justice,Spiritual,Talk,Yoga
ATTACH;FMTTYPE=image/jpeg:https://commonstreet.org/wp-content/uploads/2026/04/¿How-Lovely-Are-We-flyer.jpg
ORGANIZER;CN="Curtis Falzoi":MAILTO:cjfalzoi@gmail.com
END:VEVENT
BEGIN:VEVENT
DTSTART;TZID=America/New_York:20290610T103000
DTEND;TZID=America/New_York:20290610T120000
DTSTAMP:20260425T073516
CREATED:20260319T230611Z
LAST-MODIFIED:20260319T230617Z
UID:10014732-1875781800-1875787200@commonstreet.org
SUMMARY:Open Circle Gathering
DESCRIPTION:The Open Circle is a weekly gathering of like-minded spiritual seekers who show up to connect authentically\, share our truths\, and be held in the space of a growth-oriented and loving community.\n\nIn the Open Circle\, everyone has a chance to contribute as we move around the circle. You’re welcome to bring poems\, songs\, prayers\, and insights to share.\n\nFree and open to the public–yes\, you can simply show up!\n\nIf you’re new to Open Circle\, you’re welcome to register here so you can be in the loop for future gatherings: https://forms.gle/Aa18ZuGfyy4Nv3gq7\\n\nThe Spiritual Center community is holding space for change in the lives of our members and in our world.\n*we embrace diverse forms of spiritual practice and artistic expression\n*we cultivate a hopeful societal vision built on principles of compassion and justice\n*we support the growth of a consciousness of interconnection across human differences and between people and the whole web of life around us\n*we build authentic community based on principles like love\, respect\, kindness\, and collaboration\n\nIf this resonates\, please join us!
URL:https://commonstreet.org/event/sunday-circle-in-person-3-2-2-2-2-10-3-2-3/2029-06-10/
CATEGORIES:Children and Family,Community,Meditation,Music and Arts,Peace and Justice,Spiritual,Youth
ATTACH;FMTTYPE=image/png:https://commonstreet.org/wp-content/uploads/2023/11/Open-Circle-5-18-25.png
ORGANIZER;CN="Ian Mevorach":MAILTO:ian@commonstreet.org
END:VEVENT
END:VCALENDAR