BEGIN:VCALENDAR
VERSION:2.0
PRODID:-//Common Street Spiritual Center - ECPv6.15.20//NONSGML v1.0//EN
CALSCALE:GREGORIAN
METHOD:PUBLISH
X-WR-CALNAME:Common Street Spiritual Center
X-ORIGINAL-URL:https://commonstreet.org
X-WR-CALDESC:Events for Common Street Spiritual Center
REFRESH-INTERVAL;VALUE=DURATION:PT1H
X-Robots-Tag:noindex
X-PUBLISHED-TTL:PT1H
BEGIN:VTIMEZONE
TZID:America/New_York
BEGIN:DAYLIGHT
TZOFFSETFROM:-0500
TZOFFSETTO:-0400
TZNAME:EDT
DTSTART:20230312T070000
END:DAYLIGHT
BEGIN:STANDARD
TZOFFSETFROM:-0400
TZOFFSETTO:-0500
TZNAME:EST
DTSTART:20231105T060000
END:STANDARD
BEGIN:DAYLIGHT
TZOFFSETFROM:-0500
TZOFFSETTO:-0400
TZNAME:EDT
DTSTART:20240310T070000
END:DAYLIGHT
BEGIN:STANDARD
TZOFFSETFROM:-0400
TZOFFSETTO:-0500
TZNAME:EST
DTSTART:20241103T060000
END:STANDARD
BEGIN:DAYLIGHT
TZOFFSETFROM:-0500
TZOFFSETTO:-0400
TZNAME:EDT
DTSTART:20250309T070000
END:DAYLIGHT
BEGIN:STANDARD
TZOFFSETFROM:-0400
TZOFFSETTO:-0500
TZNAME:EST
DTSTART:20251102T060000
END:STANDARD
END:VTIMEZONE
BEGIN:VEVENT
DTSTART;VALUE=DATE:20240906
DTEND;VALUE=DATE:20240909
DTSTAMP:20260421T155544
CREATED:20240820T135022Z
LAST-MODIFIED:20240820T135022Z
UID:10017282-1725580800-1725839999@commonstreet.org
SUMMARY:Common Street’s 2nd Annual Pause Retreat: Belonging
DESCRIPTION:Ready for a weekend of connection\, creativity\, and community? The Pause Retreat is back\, and this year we’re diving deep into the theme of “Belonging.” \nImagine three days filled with laughter\, learning\, and genuine connections. This is a day retreat in Natick\, MA. We will go home each night. We’re creating a space where you can set aside the hustle of daily life and rediscover what it means to truly belong – to yourself and to others. \nWhat’s in store for you: \n– Heartfelt conversations that go beyond small talk\n– A vibrant Bollywood dance class to get your body moving\n– Expressive art workshops to unleash your creativity\n– Nourishing group meals with new friends\n– Gentle yoga sessions to ground and center yourself\n– A beginners’ drum circle (no experience needed!)\n– A peaceful nature walk to connect with the world around us\n– Workshops on deepening connections and fostering belonging\n– Small group sessions for authentic sharing\n– And so much more! \nWe’ve designed this retreat to offer something for everyone. Whether you’re an extrovert who thrives in group settings or an introvert who prefers quieter connections\, you’ll find your place here. \nThe best part? The connections don’t end when the retreat does. You’ll have the chance to join 6 week small groups afterwards\, letting you continue to grow and nurture the relationships you’ve started. \nCost: $25 per day or $50 for the whole weekend (This covers meals and supplies. All money goes to support Common Street Spiritual Center)\nYour registration gives you access to all events throughout the weekend – mix and match to create your perfect experience. \nSpaces are limited\, so register now to secure your spot. Let’s create a community where everyone belongs\, starting with you. \nCan’t wait to see you there! \nAmanda Short\nCommunity Event Organizer
URL:https://commonstreet.org/event/common-streets-2nd-annual-pause-retreat-belonging/
LOCATION:Sanctuary at Common Street Spiritual Center\, 13 Common Street\, Natick\, MA\, 01760\, United States
ATTACH;FMTTYPE=image/png:https://commonstreet.org/wp-content/uploads/2024/08/Black-and-Gold-Simple-Black-Friday-Sale-Instagram-Post.png
ORGANIZER;CN="Amanda Short":MAILTO:kitchenstudioboston@gmail.com
END:VEVENT
BEGIN:VEVENT
DTSTART;TZID=America/New_York:20240906T073000
DTEND;TZID=America/New_York:20240906T083000
DTSTAMP:20260421T155544
CREATED:20230419T184909Z
LAST-MODIFIED:20230428T130917Z
UID:10005961-1725607800-1725611400@commonstreet.org
SUMMARY:Gentle Jaguar Path Yoga
DESCRIPTION:Jaguar Path yoga incorporates Vinyasa flow postures with a focus on opening the body’s meridians and expanding the Energy Body. \nThis sixty minute all-levels class provides a gentle and complete physical stretch with space for breath awareness and meditation. \nEmail leo.j.ryan@gmail to confirm your attendance. \nSuggested donation $10. Meets every Mon\, Wed\, and Fri morning at 7:30am. \nMore info at www.energymatters2u.com
URL:https://commonstreet.org/event/gentle-jaguar-path-yoga-2-2/2024-09-06/
CATEGORIES:Class
ATTACH;FMTTYPE=image/jpeg:https://commonstreet.org/wp-content/uploads/2020/10/jaguar-path-yoga.jpg
ORGANIZER;CN="Leo Ryan":MAILTO:leo.j.ryan@gmail.com
END:VEVENT
BEGIN:VEVENT
DTSTART;TZID=America/New_York:20240906T093000
DTEND;TZID=America/New_York:20240906T110000
DTSTAMP:20260421T155544
CREATED:20230904T010143Z
LAST-MODIFIED:20230904T010143Z
UID:10010171-1725615000-1725620400@commonstreet.org
SUMMARY:Adult Ballet
DESCRIPTION:
URL:https://commonstreet.org/event/adult-ballet-3/2024-09-06/
END:VEVENT
END:VCALENDAR