BEGIN:VCALENDAR
VERSION:2.0
PRODID:-//Common Street Spiritual Center - ECPv6.15.20//NONSGML v1.0//EN
CALSCALE:GREGORIAN
METHOD:PUBLISH
X-ORIGINAL-URL:https://commonstreet.org
X-WR-CALDESC:Events for Common Street Spiritual Center
REFRESH-INTERVAL;VALUE=DURATION:PT1H
X-Robots-Tag:noindex
X-PUBLISHED-TTL:PT1H
BEGIN:VTIMEZONE
TZID:America/New_York
BEGIN:DAYLIGHT
TZOFFSETFROM:-0500
TZOFFSETTO:-0400
TZNAME:EDT
DTSTART:20230312T070000
END:DAYLIGHT
BEGIN:STANDARD
TZOFFSETFROM:-0400
TZOFFSETTO:-0500
TZNAME:EST
DTSTART:20231105T060000
END:STANDARD
BEGIN:DAYLIGHT
TZOFFSETFROM:-0500
TZOFFSETTO:-0400
TZNAME:EDT
DTSTART:20240310T070000
END:DAYLIGHT
BEGIN:STANDARD
TZOFFSETFROM:-0400
TZOFFSETTO:-0500
TZNAME:EST
DTSTART:20241103T060000
END:STANDARD
BEGIN:DAYLIGHT
TZOFFSETFROM:-0500
TZOFFSETTO:-0400
TZNAME:EDT
DTSTART:20250309T070000
END:DAYLIGHT
BEGIN:STANDARD
TZOFFSETFROM:-0400
TZOFFSETTO:-0500
TZNAME:EST
DTSTART:20251102T060000
END:STANDARD
END:VTIMEZONE
BEGIN:VEVENT
DTSTART;TZID=America/New_York:20240709T090000
DTEND;TZID=America/New_York:20240709T100000
DTSTAMP:20260422T042332
CREATED:20240213T164750Z
LAST-MODIFIED:20240416T174733Z
UID:10013387-1720515600-1720519200@commonstreet.org
SUMMARY:Tuesday morning devotions
DESCRIPTION:Join us on ZOOM with your prayers\, writings\, songs\, inspiration from any and all religious traditions\, sacred scriptures\, humor\, and love. We “go around the circle” for those who wish to share\, or just come along to enjoy the inspiration \nJoin Zoom Meeting\nhttps://us02web.zoom.us/j/89987098568?pwd=OUVXL29RR2JKNzBLRUtxR25tMjZEdz09\n\nMeeting ID: 899 8709 8568\nPasscode: 881654
URL:https://commonstreet.org/event/tuesday-morning-devotions/2024-07-09/
CATEGORIES:Spiritual
ORGANIZER;CN="Frances Pollitt":MAILTO:francespollitt@gmail.com
END:VEVENT
BEGIN:VEVENT
DTSTART;TZID=America/New_York:20240709T190000
DTEND;TZID=America/New_York:20240709T200000
DTSTAMP:20260422T042332
CREATED:20240409T173335Z
LAST-MODIFIED:20240409T173335Z
UID:10013842-1720551600-1720555200@commonstreet.org
SUMMARY:Declutter the mind through breathwork
DESCRIPTION:In this series we dive into the nature of the mind\, and the power of the breath to transform. You will gain several practical techniques centered on breathwork tools to help manage the mind as well as emotions. \nAll are welcome\, whether you are looking to combat day-to-day stress or you’d like to uncover subtle layers of yourself by diving deep! No prior experience is necessary. \nAbout Lipi: \nLipi works as a scientific software engineer with the MathWorks. While pursuing her professional education in grad school\, she came across and was deeply impacted by the techniques of the Art of Living foundation. She discovered that her own breath held the power to heal and transform emotions and impressions stored over the years. She later went on to train as a 1000+ hour certified breathwork and meditation faculty with the Art of Living. Over the last six years\, she has worked as a volunteer faculty with several student and adult groups to bring a lasting impact to their lives. \nAbout the Art of Living foundation – \nThe Art of Living is one of the largest educational\, non-profit organizations in the world\, founded in 1981 by renowned spiritual teacher and humanitarian Gurudev Sri Sri Ravi Shankar \nIt is committed to uplifting and empowering individuals and communities through a blend of ancient wisdom and modern science\, with a particular focus on stress reduction and mental well-being.
URL:https://commonstreet.org/event/declutter-the-mind-through-breathwork-2/2024-07-09/
LOCATION:Moon Room @ Common Street Spiritual Center\, 13 Common Street\, Natick\, 01760\, United States
ATTACH;FMTTYPE=image/png:https://commonstreet.org/wp-content/uploads/2024/04/Declutter-The-Mind-Through-BreathworK-2.png
ORGANIZER;CN="Lipi Vora":MAILTO:lipi.vora@artofliving.org
END:VEVENT
BEGIN:VEVENT
DTSTART;TZID=America/New_York:20240709T190000
DTEND;TZID=America/New_York:20240709T203000
DTSTAMP:20260422T042332
CREATED:20240409T211214Z
LAST-MODIFIED:20240409T211218Z
UID:10013918-1720551600-1720557000@commonstreet.org
SUMMARY:Council Meeting
DESCRIPTION:The Common Street Council meets on the 2nd Tuesday of the month at 7pm\, and often one other time a month as needed. \nIf you have questions\, or would like to discuss something with the council\, please email us at council@commonstreet.org \nhttps://commonstreet.zoom.us/j/95054008753?pwd=Q3BGa2EybVU5bG5IbnVDQy8rVXhhZz09
URL:https://commonstreet.org/event/council-meeting-2-2-2-2/2024-07-09/
ORGANIZER;CN="Ian Mevorach":MAILTO:ian@commonstreet.org
END:VEVENT
END:VCALENDAR